BEGIN:VCALENDAR
METHOD:PUBLISH
PRODID:-//webcollect/hollowellsc//NONSGML v1.0//EN
BEGIN:VTIMEZONE
TZID:Europe/London
BEGIN:DAYLIGHT
TZOFFSETFROM:+0000
RRULE:FREQ=YEARLY;BYMONTH=3;BYDAY=-1SU
DTSTART:19810329T010000
TZNAME:BST
TZOFFSETTO:+0100
END:DAYLIGHT
BEGIN:STANDARD
TZOFFSETFROM:+0100
RRULE:FREQ=YEARLY;BYMONTH=10;BYDAY=-1SU
DTSTART:19961027T020000
TZNAME:GMT
TZOFFSETTO:+0000
END:STANDARD
END:VTIMEZONE
BEGIN:VEVENT
UID:event_product_440834@webcollect.org.uk
DTSTAMP:20260422T181748Z
ORGANIZER;CN=Carol Halliday:MAILTO:dandchalliday@gmail.com
DTSTART;VALUE=DATE:20260611
DESCRIPTION:The Safety Boat course is a hands on course improving your skills to to operate as a safetyboat\, coach boat\, and assisting in race management. It includes rescue techniques (getting people out of the water\, righting and towing boats\, lee shore rescues and much more) and elements of race management and mark laying. This is a 2 day course and we use Jeanneaus and RIBS.MUST HAVE POWERBOAT LEVEL 2...
SUMMARY:Safety Boat Safety Boat Courses 2026(5 places avail) - Hollowell Sailing Club
LOCATION:Hollowell Sailing Club
END:VEVENT
BEGIN:VEVENT
UID:event_product_440835@webcollect.org.uk
DTSTAMP:20260422T181748Z
ORGANIZER;CN=Carol Halliday:MAILTO:dandchalliday@gmail.com
DTSTART;VALUE=DATE:20261010
DESCRIPTION:The Safety Boat course is a hands on course improving your skills to to operate as a safetyboat\, coach boat\, and assisting in race management. It includes rescue techniques (getting people out of the water\, righting and towing boats\, lee shore rescues and much more) and elements of race management and mark laying. This is a 2 day course and we use Jeanneaus and RIBS.MUST HAVE POWERBOAT LEVEL 2...
SUMMARY:Safety Boat Safety Boat Courses 2026(6 places avail) - Hollowell Sailing Club
LOCATION:Hollowell Sailing Club
END:VEVENT
BEGIN:VEVENT
UID:event_product_440836@webcollect.org.uk
DTSTAMP:20260422T181748Z
ORGANIZER;CN=Carol Halliday:MAILTO:dandchalliday@gmail.com
DTSTART;VALUE=DATE:20261031
DESCRIPTION:The Safety Boat course is a hands on course improving your skills to to operate as a safetyboat\, coach boat\, and assisting in race management. It includes rescue techniques (getting people out of the water\, righting and towing boats\, lee shore rescues and much more) and elements of race management and mark laying. This is a 2 day course and we use Jeanneaus and RIBS.MUST HAVE POWERBOAT LEVEL 2...
SUMMARY:Safety Boat Safety Boat Courses 2026(6 places avail) - Hollowell Sailing Club
LOCATION:Hollowell Sailing Club
END:VEVENT
BEGIN:VEVENT
UID:event_product_440837@webcollect.org.uk
DTSTAMP:20260422T181748Z
ORGANIZER;CN=Carol Halliday:MAILTO:dandchalliday@gmail.com
DTSTART;VALUE=DATE:20261107
DESCRIPTION:The Safety Boat course is a hands on course improving your skills to to operate as a safetyboat\, coach boat\, and assisting in race management. It includes rescue techniques (getting people out of the water\, righting and towing boats\, lee shore rescues and much more) and elements of race management and mark laying. This is a 2 day course and we use Jeanneaus and RIBS.MUST HAVE POWERBOAT LEVEL 2...
SUMMARY:Safety Boat Safety Boat Courses 2026(6 places avail) - Hollowell Sailing Club
LOCATION:Hollowell Sailing Club
END:VEVENT
END:VCALENDAR
