BEGIN:VCALENDAR
METHOD:PUBLISH
PRODID:-//webcollect/hollowellsc//NONSGML v1.0//EN
BEGIN:VTIMEZONE
TZID:Europe/London
BEGIN:DAYLIGHT
TZOFFSETFROM:+0000
RRULE:FREQ=YEARLY;BYMONTH=3;BYDAY=-1SU
DTSTART:19810329T010000
TZNAME:BST
TZOFFSETTO:+0100
END:DAYLIGHT
BEGIN:STANDARD
TZOFFSETFROM:+0100
RRULE:FREQ=YEARLY;BYMONTH=10;BYDAY=-1SU
DTSTART:19961027T020000
TZNAME:GMT
TZOFFSETTO:+0000
END:STANDARD
END:VTIMEZONE
BEGIN:VEVENT
UID:event_product_440851@webcollect.org.uk
DTSTAMP:20260422T184154Z
ORGANIZER;CN=HSC ADMIN Youth Training (Jenny Sturt):MAILTO:youth-train@hollowellsc.org.uk
DTSTART;VALUE=DATE:20260720
DESCRIPTION:Summer fun on our 3 Day Dinghy sailing course\, 2 Day Learn/ Improve to Windsurf course\, or why not make a full week of it? Camping available (for members) in the summer sun!Dinghy Sailing (RYA Accredited) 20 July - 22 July (Mon-Wed) Excellent fun summer three day course for those wishing to learn to sail or those that wish to progress. We will often run RYA Stages 1-4 as well as Start Racing....
SUMMARY:Youth Sailing Week - Dinghies Youth Week 20 July - 24 July 2026 ( Windsurfing and/or Dinghy)(27 places avail) - Hollowell Sailing Club
LOCATION:Hollowell Sailing Club
END:VEVENT
BEGIN:VEVENT
UID:event_product_440850@webcollect.org.uk
DTSTAMP:20260422T184154Z
ORGANIZER;CN=HSC ADMIN Youth Training (Jenny Sturt):MAILTO:youth-train@hollowellsc.org.uk
DTSTART;VALUE=DATE:20260720
DESCRIPTION:Summer fun on our 3 Day Dinghy sailing course\, 2 Day Learn/ Improve to Windsurf course\, or why not make a full week of it? Camping available (for members) in the summer sun!Dinghy Sailing (RYA Accredited) 20 July - 22 July (Mon-Wed) Excellent fun summer three day course for those wishing to learn to sail or those that wish to progress. We will often run RYA Stages 1-4 as well as Start Racing....
SUMMARY:Youth Sailing Week - Windsurfing and Dinghies Youth Week 20 July - 24 July 2026 ( Windsurfing and/or Dinghy)(10 places avail) - Hollowell Sailing Club
LOCATION:Hollowell Sailing Club
END:VEVENT
BEGIN:VEVENT
UID:event_product_440852@webcollect.org.uk
DTSTAMP:20260422T184154Z
ORGANIZER;CN=HSC ADMIN Youth Training (Jenny Sturt):MAILTO:youth-train@hollowellsc.org.uk
DTSTART;VALUE=DATE:20260723
DESCRIPTION:Summer fun on our 3 Day Dinghy sailing course\, 2 Day Learn/ Improve to Windsurf course\, or why not make a full week of it? Camping available (for members) in the summer sun!Dinghy Sailing (RYA Accredited) 20 July - 22 July (Mon-Wed) Excellent fun summer three day course for those wishing to learn to sail or those that wish to progress. We will often run RYA Stages 1-4 as well as Start Racing....
SUMMARY:Youth Sailing Week - Windsurfing only Youth Week 20 July - 24 July 2026 ( Windsurfing and/or Dinghy)(6 places avail) - Hollowell Sailing Club
LOCATION:Hollowell Sailing Club
END:VEVENT
END:VCALENDAR
