BEGIN:VCALENDAR
METHOD:PUBLISH
PRODID:-//webcollect/hollowellsc//NONSGML v1.0//EN
BEGIN:VTIMEZONE
TZID:Europe/London
BEGIN:DAYLIGHT
TZOFFSETFROM:+0000
RRULE:FREQ=YEARLY;BYMONTH=3;BYDAY=-1SU
DTSTART:19810329T010000
TZNAME:BST
TZOFFSETTO:+0100
END:DAYLIGHT
BEGIN:STANDARD
TZOFFSETFROM:+0100
RRULE:FREQ=YEARLY;BYMONTH=10;BYDAY=-1SU
DTSTART:19961027T020000
TZNAME:GMT
TZOFFSETTO:+0000
END:STANDARD
END:VTIMEZONE
BEGIN:VEVENT
UID:event_product_463011@webcollect.org.uk
DTSTAMP:20260422T150619Z
ORGANIZER;CN=Greg Croxton:MAILTO:greg@croxtonmedia.co.uk
DTSTART;VALUE=DATE:20260523
DESCRIPTION:A warm welcome to join the 3rd leg of the Northamptonshire Youth Series 2026 at Hollowell Sailing Club sponsored by FM Sailing. This event is also a qualifier for the RYA Junior Club Championships 2026.Fun and friendly junior and youth coaching and race seriesWe take biosecurity seriously at Hollowell and make every effort to prevent the spread of invasive species. Our policy for members and...
SUMMARY:Book Places Northamptonshire Youth Series - Hollowell Leg (39 places avail) - Hollowell Sailing Club
LOCATION:Hollowell Sailing Club
END:VEVENT
END:VCALENDAR
