BEGIN:VCALENDAR
METHOD:PUBLISH
PRODID:-//webcollect/hollowellsc//NONSGML v1.0//EN
BEGIN:VTIMEZONE
TZID:Europe/London
BEGIN:DAYLIGHT
TZOFFSETFROM:+0000
RRULE:FREQ=YEARLY;BYMONTH=3;BYDAY=-1SU
DTSTART:19810329T010000
TZNAME:BST
TZOFFSETTO:+0100
END:DAYLIGHT
BEGIN:STANDARD
TZOFFSETFROM:+0100
RRULE:FREQ=YEARLY;BYMONTH=10;BYDAY=-1SU
DTSTART:19961027T020000
TZNAME:GMT
TZOFFSETTO:+0000
END:STANDARD
END:VTIMEZONE
BEGIN:VEVENT
UID:event_product_456991@webcollect.org.uk
DTSTAMP:20260422T170342Z
ORGANIZER;CN=Andrew Wood:MAILTO:androowwood@gmail.com
DTSTART;VALUE=DATE:20260519
DESCRIPTION:At HSC we offer Try Sailing Sessions for families or individuals on Tuesday evenings in May\, June and July.These sessions are designed to give you a taster of what sailing is about. You will learn to rig the boats\, go for a sail with an instructor on board\, have a go at helming yourself\, then return to the shore to de-rig.The session starts at 1830 and finishes just around 2000.Fee is £10 per...
SUMMARY:Scout Taster Try Sailing Sessions - Tuesday Evenings(15 places avail) - Hollowell Sailing Club
LOCATION:Hollowell Sailing Club
END:VEVENT
BEGIN:VEVENT
UID:event_product_440857@webcollect.org.uk
DTSTAMP:20260422T170342Z
ORGANIZER;CN=Andrew Wood:MAILTO:androowwood@gmail.com
DTSTART;TZID=Europe/London:20260526T183000
DTEND;TZID=Europe/London:20260526T200000
DESCRIPTION:At HSC we offer Try Sailing Sessions for families or individuals on Tuesday evenings in May\, June and July.These sessions are designed to give you a taster of what sailing is about. You will learn to rig the boats\, go for a sail with an instructor on board\, have a go at helming yourself\, then return to the shore to de-rig.The session starts at 1830 and finishes just around 2000.Fee is £10 per...
SUMMARY:Try Sailing Try Sailing Sessions - Tuesday Evenings(15 places avail) - Hollowell Sailing Club
LOCATION:Hollowell Sailing Club
END:VEVENT
BEGIN:VEVENT
UID:event_product_440858@webcollect.org.uk
DTSTAMP:20260422T170342Z
ORGANIZER;CN=Andrew Wood:MAILTO:androowwood@gmail.com
DTSTART;TZID=Europe/London:20260602T183000
DTEND;TZID=Europe/London:20260602T200000
DESCRIPTION:At HSC we offer Try Sailing Sessions for families or individuals on Tuesday evenings in May\, June and July.These sessions are designed to give you a taster of what sailing is about. You will learn to rig the boats\, go for a sail with an instructor on board\, have a go at helming yourself\, then return to the shore to de-rig.The session starts at 1830 and finishes just around 2000.Fee is £10 per...
SUMMARY:Try Sailing Try Sailing Sessions - Tuesday Evenings(15 places avail) - Hollowell Sailing Club
LOCATION:Hollowell Sailing Club
END:VEVENT
BEGIN:VEVENT
UID:event_product_440859@webcollect.org.uk
DTSTAMP:20260422T170342Z
ORGANIZER;CN=Andrew Wood:MAILTO:androowwood@gmail.com
DTSTART;TZID=Europe/London:20260609T183000
DTEND;TZID=Europe/London:20260609T200000
DESCRIPTION:At HSC we offer Try Sailing Sessions for families or individuals on Tuesday evenings in May\, June and July.These sessions are designed to give you a taster of what sailing is about. You will learn to rig the boats\, go for a sail with an instructor on board\, have a go at helming yourself\, then return to the shore to de-rig.The session starts at 1830 and finishes just around 2000.Fee is £10 per...
SUMMARY:Try Sailing Try Sailing Sessions - Tuesday Evenings(15 places avail) - Hollowell Sailing Club
LOCATION:Hollowell Sailing Club
END:VEVENT
BEGIN:VEVENT
UID:event_product_440860@webcollect.org.uk
DTSTAMP:20260422T170342Z
ORGANIZER;CN=Andrew Wood:MAILTO:androowwood@gmail.com
DTSTART;TZID=Europe/London:20260616T183000
DTEND;TZID=Europe/London:20260616T200000
DESCRIPTION:At HSC we offer Try Sailing Sessions for families or individuals on Tuesday evenings in May\, June and July.These sessions are designed to give you a taster of what sailing is about. You will learn to rig the boats\, go for a sail with an instructor on board\, have a go at helming yourself\, then return to the shore to de-rig.The session starts at 1830 and finishes just around 2000.Fee is £10 per...
SUMMARY:Try Sailing Try Sailing Sessions - Tuesday Evenings(15 places avail) - Hollowell Sailing Club
LOCATION:Hollowell Sailing Club
END:VEVENT
BEGIN:VEVENT
UID:event_product_440861@webcollect.org.uk
DTSTAMP:20260422T170342Z
ORGANIZER;CN=Andrew Wood:MAILTO:androowwood@gmail.com
DTSTART;TZID=Europe/London:20260623T183000
DTEND;TZID=Europe/London:20260623T200000
DESCRIPTION:At HSC we offer Try Sailing Sessions for families or individuals on Tuesday evenings in May\, June and July.These sessions are designed to give you a taster of what sailing is about. You will learn to rig the boats\, go for a sail with an instructor on board\, have a go at helming yourself\, then return to the shore to de-rig.The session starts at 1830 and finishes just around 2000.Fee is £10 per...
SUMMARY:Try Sailing Try Sailing Sessions - Tuesday Evenings(15 places avail) - Hollowell Sailing Club
LOCATION:Hollowell Sailing Club
END:VEVENT
BEGIN:VEVENT
UID:event_product_440862@webcollect.org.uk
DTSTAMP:20260422T170342Z
ORGANIZER;CN=Andrew Wood:MAILTO:androowwood@gmail.com
DTSTART;TZID=Europe/London:20260630T183000
DTEND;TZID=Europe/London:20260630T200000
DESCRIPTION:At HSC we offer Try Sailing Sessions for families or individuals on Tuesday evenings in May\, June and July.These sessions are designed to give you a taster of what sailing is about. You will learn to rig the boats\, go for a sail with an instructor on board\, have a go at helming yourself\, then return to the shore to de-rig.The session starts at 1830 and finishes just around 2000.Fee is £10 per...
SUMMARY:Try Sailing Try Sailing Sessions - Tuesday Evenings(15 places avail) - Hollowell Sailing Club
LOCATION:Hollowell Sailing Club
END:VEVENT
BEGIN:VEVENT
UID:event_product_440863@webcollect.org.uk
DTSTAMP:20260422T170342Z
ORGANIZER;CN=Andrew Wood:MAILTO:androowwood@gmail.com
DTSTART;TZID=Europe/London:20260707T183000
DTEND;TZID=Europe/London:20260707T200000
DESCRIPTION:At HSC we offer Try Sailing Sessions for families or individuals on Tuesday evenings in May\, June and July.These sessions are designed to give you a taster of what sailing is about. You will learn to rig the boats\, go for a sail with an instructor on board\, have a go at helming yourself\, then return to the shore to de-rig.The session starts at 1830 and finishes just around 2000.Fee is £10 per...
SUMMARY:Try Sailing Try Sailing Sessions - Tuesday Evenings(full) - Hollowell Sailing Club
LOCATION:Hollowell Sailing Club
END:VEVENT
BEGIN:VEVENT
UID:event_product_440864@webcollect.org.uk
DTSTAMP:20260422T170342Z
ORGANIZER;CN=Andrew Wood:MAILTO:androowwood@gmail.com
DTSTART;TZID=Europe/London:20260714T183000
DTEND;TZID=Europe/London:20260714T200000
DESCRIPTION:At HSC we offer Try Sailing Sessions for families or individuals on Tuesday evenings in May\, June and July.These sessions are designed to give you a taster of what sailing is about. You will learn to rig the boats\, go for a sail with an instructor on board\, have a go at helming yourself\, then return to the shore to de-rig.The session starts at 1830 and finishes just around 2000.Fee is £10 per...
SUMMARY:Try Sailing Try Sailing Sessions - Tuesday Evenings(14 places avail) - Hollowell Sailing Club
LOCATION:Hollowell Sailing Club
END:VEVENT
BEGIN:VEVENT
UID:event_product_440865@webcollect.org.uk
DTSTAMP:20260422T170342Z
ORGANIZER;CN=Andrew Wood:MAILTO:androowwood@gmail.com
DTSTART;TZID=Europe/London:20260526T181500
DTEND;TZID=Europe/London:20260526T200000
DESCRIPTION:Tuesday evenings are quiet times at Hollowell\, with no racing. This makes it an ideal time to get some practice in and brush up on those sailing skills.There are a total of 8 Keep Sailing sessions\, and you can book on each session individually for just £10 a session. Use of the HSC hire fleet is FREE but if you know which boat you want to use please book it IN ADVANCE on WebCollect. Of course...
SUMMARY:Keep Sailing Keep Sailing Sessions 2026 - Tuesday Evenings(15 places avail) - Hollowell Sailing Club
LOCATION:Hollowell Sailing Club
END:VEVENT
BEGIN:VEVENT
UID:event_product_440866@webcollect.org.uk
DTSTAMP:20260422T170342Z
ORGANIZER;CN=Andrew Wood:MAILTO:androowwood@gmail.com
DTSTART;TZID=Europe/London:20260602T181500
DTEND;TZID=Europe/London:20260602T200000
DESCRIPTION:Tuesday evenings are quiet times at Hollowell\, with no racing. This makes it an ideal time to get some practice in and brush up on those sailing skills.There are a total of 8 Keep Sailing sessions\, and you can book on each session individually for just £10 a session. Use of the HSC hire fleet is FREE but if you know which boat you want to use please book it IN ADVANCE on WebCollect. Of course...
SUMMARY:Keep Sailing Keep Sailing Sessions 2026 - Tuesday Evenings(15 places avail) - Hollowell Sailing Club
LOCATION:Hollowell Sailing Club
END:VEVENT
BEGIN:VEVENT
UID:event_product_440867@webcollect.org.uk
DTSTAMP:20260422T170342Z
ORGANIZER;CN=Andrew Wood:MAILTO:androowwood@gmail.com
DTSTART;TZID=Europe/London:20260609T181500
DTEND;TZID=Europe/London:20260609T200000
DESCRIPTION:Tuesday evenings are quiet times at Hollowell\, with no racing. This makes it an ideal time to get some practice in and brush up on those sailing skills.There are a total of 8 Keep Sailing sessions\, and you can book on each session individually for just £10 a session. Use of the HSC hire fleet is FREE but if you know which boat you want to use please book it IN ADVANCE on WebCollect. Of course...
SUMMARY:Keep Sailing Keep Sailing Sessions 2026 - Tuesday Evenings(15 places avail) - Hollowell Sailing Club
LOCATION:Hollowell Sailing Club
END:VEVENT
BEGIN:VEVENT
UID:event_product_440868@webcollect.org.uk
DTSTAMP:20260422T170342Z
ORGANIZER;CN=Andrew Wood:MAILTO:androowwood@gmail.com
DTSTART;TZID=Europe/London:20260616T181500
DTEND;TZID=Europe/London:20260616T200000
DESCRIPTION:Tuesday evenings are quiet times at Hollowell\, with no racing. This makes it an ideal time to get some practice in and brush up on those sailing skills.There are a total of 8 Keep Sailing sessions\, and you can book on each session individually for just £10 a session. Use of the HSC hire fleet is FREE but if you know which boat you want to use please book it IN ADVANCE on WebCollect. Of course...
SUMMARY:Keep Sailing Keep Sailing Sessions 2026 - Tuesday Evenings(15 places avail) - Hollowell Sailing Club
LOCATION:Hollowell Sailing Club
END:VEVENT
BEGIN:VEVENT
UID:event_product_440869@webcollect.org.uk
DTSTAMP:20260422T170342Z
ORGANIZER;CN=Andrew Wood:MAILTO:androowwood@gmail.com
DTSTART;TZID=Europe/London:20260623T181500
DTEND;TZID=Europe/London:20260623T200000
DESCRIPTION:Tuesday evenings are quiet times at Hollowell\, with no racing. This makes it an ideal time to get some practice in and brush up on those sailing skills.There are a total of 8 Keep Sailing sessions\, and you can book on each session individually for just £10 a session. Use of the HSC hire fleet is FREE but if you know which boat you want to use please book it IN ADVANCE on WebCollect. Of course...
SUMMARY:Keep Sailing Keep Sailing Sessions 2026 - Tuesday Evenings(15 places avail) - Hollowell Sailing Club
LOCATION:Hollowell Sailing Club
END:VEVENT
BEGIN:VEVENT
UID:event_product_440870@webcollect.org.uk
DTSTAMP:20260422T170342Z
ORGANIZER;CN=Andrew Wood:MAILTO:androowwood@gmail.com
DTSTART;TZID=Europe/London:20260630T181500
DTEND;TZID=Europe/London:20260630T200000
DESCRIPTION:Tuesday evenings are quiet times at Hollowell\, with no racing. This makes it an ideal time to get some practice in and brush up on those sailing skills.There are a total of 8 Keep Sailing sessions\, and you can book on each session individually for just £10 a session. Use of the HSC hire fleet is FREE but if you know which boat you want to use please book it IN ADVANCE on WebCollect. Of course...
SUMMARY:Keep Sailing Keep Sailing Sessions 2026 - Tuesday Evenings(15 places avail) - Hollowell Sailing Club
LOCATION:Hollowell Sailing Club
END:VEVENT
BEGIN:VEVENT
UID:event_product_440871@webcollect.org.uk
DTSTAMP:20260422T170342Z
ORGANIZER;CN=Andrew Wood:MAILTO:androowwood@gmail.com
DTSTART;TZID=Europe/London:20260707T181500
DTEND;TZID=Europe/London:20260707T200000
DESCRIPTION:Tuesday evenings are quiet times at Hollowell\, with no racing. This makes it an ideal time to get some practice in and brush up on those sailing skills.There are a total of 8 Keep Sailing sessions\, and you can book on each session individually for just £10 a session. Use of the HSC hire fleet is FREE but if you know which boat you want to use please book it IN ADVANCE on WebCollect. Of course...
SUMMARY:Keep Sailing Keep Sailing Sessions 2026 - Tuesday Evenings(15 places avail) - Hollowell Sailing Club
LOCATION:Hollowell Sailing Club
END:VEVENT
BEGIN:VEVENT
UID:event_product_440872@webcollect.org.uk
DTSTAMP:20260422T170342Z
ORGANIZER;CN=Andrew Wood:MAILTO:androowwood@gmail.com
DTSTART;TZID=Europe/London:20260714T181500
DTEND;TZID=Europe/London:20260714T200000
DESCRIPTION:Tuesday evenings are quiet times at Hollowell\, with no racing. This makes it an ideal time to get some practice in and brush up on those sailing skills.There are a total of 8 Keep Sailing sessions\, and you can book on each session individually for just £10 a session. Use of the HSC hire fleet is FREE but if you know which boat you want to use please book it IN ADVANCE on WebCollect. Of course...
SUMMARY:Keep Sailing Keep Sailing Sessions 2026 - Tuesday Evenings(15 places avail) - Hollowell Sailing Club
LOCATION:Hollowell Sailing Club
END:VEVENT
END:VCALENDAR
