BEGIN:VCALENDAR
METHOD:PUBLISH
PRODID:-//webcollect/hollowellsc//NONSGML v1.0//EN
BEGIN:VTIMEZONE
TZID:Europe/London
BEGIN:DAYLIGHT
TZOFFSETFROM:+0000
RRULE:FREQ=YEARLY;BYMONTH=3;BYDAY=-1SU
DTSTART:19810329T010000
TZNAME:BST
TZOFFSETTO:+0100
END:DAYLIGHT
BEGIN:STANDARD
TZOFFSETFROM:+0100
RRULE:FREQ=YEARLY;BYMONTH=10;BYDAY=-1SU
DTSTART:19961027T020000
TZNAME:GMT
TZOFFSETTO:+0000
END:STANDARD
END:VTIMEZONE
BEGIN:VEVENT
UID:event_product_440756@webcollect.org.uk
DTSTAMP:20260422T165946Z
ORGANIZER;CN=Andrea King:MAILTO:andrea.r.king@gmail.com
DTSTART;VALUE=DATE:20260530
DESCRIPTION:Level 1: Start Sailing: This is the course you need if you have never been sailing.Run over two days our instructors will take you from the very basics up to being able to sail a single-handed or double-handed dinghy. For the double-handed course an instructor will be in the boat with you for the majority of the course. At the end of this course you should be able to sail a triangle ‘under...
SUMMARY:L1: 30 & 31 May Adult Dinghy Level 1 Start Sailing: two day course. For a complete list of dates 'Book Places' (8 places avail) - Hollowell Sailing Club
LOCATION:Hollowell Sailing Club
END:VEVENT
BEGIN:VEVENT
UID:event_product_440757@webcollect.org.uk
DTSTAMP:20260422T165946Z
ORGANIZER;CN=Andrea King:MAILTO:andrea.r.king@gmail.com
DTSTART;VALUE=DATE:20260627
DESCRIPTION:Level 1: Start Sailing: This is the course you need if you have never been sailing.Run over two days our instructors will take you from the very basics up to being able to sail a single-handed or double-handed dinghy. For the double-handed course an instructor will be in the boat with you for the majority of the course. At the end of this course you should be able to sail a triangle ‘under...
SUMMARY:L1:27 Jun & 4 Jul (two Sats) Adult Dinghy Level 1 Start Sailing: two day course. For a complete list of dates 'Book Places' (8 places avail) - Hollowell Sailing Club
LOCATION:Hollowell Sailing Club
END:VEVENT
BEGIN:VEVENT
UID:event_product_440758@webcollect.org.uk
DTSTAMP:20260422T165946Z
ORGANIZER;CN=Andrea King:MAILTO:andrea.r.king@gmail.com
DTSTART;VALUE=DATE:20260815
DESCRIPTION:Level 1: Start Sailing: This is the course you need if you have never been sailing.Run over two days our instructors will take you from the very basics up to being able to sail a single-handed or double-handed dinghy. For the double-handed course an instructor will be in the boat with you for the majority of the course. At the end of this course you should be able to sail a triangle ‘under...
SUMMARY:L1:15 & 16 Aug Adult Dinghy Level 1 Start Sailing: two day course. For a complete list of dates 'Book Places' (8 places avail) - Hollowell Sailing Club
LOCATION:Hollowell Sailing Club
END:VEVENT
BEGIN:VEVENT
UID:event_product_440759@webcollect.org.uk
DTSTAMP:20260422T165946Z
ORGANIZER;CN=Andrea King:MAILTO:andrea.r.king@gmail.com
DTSTART;VALUE=DATE:20260926
DESCRIPTION:Level 1: Start Sailing: This is the course you need if you have never been sailing.Run over two days our instructors will take you from the very basics up to being able to sail a single-handed or double-handed dinghy. For the double-handed course an instructor will be in the boat with you for the majority of the course. At the end of this course you should be able to sail a triangle ‘under...
SUMMARY:L1:26 & 27 Sep Adult Dinghy Level 1 Start Sailing: two day course. For a complete list of dates 'Book Places' (8 places avail) - Hollowell Sailing Club
LOCATION:Hollowell Sailing Club
END:VEVENT
BEGIN:VEVENT
UID:event_product_440762@webcollect.org.uk
DTSTAMP:20260422T165946Z
ORGANIZER;CN=Andrea King:MAILTO:andrea.r.king@gmail.com
DTSTART;VALUE=DATE:20260530
DESCRIPTION:Level 2: Basic Skills: The Level 2 course will give you the confidence to sail on your own and introduce some new skills like man over board practice\, coming alongside\, and leaving/returning to shore under different wind directions. At the end of the course you should be able to sail on your own in light-medium winds. Notes: All training courses can be booked up to eight days prior to the...
SUMMARY:L2: 30 & 31 May Adult Dinghy Level 2 Basic slills: two day course. For a complete list of dates 'Book Places' (7 places avail) - Hollowell Sailing Club
LOCATION:Hollowell Sailing Club
END:VEVENT
BEGIN:VEVENT
UID:event_product_440763@webcollect.org.uk
DTSTAMP:20260422T165946Z
ORGANIZER;CN=Andrea King:MAILTO:andrea.r.king@gmail.com
DTSTART;VALUE=DATE:20260627
DESCRIPTION:Level 2: Basic Skills: The Level 2 course will give you the confidence to sail on your own and introduce some new skills like man over board practice\, coming alongside\, and leaving/returning to shore under different wind directions. At the end of the course you should be able to sail on your own in light-medium winds. Notes: All training courses can be booked up to eight days prior to the...
SUMMARY:L2:27 Jun & 4 Jul (two Sats) Adult Dinghy Level 2 Basic slills: two day course. For a complete list of dates 'Book Places' (8 places avail) - Hollowell Sailing Club
LOCATION:Hollowell Sailing Club
END:VEVENT
BEGIN:VEVENT
UID:event_product_440764@webcollect.org.uk
DTSTAMP:20260422T165946Z
ORGANIZER;CN=Andrea King:MAILTO:andrea.r.king@gmail.com
DTSTART;VALUE=DATE:20260815
DESCRIPTION:Level 2: Basic Skills: The Level 2 course will give you the confidence to sail on your own and introduce some new skills like man over board practice\, coming alongside\, and leaving/returning to shore under different wind directions. At the end of the course you should be able to sail on your own in light-medium winds. Notes: All training courses can be booked up to eight days prior to the...
SUMMARY:L2:15 & 16 Aug Adult Dinghy Level 2 Basic slills: two day course. For a complete list of dates 'Book Places' (8 places avail) - Hollowell Sailing Club
LOCATION:Hollowell Sailing Club
END:VEVENT
BEGIN:VEVENT
UID:event_product_440765@webcollect.org.uk
DTSTAMP:20260422T165946Z
ORGANIZER;CN=Andrea King:MAILTO:andrea.r.king@gmail.com
DTSTART;VALUE=DATE:20260926
DESCRIPTION:Level 2: Basic Skills: The Level 2 course will give you the confidence to sail on your own and introduce some new skills like man over board practice\, coming alongside\, and leaving/returning to shore under different wind directions. At the end of the course you should be able to sail on your own in light-medium winds. Notes: All training courses can be booked up to eight days prior to the...
SUMMARY:L2:26 & 27 Sep Adult Dinghy Level 2 Basic slills: two day course. For a complete list of dates 'Book Places' (8 places avail) - Hollowell Sailing Club
LOCATION:Hollowell Sailing Club
END:VEVENT
BEGIN:VEVENT
UID:event_product_440767@webcollect.org.uk
DTSTAMP:20260422T165946Z
ORGANIZER;CN=Andrea King:MAILTO:andrea.r.king@gmail.com
DTSTART;VALUE=DATE:20260530
DESCRIPTION:During the process you will be asked to book onto the L3 course or any one of the advanced modules Level 3: Better Sailing course. Further coaching to consolidate Level 1 and 2 skills and taster sessions from some of the advanced modules. Advanced modules: Start Racing Sailing with Spinnakers Seamanship SkillsPlease indicate which course you want to attend below\, along with the required price....
SUMMARY:L3: 30 & 31 May Adult Dinghy Level 3 Advanced modules: two day course. For a complete list of dates 'Book Places' (8 places avail) - Hollowell Sailing Club
LOCATION:Hollowell Sailing Club
END:VEVENT
BEGIN:VEVENT
UID:event_product_440768@webcollect.org.uk
DTSTAMP:20260422T165946Z
ORGANIZER;CN=Andrea King:MAILTO:andrea.r.king@gmail.com
DTSTART;VALUE=DATE:20260627
DESCRIPTION:During the process you will be asked to book onto the L3 course or any one of the advanced modules Level 3: Better Sailing course. Further coaching to consolidate Level 1 and 2 skills and taster sessions from some of the advanced modules. Advanced modules: Start Racing Sailing with Spinnakers Seamanship SkillsPlease indicate which course you want to attend below\, along with the required price....
SUMMARY:L3:27 Jun & 4 Jul (two Sats) Adult Dinghy Level 3 Advanced modules: two day course. For a complete list of dates 'Book Places' (8 places avail) - Hollowell Sailing Club
LOCATION:Hollowell Sailing Club
END:VEVENT
BEGIN:VEVENT
UID:event_product_440769@webcollect.org.uk
DTSTAMP:20260422T165946Z
ORGANIZER;CN=Andrea King:MAILTO:andrea.r.king@gmail.com
DTSTART;VALUE=DATE:20260815
DESCRIPTION:During the process you will be asked to book onto the L3 course or any one of the advanced modules Level 3: Better Sailing course. Further coaching to consolidate Level 1 and 2 skills and taster sessions from some of the advanced modules. Advanced modules: Start Racing Sailing with Spinnakers Seamanship SkillsPlease indicate which course you want to attend below\, along with the required price....
SUMMARY:L3:15 & 16 Aug Adult Dinghy Level 3 Advanced modules: two day course. For a complete list of dates 'Book Places' (8 places avail) - Hollowell Sailing Club
LOCATION:Hollowell Sailing Club
END:VEVENT
BEGIN:VEVENT
UID:event_product_440770@webcollect.org.uk
DTSTAMP:20260422T165946Z
ORGANIZER;CN=Andrea King:MAILTO:andrea.r.king@gmail.com
DTSTART;VALUE=DATE:20260926
DESCRIPTION:During the process you will be asked to book onto the L3 course or any one of the advanced modules Level 3: Better Sailing course. Further coaching to consolidate Level 1 and 2 skills and taster sessions from some of the advanced modules. Advanced modules: Start Racing Sailing with Spinnakers Seamanship SkillsPlease indicate which course you want to attend below\, along with the required price....
SUMMARY:L3:26 & 27 Sep Adult Dinghy Level 3 Advanced modules: two day course. For a complete list of dates 'Book Places' (8 places avail) - Hollowell Sailing Club
LOCATION:Hollowell Sailing Club
END:VEVENT
END:VCALENDAR
