BEGIN:VCALENDAR
METHOD:PUBLISH
PRODID:-//webcollect/hollowellsc//NONSGML v1.0//EN
BEGIN:VTIMEZONE
TZID:Europe/London
BEGIN:DAYLIGHT
TZOFFSETFROM:+0000
RRULE:FREQ=YEARLY;BYMONTH=3;BYDAY=-1SU
DTSTART:19810329T010000
TZNAME:BST
TZOFFSETTO:+0100
END:DAYLIGHT
BEGIN:STANDARD
TZOFFSETFROM:+0100
RRULE:FREQ=YEARLY;BYMONTH=10;BYDAY=-1SU
DTSTART:19961027T020000
TZNAME:GMT
TZOFFSETTO:+0000
END:STANDARD
END:VTIMEZONE
BEGIN:VEVENT
UID:event_product_440842@webcollect.org.uk
DTSTAMP:20260422T170327Z
ORGANIZER;CN=Carol Halliday:MAILTO:dandchalliday@gmail.com
DTSTART;TZID=Europe/London:20260528T174500
DTEND;TZID=Europe/London:20260528T193000
DESCRIPTION:Feeling a little rusty in your powerboat and safetyboat skills\, then why not come along to one of our refresher sessions. It will give you an opportunity to get some practise in before your Boat Officer or Assistant Boat Officer duties. An informal course lasting a few hours with our instructors on hand to give you some help and advice. Please pre-book so we can allocate the right number of...
SUMMARY:PB refresher Powerboat and SafetyBoat refresher 2026 - Hollowell Sailing Club
LOCATION:Hollowell Sailing Club
END:VEVENT
BEGIN:VEVENT
UID:event_product_440824@webcollect.org.uk
DTSTAMP:20260422T170327Z
ORGANIZER;CN=Carol Halliday:MAILTO:dandchalliday@gmail.com
DTSTART;VALUE=DATE:20260611
DESCRIPTION:The PB2 course provides the skills and background knowledge needed to drive a powerboat and is the basis of the International Certificate of Competence. This is a 2 day course. For PB2 certificates please supply a passport size photo with your name and date of birth on the back. Your contact details will be registered with the RYA. Minimum age 14 years old. Course Dates1) Sat 7 Mar\, Sat 14 Mar...
SUMMARY:PB2 Powerboat Courses 2026(5 places avail) - Hollowell Sailing Club
LOCATION:Hollowell Sailing Club
END:VEVENT
BEGIN:VEVENT
UID:event_product_440825@webcollect.org.uk
DTSTAMP:20260422T170327Z
ORGANIZER;CN=Carol Halliday:MAILTO:dandchalliday@gmail.com
DTSTART;VALUE=DATE:20261010
DESCRIPTION:The PB2 course provides the skills and background knowledge needed to drive a powerboat and is the basis of the International Certificate of Competence. This is a 2 day course. For PB2 certificates please supply a passport size photo with your name and date of birth on the back. Your contact details will be registered with the RYA. Minimum age 14 years old. Course Dates1) Sat 7 Mar\, Sat 14 Mar...
SUMMARY:PB2 Powerboat Courses 2026(6 places avail) - Hollowell Sailing Club
LOCATION:Hollowell Sailing Club
END:VEVENT
BEGIN:VEVENT
UID:event_product_440826@webcollect.org.uk
DTSTAMP:20260422T170327Z
ORGANIZER;CN=Carol Halliday:MAILTO:dandchalliday@gmail.com
DTSTART;VALUE=DATE:20261031
DESCRIPTION:The PB2 course provides the skills and background knowledge needed to drive a powerboat and is the basis of the International Certificate of Competence. This is a 2 day course. For PB2 certificates please supply a passport size photo with your name and date of birth on the back. Your contact details will be registered with the RYA. Minimum age 14 years old. Course Dates1) Sat 7 Mar\, Sat 14 Mar...
SUMMARY:PB2 Powerboat Courses 2026(6 places avail) - Hollowell Sailing Club
LOCATION:Hollowell Sailing Club
END:VEVENT
BEGIN:VEVENT
UID:event_product_440827@webcollect.org.uk
DTSTAMP:20260422T170327Z
ORGANIZER;CN=Carol Halliday:MAILTO:dandchalliday@gmail.com
DTSTART;VALUE=DATE:20261107
DESCRIPTION:The PB2 course provides the skills and background knowledge needed to drive a powerboat and is the basis of the International Certificate of Competence. This is a 2 day course. For PB2 certificates please supply a passport size photo with your name and date of birth on the back. Your contact details will be registered with the RYA. Minimum age 14 years old. Course Dates1) Sat 7 Mar\, Sat 14 Mar...
SUMMARY:PB2 Powerboat Courses 2026(6 places avail) - Hollowell Sailing Club
LOCATION:Hollowell Sailing Club
END:VEVENT
BEGIN:VEVENT
UID:event_product_440834@webcollect.org.uk
DTSTAMP:20260422T170327Z
ORGANIZER;CN=Carol Halliday:MAILTO:dandchalliday@gmail.com
DTSTART;VALUE=DATE:20260611
DESCRIPTION:The Safety Boat course is a hands on course improving your skills to to operate as a safetyboat\, coach boat\, and assisting in race management. It includes rescue techniques (getting people out of the water\, righting and towing boats\, lee shore rescues and much more) and elements of race management and mark laying. This is a 2 day course and we use Jeanneaus and RIBS.MUST HAVE POWERBOAT LEVEL 2...
SUMMARY:Safety Boat Safety Boat Courses 2026(5 places avail) - Hollowell Sailing Club
LOCATION:Hollowell Sailing Club
END:VEVENT
BEGIN:VEVENT
UID:event_product_440835@webcollect.org.uk
DTSTAMP:20260422T170327Z
ORGANIZER;CN=Carol Halliday:MAILTO:dandchalliday@gmail.com
DTSTART;VALUE=DATE:20261010
DESCRIPTION:The Safety Boat course is a hands on course improving your skills to to operate as a safetyboat\, coach boat\, and assisting in race management. It includes rescue techniques (getting people out of the water\, righting and towing boats\, lee shore rescues and much more) and elements of race management and mark laying. This is a 2 day course and we use Jeanneaus and RIBS.MUST HAVE POWERBOAT LEVEL 2...
SUMMARY:Safety Boat Safety Boat Courses 2026(6 places avail) - Hollowell Sailing Club
LOCATION:Hollowell Sailing Club
END:VEVENT
BEGIN:VEVENT
UID:event_product_440836@webcollect.org.uk
DTSTAMP:20260422T170327Z
ORGANIZER;CN=Carol Halliday:MAILTO:dandchalliday@gmail.com
DTSTART;VALUE=DATE:20261031
DESCRIPTION:The Safety Boat course is a hands on course improving your skills to to operate as a safetyboat\, coach boat\, and assisting in race management. It includes rescue techniques (getting people out of the water\, righting and towing boats\, lee shore rescues and much more) and elements of race management and mark laying. This is a 2 day course and we use Jeanneaus and RIBS.MUST HAVE POWERBOAT LEVEL 2...
SUMMARY:Safety Boat Safety Boat Courses 2026(6 places avail) - Hollowell Sailing Club
LOCATION:Hollowell Sailing Club
END:VEVENT
BEGIN:VEVENT
UID:event_product_440837@webcollect.org.uk
DTSTAMP:20260422T170327Z
ORGANIZER;CN=Carol Halliday:MAILTO:dandchalliday@gmail.com
DTSTART;VALUE=DATE:20261107
DESCRIPTION:The Safety Boat course is a hands on course improving your skills to to operate as a safetyboat\, coach boat\, and assisting in race management. It includes rescue techniques (getting people out of the water\, righting and towing boats\, lee shore rescues and much more) and elements of race management and mark laying. This is a 2 day course and we use Jeanneaus and RIBS.MUST HAVE POWERBOAT LEVEL 2...
SUMMARY:Safety Boat Safety Boat Courses 2026(6 places avail) - Hollowell Sailing Club
LOCATION:Hollowell Sailing Club
END:VEVENT
END:VCALENDAR
