BEGIN:VCALENDAR
METHOD:PUBLISH
PRODID:-//webcollect/iossc//NONSGML v1.0//EN
BEGIN:VTIMEZONE
TZID:Europe/London
BEGIN:DAYLIGHT
TZOFFSETFROM:+0000
RRULE:FREQ=YEARLY;BYMONTH=3;BYDAY=-1SU
DTSTART:19810329T010000
TZNAME:BST
TZOFFSETTO:+0100
END:DAYLIGHT
BEGIN:STANDARD
TZOFFSETFROM:+0100
RRULE:FREQ=YEARLY;BYMONTH=10;BYDAY=-1SU
DTSTART:19961027T020000
TZNAME:GMT
TZOFFSETTO:+0000
END:STANDARD
END:VTIMEZONE
BEGIN:VEVENT
UID:event_product_455285@webcollect.org.uk
DTSTAMP:20260420T152943Z
ORGANIZER;CN=IOS Sailing Club:MAILTO:iossccreator@outlook.com
DTSTART;VALUE=DATE:20260516
DESCRIPTION:The IOSSC Blaze Eastern Championships will take place over the 16/17 May 2026. Entry fee is £50. Late Entries (from 9th May onwards) will incur an additional £15 surcharge.Sailing instructions will be available no later than Thursday 14th May.The Regatta is open to all Blaze and Fire boats sailed by members of the Blaze Class Association.Note: Temporary membership to the class for the purpose...
SUMMARY:Early Entry Blaze Eastern Championships 2026 - IOS Sailing Club
LOCATION:Isle of Sheppey Sailing Club
END:VEVENT
BEGIN:VEVENT
UID:event_product_455292@webcollect.org.uk
DTSTAMP:20260420T152943Z
ORGANIZER;CN=IOS Sailing Club:MAILTO:iossccreator@outlook.com
DTSTART;VALUE=DATE:20260516
DESCRIPTION:The IOSSC Blaze Eastern Championships will take place over the 16/17 May 2026. Entry fee is £50. Late Entries (from 9th May onwards) will incur an additional £15 surcharge.Sailing instructions will be available no later than Thursday 14th May.The Regatta is open to all Blaze and Fire boats sailed by members of the Blaze Class Association.Note: Temporary membership to the class for the purpose...
SUMMARY:Late Entry Blaze Eastern Championships 2026 - IOS Sailing Club
LOCATION:Isle of Sheppey Sailing Club
END:VEVENT
END:VCALENDAR
