BEGIN:VCALENDAR
METHOD:PUBLISH
PRODID:-//webcollect/kssa//NONSGML v1.0//EN
BEGIN:VTIMEZONE
TZID:Europe/London
BEGIN:DAYLIGHT
TZOFFSETFROM:+0000
RRULE:FREQ=YEARLY;BYMONTH=3;BYDAY=-1SU
DTSTART:19810329T010000
TZNAME:BST
TZOFFSETTO:+0100
END:DAYLIGHT
BEGIN:STANDARD
TZOFFSETFROM:+0100
RRULE:FREQ=YEARLY;BYMONTH=10;BYDAY=-1SU
DTSTART:19961027T020000
TZNAME:GMT
TZOFFSETTO:+0000
END:STANDARD
END:VTIMEZONE
BEGIN:VEVENT
UID:event_product_446283@webcollect.org.uk
DTSTAMP:20260422T202645Z
ORGANIZER;CN=Membership Secretary:MAILTO:membership@kssa.co.uk
DTSTART;VALUE=DATE:20260627
DESCRIPTION:There are maximum 40 spaces available for the training on Saturday and 65 for the regatta on Sunday. This is to ensure that we can deliver effective training and maintain safety coverage at all times. When you select the entry options below\, make sure you pick the right options in both steps for the days you wish to attend. Book early to avoid disappointment. Entries will close at midnight on...
SUMMARY:Both days OR Saturday Only 2026 Summer Training and Regatta(40 places avail) - KSSA
LOCATION:Medway Yacht Club
END:VEVENT
BEGIN:VEVENT
UID:event_product_446284@webcollect.org.uk
DTSTAMP:20260422T202645Z
ORGANIZER;CN=Membership Secretary:MAILTO:membership@kssa.co.uk
DTSTART;VALUE=DATE:20260628
DESCRIPTION:There are maximum 40 spaces available for the training on Saturday and 65 for the regatta on Sunday. This is to ensure that we can deliver effective training and maintain safety coverage at all times. When you select the entry options below\, make sure you pick the right options in both steps for the days you wish to attend. Book early to avoid disappointment. Entries will close at midnight on...
SUMMARY:Sunday Regatta Only 2026 Summer Training and Regatta(25 places avail) - KSSA
LOCATION:Medway Yacht Club
END:VEVENT
END:VCALENDAR
