BEGIN:VCALENDAR
METHOD:PUBLISH
PRODID:-//webcollect/kssa//NONSGML v1.0//EN
BEGIN:VTIMEZONE
TZID:Europe/London
BEGIN:DAYLIGHT
TZOFFSETFROM:+0000
RRULE:FREQ=YEARLY;BYMONTH=3;BYDAY=-1SU
DTSTART:19810329T010000
TZNAME:BST
TZOFFSETTO:+0100
END:DAYLIGHT
BEGIN:STANDARD
TZOFFSETFROM:+0100
RRULE:FREQ=YEARLY;BYMONTH=10;BYDAY=-1SU
DTSTART:19961027T020000
TZNAME:GMT
TZOFFSETTO:+0000
END:STANDARD
END:VTIMEZONE
BEGIN:VEVENT
UID:event_product_446277@webcollect.org.uk
DTSTAMP:20260422T191050Z
ORGANIZER;CN=Membership Secretary:MAILTO:membership@kssa.co.uk
DTSTART;VALUE=DATE:20260425
DESCRIPTION:Entries will close at midnight on the Wednesday prior to the event\, or when full. If full a waiting list will be held. Please use the Contact link below if you would like to be added.
SUMMARY:2026 Opening Splash Regatta(11 places avail) - KSSA
LOCATION:Downs Sailing Club
END:VEVENT
BEGIN:VEVENT
UID:event_product_446278@webcollect.org.uk
DTSTAMP:20260422T191050Z
ORGANIZER;CN=Membership Secretary:MAILTO:membership@kssa.co.uk
DTSTART;VALUE=DATE:20260509
DESCRIPTION:Bring your own boat if you can or borrow one of ours (limited availability) - see next page. Please book early to avoid disappointment. Entries will close at midnight on the Wednesday prior to the event\, or when full. If full a waiting list will be held. Please use the Contact link below if you would like to be added.
SUMMARY:2026 New Racers(14 places avail) - KSSA
LOCATION:Cinque Ports Sailing Martello
END:VEVENT
BEGIN:VEVENT
UID:event_product_446279@webcollect.org.uk
DTSTAMP:20260422T191050Z
ORGANIZER;CN=Membership Secretary:MAILTO:membership@kssa.co.uk
DTSTART;VALUE=DATE:20260509
DESCRIPTION:Boats for New Racers EventPlease bring your own boat if you're able. Otherwise we have a selection available for use. First come first serve!Please select below then click Add to Basket. Repeat if you need more than one boat.
SUMMARY:Boat Hire - Optimist 2026 New Racers Boat Hire(5 places avail) - KSSA
LOCATION:Cinque Ports Sailing Martello
END:VEVENT
BEGIN:VEVENT
UID:event_product_462650@webcollect.org.uk
DTSTAMP:20260422T191050Z
ORGANIZER;CN=Membership Secretary:MAILTO:membership@kssa.co.uk
DTSTART;VALUE=DATE:20260509
DESCRIPTION:Boats for New Racers EventPlease bring your own boat if you're able. Otherwise we have a selection available for use. First come first serve!Please select below then click Add to Basket. Repeat if you need more than one boat.
SUMMARY:Boat Hire - Pico 2026 New Racers Boat Hire(3 places avail) - KSSA
LOCATION:Cinque Ports Sailing Martello
END:VEVENT
BEGIN:VEVENT
UID:event_product_446281@webcollect.org.uk
DTSTAMP:20260422T191050Z
ORGANIZER;CN=Membership Secretary:MAILTO:membership@kssa.co.uk
DTSTART;VALUE=DATE:20260509
DESCRIPTION:Boats for New Racers EventPlease bring your own boat if you're able. Otherwise we have a selection available for use. First come first serve!Please select below then click Add to Basket. Repeat if you need more than one boat.
SUMMARY:Boat Hire - Topper 2026 New Racers Boat Hire(6 places avail) - KSSA
LOCATION:Cinque Ports Sailing Martello
END:VEVENT
BEGIN:VEVENT
UID:event_product_462651@webcollect.org.uk
DTSTAMP:20260422T191050Z
ORGANIZER;CN=Membership Secretary:MAILTO:membership@kssa.co.uk
DTSTART;VALUE=DATE:20260509
DESCRIPTION:Boats for New Racers EventPlease bring your own boat if you're able. Otherwise we have a selection available for use. First come first serve!Please select below then click Add to Basket. Repeat if you need more than one boat.
SUMMARY:Own Boat 2026 New Racers Boat Hire - KSSA
LOCATION:Cinque Ports Sailing Martello
END:VEVENT
BEGIN:VEVENT
UID:event_product_446282@webcollect.org.uk
DTSTAMP:20260422T191050Z
ORGANIZER;CN=Membership Secretary:MAILTO:membership@kssa.co.uk
DTSTART;VALUE=DATE:20260613
DESCRIPTION:Book early to avoid disappointment. Entries will close at midnight on the Wednesday prior to the event\, or when full. If full a waiting list will be held. Please use the Contact link below if you would like to be added.
SUMMARY:2026 All Girls Coaching(25 places avail) - KSSA
LOCATION:Cinque Ports Sailing Dover
END:VEVENT
BEGIN:VEVENT
UID:event_product_446283@webcollect.org.uk
DTSTAMP:20260422T191050Z
ORGANIZER;CN=Membership Secretary:MAILTO:membership@kssa.co.uk
DTSTART;VALUE=DATE:20260627
DESCRIPTION:There are maximum 40 spaces available for the training on Saturday and 65 for the regatta on Sunday. This is to ensure that we can deliver effective training and maintain safety coverage at all times. When you select the entry options below\, make sure you pick the right options in both steps for the days you wish to attend. Book early to avoid disappointment. Entries will close at midnight on...
SUMMARY:Both days OR Saturday Only 2026 Summer Training and Regatta(40 places avail) - KSSA
LOCATION:Medway Yacht Club
END:VEVENT
BEGIN:VEVENT
UID:event_product_446284@webcollect.org.uk
DTSTAMP:20260422T191050Z
ORGANIZER;CN=Membership Secretary:MAILTO:membership@kssa.co.uk
DTSTART;VALUE=DATE:20260628
DESCRIPTION:There are maximum 40 spaces available for the training on Saturday and 65 for the regatta on Sunday. This is to ensure that we can deliver effective training and maintain safety coverage at all times. When you select the entry options below\, make sure you pick the right options in both steps for the days you wish to attend. Book early to avoid disappointment. Entries will close at midnight on...
SUMMARY:Sunday Regatta Only 2026 Summer Training and Regatta(25 places avail) - KSSA
LOCATION:Medway Yacht Club
END:VEVENT
BEGIN:VEVENT
UID:event_product_446286@webcollect.org.uk
DTSTAMP:20260422T191050Z
ORGANIZER;CN=Membership Secretary:MAILTO:membership@kssa.co.uk
DTSTART;VALUE=DATE:20260926
SUMMARY:2026 Annual Regatta(60 places avail) - KSSA
LOCATION:Wilsonian Sailing Club
END:VEVENT
BEGIN:VEVENT
UID:event_product_446287@webcollect.org.uk
DTSTAMP:20260422T191050Z
ORGANIZER;CN=Membership Secretary:MAILTO:membership@kssa.co.uk
DTSTART;VALUE=DATE:20261010
DESCRIPTION:Book early to avoid disappointment. Entries will close at midnight on the Wednesday prior to the event\, or when full. If full a waiting list will be held. Please use the Contact link below if you would like to be added.
SUMMARY:2026 Autumn Training 1(40 places avail) - KSSA
LOCATION:Whitstable Yacht Club
END:VEVENT
BEGIN:VEVENT
UID:event_product_446288@webcollect.org.uk
DTSTAMP:20260422T191050Z
ORGANIZER;CN=Membership Secretary:MAILTO:membership@kssa.co.uk
DTSTART;VALUE=DATE:20261031
DESCRIPTION:Book early to avoid disappointment. Entries will close at midnight on the Wednesday prior to the event\, or when full. If full a waiting list will be held. Please use the Contact link below if you would like to be added.
SUMMARY:2026 Autumn Training 2(40 places avail) - KSSA
LOCATION:Braodstairs Sailing Club
END:VEVENT
BEGIN:VEVENT
UID:event_product_446289@webcollect.org.uk
DTSTAMP:20260422T191050Z
ORGANIZER;CN=Membership Secretary:MAILTO:membership@kssa.co.uk
DTSTART;VALUE=DATE:20261128
DESCRIPTION:Book early to avoid disappointment. Entries will close at midnight on the Wednesday prior to the event\, or when full. If full a waiting list will be held. Please use the Contact link below if you would like to be added.
SUMMARY:2026 Autumn Training 3(40 places avail) - KSSA
LOCATION:Chipstead Sailing Club
END:VEVENT
END:VCALENDAR
