BEGIN:VCALENDAR
METHOD:PUBLISH
PRODID:-//webcollect/lbsc//NONSGML v1.0//EN
BEGIN:VTIMEZONE
TZID:Europe/London
BEGIN:DAYLIGHT
TZOFFSETFROM:+0000
RRULE:FREQ=YEARLY;BYMONTH=3;BYDAY=-1SU
DTSTART:19810329T010000
TZNAME:BST
TZOFFSETTO:+0100
END:DAYLIGHT
BEGIN:STANDARD
TZOFFSETFROM:+0100
RRULE:FREQ=YEARLY;BYMONTH=10;BYDAY=-1SU
DTSTART:19961027T020000
TZNAME:GMT
TZOFFSETTO:+0000
END:STANDARD
END:VTIMEZONE
BEGIN:VEVENT
UID:event_product_451806@webcollect.org.uk
DTSTAMP:20260423T084333Z
ORGANIZER;CN=Mark Watling:MAILTO:hapsome@yahoo.co.uk
DTSTART;VALUE=DATE:20260530
DESCRIPTION:Llyn Brenig Sailing Club (LBSC) is holding its Saturday Club on eight Saturdays during May - September 2026 to provide low-cost\, closely supervised training to youngsters (aged 7 - 17 years) who wish to start to learn to sail or to develop their skills as ‘newbie’ dinghy sailors.Sessions will be held on 30th May\, 13th June\, 11th July\, 18th July\, 1st August\, 8th August\, 29th August and 12th...
SUMMARY:Saturday Club - MORNING / BEGINNER'S session - 30 May 2026(6 places avail) - Clwb Hwylio Llyn Brenig Sailing Club
END:VEVENT
END:VCALENDAR
