BEGIN:VCALENDAR
METHOD:PUBLISH
PRODID:-//webcollect/lbsc//NONSGML v1.0//EN
BEGIN:VTIMEZONE
TZID:Europe/London
BEGIN:DAYLIGHT
TZOFFSETFROM:+0000
RRULE:FREQ=YEARLY;BYMONTH=3;BYDAY=-1SU
DTSTART:19810329T010000
TZNAME:BST
TZOFFSETTO:+0100
END:DAYLIGHT
BEGIN:STANDARD
TZOFFSETFROM:+0100
RRULE:FREQ=YEARLY;BYMONTH=10;BYDAY=-1SU
DTSTART:19961027T020000
TZNAME:GMT
TZOFFSETTO:+0000
END:STANDARD
END:VTIMEZONE
BEGIN:VEVENT
UID:event_product_451796@webcollect.org.uk
DTSTAMP:20260421T081447Z
ORGANIZER;CN=Mark Watling:MAILTO:hapsome@yahoo.co.uk
DTSTART;VALUE=DATE:20260425
DESCRIPTION:This Course will last 2 days (approx. 16 hours in total) and be taught by RYA-accredited Dinghy Instructors under the supervision of a Senior Instructor.Trainees will be taught in small\, flexible groups and be trained and assessed against the RYA Level 1 syllabus - with the aim of each qualifying for the RYA’s Level 1 Dinghy Sailing Certificate.Trainees whose aptitude and ability show...
SUMMARY:L1/L2 Dinghy Training Course - 25/26 April 2026(5 places avail) - Clwb Hwylio Llyn Brenig Sailing Club
END:VEVENT
BEGIN:VEVENT
UID:event_product_450154@webcollect.org.uk
DTSTAMP:20260421T081447Z
ORGANIZER;CN=Steve Kitchen:MAILTO:steve.kitchen1@ntlworld.com
DTSTART;VALUE=DATE:20260502
SUMMARY:3 Day Optimist Event IOCA Llyn Brenig Sailing Club Spring Open(57 places avail) - Clwb Hwylio Llyn Brenig Sailing Club
END:VEVENT
BEGIN:VEVENT
UID:event_product_451799@webcollect.org.uk
DTSTAMP:20260421T081447Z
ORGANIZER;CN=Mark Watling:MAILTO:hapsome@yahoo.co.uk
DTSTART;VALUE=DATE:20260509
DESCRIPTION:This Course will last 2 days (approx. 16 hours in total) and be taught by RYA-accredited Dinghy Instructors under the supervision of a Senior Instructor.Trainees will be taught in small\, flexible groups and be trained and assessed against the RYA Level 1 syllabus - with the aim of each qualifying for the RYA’s Level 1 Dinghy Sailing Certificate.Trainees whose aptitude and ability show...
SUMMARY:L1/L2 Dinghy Training Course - 9/10 May 2026(8 places avail) - Clwb Hwylio Llyn Brenig Sailing Club
END:VEVENT
BEGIN:VEVENT
UID:event_product_451815@webcollect.org.uk
DTSTAMP:20260421T081447Z
ORGANIZER;CN=Mark Watling:MAILTO:hapsome@yahoo.co.uk
DTSTART;VALUE=DATE:20260530
DESCRIPTION:Llyn Brenig Sailing Club (LBSC) is holding its Saturday Club on eight Saturdays during May - September 2026 to provide low-cost\, closely supervised training to youngsters (aged 7 - 17 years) who wish to start to learn to sail or to develop their skills as ‘newbie’ dinghy sailors.Sessions will be held on 30th May\, 13th June\, 11th July\, 18th July\, 1st August\, 8th August\, 29th August and 12th...
SUMMARY:Saturday Club - AFTERNOON / DEVELOPER's session - 30 May 2026(5 places avail) - Clwb Hwylio Llyn Brenig Sailing Club
END:VEVENT
BEGIN:VEVENT
UID:event_product_451806@webcollect.org.uk
DTSTAMP:20260421T081447Z
ORGANIZER;CN=Mark Watling:MAILTO:hapsome@yahoo.co.uk
DTSTART;VALUE=DATE:20260530
DESCRIPTION:Llyn Brenig Sailing Club (LBSC) is holding its Saturday Club on eight Saturdays during May - September 2026 to provide low-cost\, closely supervised training to youngsters (aged 7 - 17 years) who wish to start to learn to sail or to develop their skills as ‘newbie’ dinghy sailors.Sessions will be held on 30th May\, 13th June\, 11th July\, 18th July\, 1st August\, 8th August\, 29th August and 12th...
SUMMARY:Saturday Club - MORNING / BEGINNER'S session - 30 May 2026(6 places avail) - Clwb Hwylio Llyn Brenig Sailing Club
END:VEVENT
BEGIN:VEVENT
UID:event_product_451816@webcollect.org.uk
DTSTAMP:20260421T081447Z
ORGANIZER;CN=Mark Watling:MAILTO:hapsome@yahoo.co.uk
DTSTART;VALUE=DATE:20260613
DESCRIPTION:Llyn Brenig Sailing Club (LBSC) is holding its Saturday Club on eight Saturdays during May - September 2026 to provide low-cost\, closely supervised training to youngsters (aged 7 - 17 years) who wish to start to learn to sail or to develop their skills as ‘newbie’ dinghy sailors.Sessions will be held on 30th May\, 13th June\, 11th July\, 18th July\, 1st August\, 8th August\, 29th August and 12th...
SUMMARY:Saturday Club - AFTERNOON / DEVELOPER's session - 13 June 2026(3 places avail) - Clwb Hwylio Llyn Brenig Sailing Club
END:VEVENT
BEGIN:VEVENT
UID:event_product_451807@webcollect.org.uk
DTSTAMP:20260421T081447Z
ORGANIZER;CN=Mark Watling:MAILTO:hapsome@yahoo.co.uk
DTSTART;VALUE=DATE:20260613
DESCRIPTION:Llyn Brenig Sailing Club (LBSC) is holding its Saturday Club on eight Saturdays during May - September 2026 to provide low-cost\, closely supervised training to youngsters (aged 7 - 17 years) who wish to start to learn to sail or to develop their skills as ‘newbie’ dinghy sailors.Sessions will be held on 30th May\, 13th June\, 11th July\, 18th July\, 1st August\, 8th August\, 29th August and 12th...
SUMMARY:Saturday Club - MORNING / BEGINNER'S session - 13 June 2026(8 places avail) - Clwb Hwylio Llyn Brenig Sailing Club
END:VEVENT
BEGIN:VEVENT
UID:event_product_451801@webcollect.org.uk
DTSTAMP:20260421T081447Z
ORGANIZER;CN=Mark Watling:MAILTO:hapsome@yahoo.co.uk
DTSTART;VALUE=DATE:20260627
DESCRIPTION:This Course will last 2 days (approx. 16 hours in total) and be taught by RYA-accredited Dinghy Instructors under the supervision of a Senior Instructor.Trainees will be taught in small\, flexible groups and be trained and assessed against the RYA Level 1 syllabus - with the aim of each qualifying for the RYA’s Level 1 Dinghy Sailing Certificate.Trainees whose aptitude and ability show...
SUMMARY:L1/L2 Dinghy Training Course - 27/28 June 2026(9 places avail) - Clwb Hwylio Llyn Brenig Sailing Club
END:VEVENT
BEGIN:VEVENT
UID:event_product_451817@webcollect.org.uk
DTSTAMP:20260421T081447Z
ORGANIZER;CN=Mark Watling:MAILTO:hapsome@yahoo.co.uk
DTSTART;VALUE=DATE:20260711
DESCRIPTION:Llyn Brenig Sailing Club (LBSC) is holding its Saturday Club on eight Saturdays during May - September 2026 to provide low-cost\, closely supervised training to youngsters (aged 7 - 17 years) who wish to start to learn to sail or to develop their skills as ‘newbie’ dinghy sailors.Sessions will be held on 30th May\, 13th June\, 11th July\, 18th July\, 1st August\, 8th August\, 29th August and 12th...
SUMMARY:Saturday Club - AFTERNOON / DEVELOPER's session - 11 July 2026(5 places avail) - Clwb Hwylio Llyn Brenig Sailing Club
END:VEVENT
BEGIN:VEVENT
UID:event_product_451808@webcollect.org.uk
DTSTAMP:20260421T081447Z
ORGANIZER;CN=Mark Watling:MAILTO:hapsome@yahoo.co.uk
DTSTART;VALUE=DATE:20260711
DESCRIPTION:Llyn Brenig Sailing Club (LBSC) is holding its Saturday Club on eight Saturdays during May - September 2026 to provide low-cost\, closely supervised training to youngsters (aged 7 - 17 years) who wish to start to learn to sail or to develop their skills as ‘newbie’ dinghy sailors.Sessions will be held on 30th May\, 13th June\, 11th July\, 18th July\, 1st August\, 8th August\, 29th August and 12th...
SUMMARY:Saturday Club - MORNING / BEGINNER'S session - 11 July 2026(8 places avail) - Clwb Hwylio Llyn Brenig Sailing Club
END:VEVENT
BEGIN:VEVENT
UID:event_product_451818@webcollect.org.uk
DTSTAMP:20260421T081447Z
ORGANIZER;CN=Mark Watling:MAILTO:hapsome@yahoo.co.uk
DTSTART;VALUE=DATE:20260718
DESCRIPTION:Llyn Brenig Sailing Club (LBSC) is holding its Saturday Club on eight Saturdays during May - September 2026 to provide low-cost\, closely supervised training to youngsters (aged 7 - 17 years) who wish to start to learn to sail or to develop their skills as ‘newbie’ dinghy sailors.Sessions will be held on 30th May\, 13th June\, 11th July\, 18th July\, 1st August\, 8th August\, 29th August and 12th...
SUMMARY:Saturday Club - AFTERNOON / DEVELOPER's session - 18 July 2026(5 places avail) - Clwb Hwylio Llyn Brenig Sailing Club
END:VEVENT
BEGIN:VEVENT
UID:event_product_451809@webcollect.org.uk
DTSTAMP:20260421T081447Z
ORGANIZER;CN=Mark Watling:MAILTO:hapsome@yahoo.co.uk
DTSTART;VALUE=DATE:20260718
DESCRIPTION:Llyn Brenig Sailing Club (LBSC) is holding its Saturday Club on eight Saturdays during May - September 2026 to provide low-cost\, closely supervised training to youngsters (aged 7 - 17 years) who wish to start to learn to sail or to develop their skills as ‘newbie’ dinghy sailors.Sessions will be held on 30th May\, 13th June\, 11th July\, 18th July\, 1st August\, 8th August\, 29th August and 12th...
SUMMARY:Saturday Club - MORNING / BEGINNER'S session - 18 July 2026(8 places avail) - Clwb Hwylio Llyn Brenig Sailing Club
END:VEVENT
BEGIN:VEVENT
UID:event_product_451802@webcollect.org.uk
DTSTAMP:20260421T081447Z
ORGANIZER;CN=Mark Watling:MAILTO:hapsome@yahoo.co.uk
DTSTART;VALUE=DATE:20260725
DESCRIPTION:This Course will last 2 days (approx. 16 hours in total) and be taught by RYA-accredited Dinghy Instructors under the supervision of a Senior Instructor.Trainees will be taught in small\, flexible groups and be trained and assessed against the RYA Level 1 syllabus - with the aim of each qualifying for the RYA’s Level 1 Dinghy Sailing Certificate.Trainees whose aptitude and ability show...
SUMMARY:L1/L2 Dinghy Training Course - 25/26 July 2026(12 places avail) - Clwb Hwylio Llyn Brenig Sailing Club
END:VEVENT
BEGIN:VEVENT
UID:event_product_451819@webcollect.org.uk
DTSTAMP:20260421T081447Z
ORGANIZER;CN=Mark Watling:MAILTO:hapsome@yahoo.co.uk
DTSTART;VALUE=DATE:20260801
DESCRIPTION:Llyn Brenig Sailing Club (LBSC) is holding its Saturday Club on eight Saturdays during May - September 2026 to provide low-cost\, closely supervised training to youngsters (aged 7 - 17 years) who wish to start to learn to sail or to develop their skills as ‘newbie’ dinghy sailors.Sessions will be held on 30th May\, 13th June\, 11th July\, 18th July\, 1st August\, 8th August\, 29th August and 12th...
SUMMARY:Saturday Club - AFTERNOON / DEVELOPER's session - 1 August 2026(5 places avail) - Clwb Hwylio Llyn Brenig Sailing Club
END:VEVENT
BEGIN:VEVENT
UID:event_product_451810@webcollect.org.uk
DTSTAMP:20260421T081447Z
ORGANIZER;CN=Mark Watling:MAILTO:hapsome@yahoo.co.uk
DTSTART;VALUE=DATE:20260801
DESCRIPTION:Llyn Brenig Sailing Club (LBSC) is holding its Saturday Club on eight Saturdays during May - September 2026 to provide low-cost\, closely supervised training to youngsters (aged 7 - 17 years) who wish to start to learn to sail or to develop their skills as ‘newbie’ dinghy sailors.Sessions will be held on 30th May\, 13th June\, 11th July\, 18th July\, 1st August\, 8th August\, 29th August and 12th...
SUMMARY:Saturday Club - MORNING / BEGINNER'S session - 1 August 2026(8 places avail) - Clwb Hwylio Llyn Brenig Sailing Club
END:VEVENT
BEGIN:VEVENT
UID:event_product_451820@webcollect.org.uk
DTSTAMP:20260421T081447Z
ORGANIZER;CN=Mark Watling:MAILTO:hapsome@yahoo.co.uk
DTSTART;VALUE=DATE:20260808
DESCRIPTION:Llyn Brenig Sailing Club (LBSC) is holding its Saturday Club on eight Saturdays during May - September 2026 to provide low-cost\, closely supervised training to youngsters (aged 7 - 17 years) who wish to start to learn to sail or to develop their skills as ‘newbie’ dinghy sailors.Sessions will be held on 30th May\, 13th June\, 11th July\, 18th July\, 1st August\, 8th August\, 29th August and 12th...
SUMMARY:Saturday Club - AFTERNOON / DEVELOPER's session - 8 August 2026(8 places avail) - Clwb Hwylio Llyn Brenig Sailing Club
END:VEVENT
BEGIN:VEVENT
UID:event_product_451811@webcollect.org.uk
DTSTAMP:20260421T081447Z
ORGANIZER;CN=Mark Watling:MAILTO:hapsome@yahoo.co.uk
DTSTART;VALUE=DATE:20260808
DESCRIPTION:Llyn Brenig Sailing Club (LBSC) is holding its Saturday Club on eight Saturdays during May - September 2026 to provide low-cost\, closely supervised training to youngsters (aged 7 - 17 years) who wish to start to learn to sail or to develop their skills as ‘newbie’ dinghy sailors.Sessions will be held on 30th May\, 13th June\, 11th July\, 18th July\, 1st August\, 8th August\, 29th August and 12th...
SUMMARY:Saturday Club - MORNING / BEGINNER'S session - 8 August 2026(8 places avail) - Clwb Hwylio Llyn Brenig Sailing Club
END:VEVENT
BEGIN:VEVENT
UID:event_product_451821@webcollect.org.uk
DTSTAMP:20260421T081447Z
ORGANIZER;CN=Mark Watling:MAILTO:hapsome@yahoo.co.uk
DTSTART;VALUE=DATE:20260829
DESCRIPTION:Llyn Brenig Sailing Club (LBSC) is holding its Saturday Club on eight Saturdays during May - September 2026 to provide low-cost\, closely supervised training to youngsters (aged 7 - 17 years) who wish to start to learn to sail or to develop their skills as ‘newbie’ dinghy sailors.Sessions will be held on 30th May\, 13th June\, 11th July\, 18th July\, 1st August\, 8th August\, 29th August and 12th...
SUMMARY:Saturday Club - AFTERNOON / DEVELOPER's session - 29 August 2026(6 places avail) - Clwb Hwylio Llyn Brenig Sailing Club
END:VEVENT
BEGIN:VEVENT
UID:event_product_451812@webcollect.org.uk
DTSTAMP:20260421T081447Z
ORGANIZER;CN=Mark Watling:MAILTO:hapsome@yahoo.co.uk
DTSTART;VALUE=DATE:20260829
DESCRIPTION:Llyn Brenig Sailing Club (LBSC) is holding its Saturday Club on eight Saturdays during May - September 2026 to provide low-cost\, closely supervised training to youngsters (aged 7 - 17 years) who wish to start to learn to sail or to develop their skills as ‘newbie’ dinghy sailors.Sessions will be held on 30th May\, 13th June\, 11th July\, 18th July\, 1st August\, 8th August\, 29th August and 12th...
SUMMARY:Saturday Club - MORNING / BEGINNER'S session - 29 August 2026(8 places avail) - Clwb Hwylio Llyn Brenig Sailing Club
END:VEVENT
BEGIN:VEVENT
UID:event_product_451814@webcollect.org.uk
DTSTAMP:20260421T081447Z
ORGANIZER;CN=Mark Watling:MAILTO:hapsome@yahoo.co.uk
DTSTART;VALUE=DATE:20260912
DESCRIPTION:Llyn Brenig Sailing Club (LBSC) is holding its Saturday Club on eight Saturdays during May - September 2026 to provide low-cost\, closely supervised training to youngsters (aged 7 - 17 years) who wish to start to learn to sail or to develop their skills as ‘newbie’ dinghy sailors.Sessions will be held on 30th May\, 13th June\, 11th July\, 18th July\, 1st August\, 8th August\, 29th August and 12th...
SUMMARY:Saturday Club - AFTERNOON / DEVELOPER's session - 12 September 2026(3 places avail) - Clwb Hwylio Llyn Brenig Sailing Club
END:VEVENT
BEGIN:VEVENT
UID:event_product_451813@webcollect.org.uk
DTSTAMP:20260421T081447Z
ORGANIZER;CN=Mark Watling:MAILTO:hapsome@yahoo.co.uk
DTSTART;VALUE=DATE:20260912
DESCRIPTION:Llyn Brenig Sailing Club (LBSC) is holding its Saturday Club on eight Saturdays during May - September 2026 to provide low-cost\, closely supervised training to youngsters (aged 7 - 17 years) who wish to start to learn to sail or to develop their skills as ‘newbie’ dinghy sailors.Sessions will be held on 30th May\, 13th June\, 11th July\, 18th July\, 1st August\, 8th August\, 29th August and 12th...
SUMMARY:Saturday Club - MORNING / BEGINNER'S session - 12 September 2026(8 places avail) - Clwb Hwylio Llyn Brenig Sailing Club
END:VEVENT
END:VCALENDAR
