BEGIN:VCALENDAR
METHOD:PUBLISH
PRODID:-//webcollect/leedscanoeclub//NONSGML v1.0//EN
BEGIN:VTIMEZONE
TZID:Europe/London
BEGIN:DAYLIGHT
TZOFFSETFROM:+0000
RRULE:FREQ=YEARLY;BYMONTH=3;BYDAY=-1SU
DTSTART:19810329T010000
TZNAME:BST
TZOFFSETTO:+0100
END:DAYLIGHT
BEGIN:STANDARD
TZOFFSETFROM:+0100
RRULE:FREQ=YEARLY;BYMONTH=10;BYDAY=-1SU
DTSTART:19961027T020000
TZNAME:GMT
TZOFFSETTO:+0000
END:STANDARD
END:VTIMEZONE
BEGIN:VEVENT
UID:event_product_462652@webcollect.org.uk
DTSTAMP:20260421T081616Z
ORGANIZER;CN=Stephen Henderson:MAILTO:stephen.henderson04@gmail.com
DTSTART;VALUE=DATE:20260426
DESCRIPTION:Meet at the clubhouse in Kirkstall at 9.00 a.m. Beginners trip on grade 2 moving water. Out until mid afternoon.If a trip is showing as full you can join the waiting list and we'll let you know if a place comes available (e.g. Drop\,out\, more leaders available).Remitted members should sign up on the Remitted Member Signup. If any are willing to lead a group on the day\, tick the appropriate box....
SUMMARY:Paddlers Beginners trip(full) - Leeds Canoe Club
LOCATION:Various Rivers
END:VEVENT
BEGIN:VEVENT
UID:event_product_462653@webcollect.org.uk
DTSTAMP:20260421T081616Z
ORGANIZER;CN=Stephen Henderson:MAILTO:stephen.henderson04@gmail.com
DTSTART;VALUE=DATE:20260426
DESCRIPTION:Meet at the clubhouse in Kirkstall at 9.00 a.m. Beginners trip on grade 2 moving water. Out until mid afternoon.If a trip is showing as full you can join the waiting list and we'll let you know if a place comes available (e.g. Drop\,out\, more leaders available).Remitted members should sign up on the Remitted Member Signup. If any are willing to lead a group on the day\, tick the appropriate box....
SUMMARY:Remitted Leaders Beginners trip - Leeds Canoe Club
LOCATION:Various Rivers
END:VEVENT
BEGIN:VEVENT
UID:event_product_462654@webcollect.org.uk
DTSTAMP:20260421T081616Z
ORGANIZER;CN=Stephen Henderson:MAILTO:stephen.henderson04@gmail.com
DTSTART;VALUE=DATE:20260426
DESCRIPTION:Meet at the clubhouse in Kirkstall at 9.00 a.m. Beginners trip on grade 2 moving water. Out until mid afternoon.If a trip is showing as full you can join the waiting list and we'll let you know if a place comes available (e.g. Drop\,out\, more leaders available).Remitted members should sign up on the Remitted Member Signup. If any are willing to lead a group on the day\, tick the appropriate box....
SUMMARY:Waiting List Beginners trip(5 places avail) - Leeds Canoe Club
LOCATION:Various Rivers
END:VEVENT
BEGIN:VEVENT
UID:event_product_463008@webcollect.org.uk
DTSTAMP:20260421T081616Z
ORGANIZER;CN=Stephen Henderson:MAILTO:stephen.henderson04@gmail.com
DTSTART;VALUE=DATE:20260510
DESCRIPTION:Meet at the clubhouse in Kirkstall at 9.00 a.m. Beginners trip on grade 2 moving water. Out until mid afternoon.If a trip is showing as full you can join the waiting list and we'll let you know if a place comes available (e.g. Drop\,out\, more leaders available).Remitted members should sign up on the Remitted Member Signup. If any are willing to lead a group on the day\, tick the appropriate box....
SUMMARY:Paddlers Beginners trip(4 places avail) - Leeds Canoe Club
LOCATION:Various Rivers
END:VEVENT
BEGIN:VEVENT
UID:event_product_463009@webcollect.org.uk
DTSTAMP:20260421T081616Z
ORGANIZER;CN=Stephen Henderson:MAILTO:stephen.henderson04@gmail.com
DTSTART;VALUE=DATE:20260510
DESCRIPTION:Meet at the clubhouse in Kirkstall at 9.00 a.m. Beginners trip on grade 2 moving water. Out until mid afternoon.If a trip is showing as full you can join the waiting list and we'll let you know if a place comes available (e.g. Drop\,out\, more leaders available).Remitted members should sign up on the Remitted Member Signup. If any are willing to lead a group on the day\, tick the appropriate box....
SUMMARY:Remitted Leaders Beginners trip - Leeds Canoe Club
LOCATION:Various Rivers
END:VEVENT
BEGIN:VEVENT
UID:event_product_463010@webcollect.org.uk
DTSTAMP:20260421T081616Z
ORGANIZER;CN=Stephen Henderson:MAILTO:stephen.henderson04@gmail.com
DTSTART;VALUE=DATE:20260510
DESCRIPTION:Meet at the clubhouse in Kirkstall at 9.00 a.m. Beginners trip on grade 2 moving water. Out until mid afternoon.If a trip is showing as full you can join the waiting list and we'll let you know if a place comes available (e.g. Drop\,out\, more leaders available).Remitted members should sign up on the Remitted Member Signup. If any are willing to lead a group on the day\, tick the appropriate box....
SUMMARY:Waiting List Beginners trip(7 places avail) - Leeds Canoe Club
LOCATION:Various Rivers
END:VEVENT
END:VCALENDAR
