BEGIN:VCALENDAR
METHOD:PUBLISH
PRODID:-//webcollect/leedscanoeclub//NONSGML v1.0//EN
BEGIN:VTIMEZONE
TZID:Europe/London
BEGIN:DAYLIGHT
TZOFFSETFROM:+0000
RRULE:FREQ=YEARLY;BYMONTH=3;BYDAY=-1SU
DTSTART:19810329T010000
TZNAME:BST
TZOFFSETTO:+0100
END:DAYLIGHT
BEGIN:STANDARD
TZOFFSETFROM:+0100
RRULE:FREQ=YEARLY;BYMONTH=10;BYDAY=-1SU
DTSTART:19961027T020000
TZNAME:GMT
TZOFFSETTO:+0000
END:STANDARD
END:VTIMEZONE
BEGIN:VEVENT
UID:event_product_462748@webcollect.org.uk
DTSTAMP:20260421T081540Z
ORGANIZER;CN=Stephen Henderson:MAILTO:stephen.henderson04@gmail.com
DTSTART;VALUE=DATE:20260421
DESCRIPTION:Hi AllRiver sessions on Tuesday and Thursday evenings from the boathouse in Kirkstall. Suitable for beginners as well as experienced paddlers. Places will be strictly limited to groups of 10 (plus a nominated leader) therefore signup beforehand is essential. Need to be there ~5.45 pm aiming to be on the water for 6 pm. Park in The Rhinos Training Complex carpark. ILet us know as soon as you...
SUMMARY:Paddlers Evening River Sessions(4 places avail) - Leeds Canoe Club
LOCATION:Clubhouse - Kirkstall
END:VEVENT
BEGIN:VEVENT
UID:event_product_462749@webcollect.org.uk
DTSTAMP:20260421T081540Z
ORGANIZER;CN=Stephen Henderson:MAILTO:stephen.henderson04@gmail.com
DTSTART;VALUE=DATE:20260421
DESCRIPTION:Hi AllRiver sessions on Tuesday and Thursday evenings from the boathouse in Kirkstall. Suitable for beginners as well as experienced paddlers. Places will be strictly limited to groups of 10 (plus a nominated leader) therefore signup beforehand is essential. Need to be there ~5.45 pm aiming to be on the water for 6 pm. Park in The Rhinos Training Complex carpark. ILet us know as soon as you...
SUMMARY:Remitted Leaders Evening River Sessions - Leeds Canoe Club
LOCATION:Clubhouse - Kirkstall
END:VEVENT
BEGIN:VEVENT
UID:event_product_462750@webcollect.org.uk
DTSTAMP:20260421T081540Z
ORGANIZER;CN=Stephen Henderson:MAILTO:stephen.henderson04@gmail.com
DTSTART;VALUE=DATE:20260423
DESCRIPTION:Hi AllRiver sessions on Tuesday and Thursday evenings from the boathouse in Kirkstall. Suitable for beginners as well as experienced paddlers. Places will be strictly limited to groups of 10 (plus a nominated leader) therefore signup beforehand is essential. Need to be there ~5.45 pm aiming to be on the water for 6 pm. Park in The Rhinos Training Complex carpark. ILet us know as soon as you...
SUMMARY:Paddlers Evening River Sessions(7 places avail) - Leeds Canoe Club
LOCATION:Clubhouse - Kirkstall
END:VEVENT
BEGIN:VEVENT
UID:event_product_462751@webcollect.org.uk
DTSTAMP:20260421T081540Z
ORGANIZER;CN=Stephen Henderson:MAILTO:stephen.henderson04@gmail.com
DTSTART;VALUE=DATE:20260423
DESCRIPTION:Hi AllRiver sessions on Tuesday and Thursday evenings from the boathouse in Kirkstall. Suitable for beginners as well as experienced paddlers. Places will be strictly limited to groups of 10 (plus a nominated leader) therefore signup beforehand is essential. Need to be there ~5.45 pm aiming to be on the water for 6 pm. Park in The Rhinos Training Complex carpark. ILet us know as soon as you...
SUMMARY:Remitted Leaders Evening River Sessions - Leeds Canoe Club
LOCATION:Clubhouse - Kirkstall
END:VEVENT
BEGIN:VEVENT
UID:event_product_462966@webcollect.org.uk
DTSTAMP:20260421T081540Z
ORGANIZER;CN=Stephen Henderson:MAILTO:stephen.henderson04@gmail.com
DTSTART;VALUE=DATE:20260428
DESCRIPTION:Hi AllRiver sessions on Tuesday and Thursday evenings from the boathouse in Kirkstall. Suitable for beginners as well as experienced paddlers. Places will be strictly limited to groups of 10 (plus a nominated leader) therefore signup beforehand is essential. Need to be there ~5.45 pm aiming to be on the water for 6 pm. Park in The Rhinos Training Complex carpark. ILet us know as soon as you...
SUMMARY:Paddlers Evening River Sessions(9 places avail) - Leeds Canoe Club
LOCATION:Clubhouse - Kirkstall
END:VEVENT
BEGIN:VEVENT
UID:event_product_462967@webcollect.org.uk
DTSTAMP:20260421T081540Z
ORGANIZER;CN=Stephen Henderson:MAILTO:stephen.henderson04@gmail.com
DTSTART;VALUE=DATE:20260428
DESCRIPTION:Hi AllRiver sessions on Tuesday and Thursday evenings from the boathouse in Kirkstall. Suitable for beginners as well as experienced paddlers. Places will be strictly limited to groups of 10 (plus a nominated leader) therefore signup beforehand is essential. Need to be there ~5.45 pm aiming to be on the water for 6 pm. Park in The Rhinos Training Complex carpark. ILet us know as soon as you...
SUMMARY:Remitted Leaders Evening River Sessions - Leeds Canoe Club
LOCATION:Clubhouse - Kirkstall
END:VEVENT
BEGIN:VEVENT
UID:event_product_462968@webcollect.org.uk
DTSTAMP:20260421T081540Z
ORGANIZER;CN=Stephen Henderson:MAILTO:stephen.henderson04@gmail.com
DTSTART;VALUE=DATE:20260430
DESCRIPTION:Hi AllRiver sessions on Tuesday and Thursday evenings from the boathouse in Kirkstall. Suitable for beginners as well as experienced paddlers. Places will be strictly limited to groups of 10 (plus a nominated leader) therefore signup beforehand is essential. Need to be there ~5.45 pm aiming to be on the water for 6 pm. Park in The Rhinos Training Complex carpark. ILet us know as soon as you...
SUMMARY:Paddlers Evening River Sessions(9 places avail) - Leeds Canoe Club
LOCATION:Clubhouse - Kirkstall
END:VEVENT
BEGIN:VEVENT
UID:event_product_462969@webcollect.org.uk
DTSTAMP:20260421T081540Z
ORGANIZER;CN=Stephen Henderson:MAILTO:stephen.henderson04@gmail.com
DTSTART;VALUE=DATE:20260430
DESCRIPTION:Hi AllRiver sessions on Tuesday and Thursday evenings from the boathouse in Kirkstall. Suitable for beginners as well as experienced paddlers. Places will be strictly limited to groups of 10 (plus a nominated leader) therefore signup beforehand is essential. Need to be there ~5.45 pm aiming to be on the water for 6 pm. Park in The Rhinos Training Complex carpark. ILet us know as soon as you...
SUMMARY:Remitted Leaders Evening River Sessions - Leeds Canoe Club
LOCATION:Clubhouse - Kirkstall
END:VEVENT
END:VCALENDAR
