BEGIN:VCALENDAR
METHOD:PUBLISH
PRODID:-//webcollect/leedscanoeclub//NONSGML v1.0//EN
BEGIN:VTIMEZONE
TZID:Europe/London
BEGIN:DAYLIGHT
TZOFFSETFROM:+0000
RRULE:FREQ=YEARLY;BYMONTH=3;BYDAY=-1SU
DTSTART:19810329T010000
TZNAME:BST
TZOFFSETTO:+0100
END:DAYLIGHT
BEGIN:STANDARD
TZOFFSETFROM:+0100
RRULE:FREQ=YEARLY;BYMONTH=10;BYDAY=-1SU
DTSTART:19961027T020000
TZNAME:GMT
TZOFFSETTO:+0000
END:STANDARD
END:VTIMEZONE
BEGIN:VEVENT
UID:event_product_461001@webcollect.org.uk
DTSTAMP:20260421T081616Z
ORGANIZER;CN=Stephen Henderson:MAILTO:stephen.henderson04@gmail.com
DTSTART;VALUE=DATE:20260422
DESCRIPTION:For all who have very limited or no previous kayaking experience\, we recommend that you start out by undertaking our introductory course. Decide if you want to join the club after that. You must be able to swim (at least a little)The course lasts for 2 weeks (1 session per week) and is a great introductory session to the world of kayaking\, in the warmth and comfort of the swimming pool. All you...
SUMMARY:22nd\, 29th April Introductory Pool Sessions - Armley Leisure Centre(3 places avail) - Leeds Canoe Club
LOCATION:Armley Leisure Centre
END:VEVENT
BEGIN:VEVENT
UID:event_product_462765@webcollect.org.uk
DTSTAMP:20260421T081616Z
ORGANIZER;CN=Stephen Henderson:MAILTO:stephen.henderson04@gmail.com
DTSTART;VALUE=DATE:20260506
DESCRIPTION:For all who have very limited or no previous kayaking experience\, we recommend that you start out by undertaking our introductory course. Decide if you want to join the club after that. You must be able to swim (at least a little)The course lasts for 2 weeks (1 session per week) and is a great introductory session to the world of kayaking\, in the warmth and comfort of the swimming pool. All you...
SUMMARY:6th\, 13th May Introductory Pool Sessions - Armley Leisure Centre(3 places avail) - Leeds Canoe Club
LOCATION:Armley Leisure Centre
END:VEVENT
BEGIN:VEVENT
UID:event_product_225128@webcollect.org.uk
DTSTAMP:20260421T081616Z
ORGANIZER;CN=Stephen Henderson:MAILTO:stephen.henderson04@gmail.com
DTSTART;VALUE=DATE:20300101
DESCRIPTION:For all who have very limited or no previous kayaking experience\, we recommend that you start out by undertaking our introductory course. Decide if you want to join the club after that. You must be able to swim (at least a little)The course lasts for 2 weeks (1 session per week) and is a great introductory session to the world of kayaking\, in the warmth and comfort of the swimming pool. All you...
SUMMARY:For Admin Placed Orders Only Introductory Pool Sessions - Armley Leisure Centre(full) - Leeds Canoe Club
LOCATION:Armley Leisure Centre
END:VEVENT
END:VCALENDAR
