BEGIN:VCALENDAR
METHOD:PUBLISH
PRODID:-//webcollect/leedscanoeclub//NONSGML v1.0//EN
BEGIN:VTIMEZONE
TZID:Europe/London
BEGIN:DAYLIGHT
TZOFFSETFROM:+0000
RRULE:FREQ=YEARLY;BYMONTH=3;BYDAY=-1SU
DTSTART:19810329T010000
TZNAME:BST
TZOFFSETTO:+0100
END:DAYLIGHT
BEGIN:STANDARD
TZOFFSETFROM:+0100
RRULE:FREQ=YEARLY;BYMONTH=10;BYDAY=-1SU
DTSTART:19961027T020000
TZNAME:GMT
TZOFFSETTO:+0000
END:STANDARD
END:VTIMEZONE
BEGIN:VEVENT
UID:event_product_461675@webcollect.org.uk
DTSTAMP:20260421T081508Z
ORGANIZER;CN=Stephen Henderson:MAILTO:stephen.henderson04@gmail.com
DTSTART;VALUE=DATE:20260422
DESCRIPTION:Wednesday evening pool sessions. 8.00 - 9.00 p.m. Meet in the foyer ~ 7.45 p.m.The leisure centre have now insisted that we can only use dedicated boats and kit stored at the centre. PRIVATE BOATS AND KIT ARE NO LONGER WELCOME. As we have a limited number of boats you must book spaces online - please don't turn up without booking first otherwise you will be turned away.We also ask that you pay...
SUMMARY:Pool session Pool session(full) - Leeds Canoe Club
LOCATION:Armley Leisure Centre
END:VEVENT
BEGIN:VEVENT
UID:event_product_462965@webcollect.org.uk
DTSTAMP:20260421T081508Z
ORGANIZER;CN=Stephen Henderson:MAILTO:stephen.henderson04@gmail.com
DTSTART;VALUE=DATE:20260429
DESCRIPTION:Wednesday evening pool sessions. 8.00 - 9.00 p.m. Meet in the foyer ~ 7.45 p.m.The leisure centre have now insisted that we can only use dedicated boats and kit stored at the centre. PRIVATE BOATS AND KIT ARE NO LONGER WELCOME. As we have a limited number of boats you must book spaces online - please don't turn up without booking first otherwise you will be turned away.We also ask that you pay...
SUMMARY:Pool session Pool session(7 places avail) - Leeds Canoe Club
LOCATION:Armley Leisure Centre
END:VEVENT
END:VCALENDAR
