BEGIN:VCALENDAR
METHOD:PUBLISH
PRODID:-//webcollect/leedscanoeclub//NONSGML v1.0//EN
BEGIN:VTIMEZONE
TZID:Europe/London
BEGIN:DAYLIGHT
TZOFFSETFROM:+0000
RRULE:FREQ=YEARLY;BYMONTH=3;BYDAY=-1SU
DTSTART:19810329T010000
TZNAME:BST
TZOFFSETTO:+0100
END:DAYLIGHT
BEGIN:STANDARD
TZOFFSETFROM:+0100
RRULE:FREQ=YEARLY;BYMONTH=10;BYDAY=-1SU
DTSTART:19961027T020000
TZNAME:GMT
TZOFFSETTO:+0000
END:STANDARD
END:VTIMEZONE
BEGIN:VEVENT
UID:event_product_461823@webcollect.org.uk
DTSTAMP:20260423T083357Z
ORGANIZER;CN=Linda Daly:MAILTO:lindadaly81@yahoo.ie
DTSTART;VALUE=DATE:20260503
DESCRIPTION:Join us for a summer paddle on the Wharfe or Tees (water levels dependant\, to be decided closer to the date) followed by drinks at the Cardigan Arms when we get back to Leeds. This will be a relaxed day out for beginners (leader led) and intermediate (peer group) paddlers.This will be a good opportunity to get to know paddlers in different ability groups\, practice some skills and hopefully...
SUMMARY:Beginners LCC Summer Paddle (Tees/Wharfe)(full) - Leeds Canoe Club
END:VEVENT
BEGIN:VEVENT
UID:event_product_461824@webcollect.org.uk
DTSTAMP:20260423T083357Z
ORGANIZER;CN=Linda Daly:MAILTO:lindadaly81@yahoo.ie
DTSTART;VALUE=DATE:20260503
DESCRIPTION:Join us for a summer paddle on the Wharfe or Tees (water levels dependant\, to be decided closer to the date) followed by drinks at the Cardigan Arms when we get back to Leeds. This will be a relaxed day out for beginners (leader led) and intermediate (peer group) paddlers.This will be a good opportunity to get to know paddlers in different ability groups\, practice some skills and hopefully...
SUMMARY:Intermediate Peer Paddle LCC Summer Paddle (Tees/Wharfe)(full) - Leeds Canoe Club
END:VEVENT
BEGIN:VEVENT
UID:event_product_461825@webcollect.org.uk
DTSTAMP:20260423T083357Z
ORGANIZER;CN=Linda Daly:MAILTO:lindadaly81@yahoo.ie
DTSTART;VALUE=DATE:20260503
DESCRIPTION:Join us for a summer paddle on the Wharfe or Tees (water levels dependant\, to be decided closer to the date) followed by drinks at the Cardigan Arms when we get back to Leeds. This will be a relaxed day out for beginners (leader led) and intermediate (peer group) paddlers.This will be a good opportunity to get to know paddlers in different ability groups\, practice some skills and hopefully...
SUMMARY:Leaders LCC Summer Paddle (Tees/Wharfe)(full) - Leeds Canoe Club
END:VEVENT
END:VCALENDAR
