BEGIN:VCALENDAR
METHOD:PUBLISH
PRODID:-//webcollect/lgbtconservative//NONSGML v1.0//EN
BEGIN:VTIMEZONE
TZID:Europe/London
BEGIN:DAYLIGHT
TZOFFSETFROM:+0000
RRULE:FREQ=YEARLY;BYMONTH=3;BYDAY=-1SU
DTSTART:19810329T010000
TZNAME:BST
TZOFFSETTO:+0100
END:DAYLIGHT
BEGIN:STANDARD
TZOFFSETFROM:+0100
RRULE:FREQ=YEARLY;BYMONTH=10;BYDAY=-1SU
DTSTART:19961027T020000
TZNAME:GMT
TZOFFSETTO:+0000
END:STANDARD
END:VTIMEZONE
BEGIN:VEVENT
UID:event_product_454526@webcollect.org.uk
DTSTAMP:20260424T070518Z
ORGANIZER;CN=Jamie Mulhall:MAILTO:jamiemulhall1993@gmail.com
DTSTART;VALUE=DATE:20260515
DESCRIPTION:Back already by popular demand - it is LGBT+ Conservatives Midlands Social. Join us for a special evening in Birmingham\, the tenth of this series.These events have already amassed excellent speakers to date\, including Sir Andy Street\,Mark Fletcher\, the Rt. Hon.The Lord Harper\, Sir Michael Fabricant\, the Rt. Hon. Stuart Andrew MP and the Rt. Hon. Wendy Morton MP.The event is free but you will...
SUMMARY:The May Midlands Social - LGBT+ Conservatives
END:VEVENT
END:VCALENDAR
