BEGIN:VCALENDAR
METHOD:PUBLISH
PRODID:-//webcollect/llandegfeddsc//NONSGML v1.0//EN
BEGIN:VTIMEZONE
TZID:Europe/London
BEGIN:DAYLIGHT
TZOFFSETFROM:+0000
RRULE:FREQ=YEARLY;BYMONTH=3;BYDAY=-1SU
DTSTART:19810329T010000
TZNAME:BST
TZOFFSETTO:+0100
END:DAYLIGHT
BEGIN:STANDARD
TZOFFSETFROM:+0100
RRULE:FREQ=YEARLY;BYMONTH=10;BYDAY=-1SU
DTSTART:19961027T020000
TZNAME:GMT
TZOFFSETTO:+0000
END:STANDARD
END:VTIMEZONE
BEGIN:VEVENT
UID:event_product_457461@webcollect.org.uk
DTSTAMP:20260423T231955Z
ORGANIZER;CN=Squad Admin:MAILTO:squad.admin@llandegfedd.org.uk
DTSTART;TZID=Europe/London:20260504T100000
DTEND;TZID=Europe/London:20260504T102500
DESCRIPTION:Discover Sailing with Llandegfedd Sailing ClubMonday 4th May 2026Ever wanted to try sailing? Now is your chance! Our friendly club would like to invite you to come and join us on the water. Our experienced volunteers look forward to taking you out on the water\, and sharing their enthusiasm for sailing. You could have sailed before or be a complete novice. Children are welcome and encouraged...
SUMMARY:Monday Taster Ticket Discover Sailing May 2026(full) - Llandegfedd Sailing Club
END:VEVENT
BEGIN:VEVENT
UID:event_product_457462@webcollect.org.uk
DTSTAMP:20260423T231955Z
ORGANIZER;CN=Squad Admin:MAILTO:squad.admin@llandegfedd.org.uk
DTSTART;TZID=Europe/London:20260504T103000
DTEND;TZID=Europe/London:20260504T105500
DESCRIPTION:Discover Sailing with Llandegfedd Sailing ClubMonday 4th May 2026Ever wanted to try sailing? Now is your chance! Our friendly club would like to invite you to come and join us on the water. Our experienced volunteers look forward to taking you out on the water\, and sharing their enthusiasm for sailing. You could have sailed before or be a complete novice. Children are welcome and encouraged...
SUMMARY:Monday Taster Ticket Discover Sailing May 2026(full) - Llandegfedd Sailing Club
END:VEVENT
BEGIN:VEVENT
UID:event_product_457463@webcollect.org.uk
DTSTAMP:20260423T231955Z
ORGANIZER;CN=Squad Admin:MAILTO:squad.admin@llandegfedd.org.uk
DTSTART;TZID=Europe/London:20260504T110000
DTEND;TZID=Europe/London:20260504T112500
DESCRIPTION:Discover Sailing with Llandegfedd Sailing ClubMonday 4th May 2026Ever wanted to try sailing? Now is your chance! Our friendly club would like to invite you to come and join us on the water. Our experienced volunteers look forward to taking you out on the water\, and sharing their enthusiasm for sailing. You could have sailed before or be a complete novice. Children are welcome and encouraged...
SUMMARY:Monday Taster Ticket Discover Sailing May 2026(4 places avail) - Llandegfedd Sailing Club
END:VEVENT
BEGIN:VEVENT
UID:event_product_457464@webcollect.org.uk
DTSTAMP:20260423T231955Z
ORGANIZER;CN=Squad Admin:MAILTO:squad.admin@llandegfedd.org.uk
DTSTART;TZID=Europe/London:20260504T113000
DTEND;TZID=Europe/London:20260504T115500
DESCRIPTION:Discover Sailing with Llandegfedd Sailing ClubMonday 4th May 2026Ever wanted to try sailing? Now is your chance! Our friendly club would like to invite you to come and join us on the water. Our experienced volunteers look forward to taking you out on the water\, and sharing their enthusiasm for sailing. You could have sailed before or be a complete novice. Children are welcome and encouraged...
SUMMARY:Monday Taster Ticket Discover Sailing May 2026(5 places avail) - Llandegfedd Sailing Club
END:VEVENT
BEGIN:VEVENT
UID:event_product_457465@webcollect.org.uk
DTSTAMP:20260423T231955Z
ORGANIZER;CN=Squad Admin:MAILTO:squad.admin@llandegfedd.org.uk
DTSTART;TZID=Europe/London:20260504T120000
DTEND;TZID=Europe/London:20260504T122500
DESCRIPTION:Discover Sailing with Llandegfedd Sailing ClubMonday 4th May 2026Ever wanted to try sailing? Now is your chance! Our friendly club would like to invite you to come and join us on the water. Our experienced volunteers look forward to taking you out on the water\, and sharing their enthusiasm for sailing. You could have sailed before or be a complete novice. Children are welcome and encouraged...
SUMMARY:Monday Taster Ticket Discover Sailing May 2026(5 places avail) - Llandegfedd Sailing Club
END:VEVENT
BEGIN:VEVENT
UID:event_product_457470@webcollect.org.uk
DTSTAMP:20260423T231955Z
ORGANIZER;CN=Squad Admin:MAILTO:squad.admin@llandegfedd.org.uk
DTSTART;TZID=Europe/London:20260504T123000
DTEND;TZID=Europe/London:20260504T125500
DESCRIPTION:Discover Sailing with Llandegfedd Sailing ClubMonday 4th May 2026Ever wanted to try sailing? Now is your chance! Our friendly club would like to invite you to come and join us on the water. Our experienced volunteers look forward to taking you out on the water\, and sharing their enthusiasm for sailing. You could have sailed before or be a complete novice. Children are welcome and encouraged...
SUMMARY:Monday Taster Ticket Discover Sailing May 2026(6 places avail) - Llandegfedd Sailing Club
END:VEVENT
BEGIN:VEVENT
UID:event_product_457466@webcollect.org.uk
DTSTAMP:20260423T231955Z
ORGANIZER;CN=Squad Admin:MAILTO:squad.admin@llandegfedd.org.uk
DTSTART;TZID=Europe/London:20260504T130000
DTEND;TZID=Europe/London:20260504T132500
DESCRIPTION:Discover Sailing with Llandegfedd Sailing ClubMonday 4th May 2026Ever wanted to try sailing? Now is your chance! Our friendly club would like to invite you to come and join us on the water. Our experienced volunteers look forward to taking you out on the water\, and sharing their enthusiasm for sailing. You could have sailed before or be a complete novice. Children are welcome and encouraged...
SUMMARY:Monday Taster Ticket Discover Sailing May 2026(6 places avail) - Llandegfedd Sailing Club
END:VEVENT
BEGIN:VEVENT
UID:event_product_457467@webcollect.org.uk
DTSTAMP:20260423T231955Z
ORGANIZER;CN=Squad Admin:MAILTO:squad.admin@llandegfedd.org.uk
DTSTART;TZID=Europe/London:20260504T133000
DTEND;TZID=Europe/London:20260504T135500
DESCRIPTION:Discover Sailing with Llandegfedd Sailing ClubMonday 4th May 2026Ever wanted to try sailing? Now is your chance! Our friendly club would like to invite you to come and join us on the water. Our experienced volunteers look forward to taking you out on the water\, and sharing their enthusiasm for sailing. You could have sailed before or be a complete novice. Children are welcome and encouraged...
SUMMARY:Monday Taster Ticket Discover Sailing May 2026(6 places avail) - Llandegfedd Sailing Club
END:VEVENT
BEGIN:VEVENT
UID:event_product_457468@webcollect.org.uk
DTSTAMP:20260423T231955Z
ORGANIZER;CN=Squad Admin:MAILTO:squad.admin@llandegfedd.org.uk
DTSTART;TZID=Europe/London:20260504T140000
DTEND;TZID=Europe/London:20260504T142500
DESCRIPTION:Discover Sailing with Llandegfedd Sailing ClubMonday 4th May 2026Ever wanted to try sailing? Now is your chance! Our friendly club would like to invite you to come and join us on the water. Our experienced volunteers look forward to taking you out on the water\, and sharing their enthusiasm for sailing. You could have sailed before or be a complete novice. Children are welcome and encouraged...
SUMMARY:Monday Taster Ticket Discover Sailing May 2026(1 places avail) - Llandegfedd Sailing Club
END:VEVENT
BEGIN:VEVENT
UID:event_product_457469@webcollect.org.uk
DTSTAMP:20260423T231955Z
ORGANIZER;CN=Squad Admin:MAILTO:squad.admin@llandegfedd.org.uk
DTSTART;TZID=Europe/London:20260504T143000
DTEND;TZID=Europe/London:20260504T145500
DESCRIPTION:Discover Sailing with Llandegfedd Sailing ClubMonday 4th May 2026Ever wanted to try sailing? Now is your chance! Our friendly club would like to invite you to come and join us on the water. Our experienced volunteers look forward to taking you out on the water\, and sharing their enthusiasm for sailing. You could have sailed before or be a complete novice. Children are welcome and encouraged...
SUMMARY:Monday Taster Ticket Discover Sailing May 2026(4 places avail) - Llandegfedd Sailing Club
END:VEVENT
END:VCALENDAR
