BEGIN:VCALENDAR
METHOD:PUBLISH
PRODID:-//webcollect/llandegfeddsc//NONSGML v1.0//EN
BEGIN:VTIMEZONE
TZID:Europe/London
BEGIN:DAYLIGHT
TZOFFSETFROM:+0000
RRULE:FREQ=YEARLY;BYMONTH=3;BYDAY=-1SU
DTSTART:19810329T010000
TZNAME:BST
TZOFFSETTO:+0100
END:DAYLIGHT
BEGIN:STANDARD
TZOFFSETFROM:+0100
RRULE:FREQ=YEARLY;BYMONTH=10;BYDAY=-1SU
DTSTART:19961027T020000
TZNAME:GMT
TZOFFSETTO:+0000
END:STANDARD
END:VTIMEZONE
BEGIN:VEVENT
UID:event_product_458958@webcollect.org.uk
DTSTAMP:20260423T232118Z
ORGANIZER;CN=Squad Admin:MAILTO:squad.admin@llandegfedd.org.uk
DTSTART;VALUE=DATE:20260516
DESCRIPTION:Llandegfedd Lake Sailing ClubSouth Wales Dragons Series16th May 20262026 will see several fleets to ensure all youth sailors are racing against sailors of equivalent ability. Changing fleets during the series is possible but results in different fleets will not be able to be taken into acount for the overall series results. The fleets are:General Handicap GoldBoat Classes: 420\, 29er\, ILCA 4\, 6...
SUMMARY:Dragons Series - Llandegfedd 16th May 2026(47 places avail) - Llandegfedd Sailing Club
LOCATION:Llandegfedd Sailing Club
END:VEVENT
BEGIN:VEVENT
UID:event_product_458664@webcollect.org.uk
DTSTAMP:20260423T232118Z
ORGANIZER;CN=Chris Smith:MAILTO:smiths52@btinternet.com
DTSTART;VALUE=DATE:20260523
SUMMARY:P&B Solo Welsh Championship 2026 - Llandegfedd Sailing Club
END:VEVENT
BEGIN:VEVENT
UID:event_product_463017@webcollect.org.uk
DTSTAMP:20260423T232118Z
ORGANIZER;CN=Event Coordinator Welsh Topper Champs:MAILTO:welshtopperchamps@llandegfedd.org.uk
DTSTART;VALUE=DATE:20260627
DESCRIPTION:Monex MarineWelsh Open Topper Championship and OnBoard RegattaFeaturing ILCA Open for 202627th and 28th June 2026Open Event All youth and junior Topper and ILCA sailors welcome from all regions from new to racing\, squads and transitioning class. ADD ONE SAILOR TO THE BASKET AT A TIME£55 per sailor (including Saturday evening meal) for the two day event.£35 per sailor for single day. Please...
SUMMARY:ILCA Entry Welsh Open Topper Championship and Onboard Regatta 2026(19 places avail) - Llandegfedd Sailing Club
LOCATION:Llandegfedd Sailing Club
END:VEVENT
BEGIN:VEVENT
UID:event_product_462912@webcollect.org.uk
DTSTAMP:20260423T232118Z
ORGANIZER;CN=Event Coordinator Welsh Topper Champs:MAILTO:welshtopperchamps@llandegfedd.org.uk
DTSTART;VALUE=DATE:20260627
DESCRIPTION:Monex MarineWelsh Open Topper Championship and OnBoard RegattaFeaturing ILCA Open for 202627th and 28th June 2026Open Event All youth and junior Topper and ILCA sailors welcome from all regions from new to racing\, squads and transitioning class. ADD ONE SAILOR TO THE BASKET AT A TIME£55 per sailor (including Saturday evening meal) for the two day event.£35 per sailor for single day. Please...
SUMMARY:Topper Entry Welsh Open Topper Championship and Onboard Regatta 2026(29 places avail) - Llandegfedd Sailing Club
LOCATION:Llandegfedd Sailing Club
END:VEVENT
BEGIN:VEVENT
UID:event_product_462913@webcollect.org.uk
DTSTAMP:20260423T232118Z
ORGANIZER;CN=Event Coordinator Welsh Topper Champs:MAILTO:welshtopperchamps@llandegfedd.org.uk
DTSTART;VALUE=DATE:20260627
DESCRIPTION:Please ensure your racers place in the Welsh Topper Champs is booked before or alongside this booking. Racers in the Welsh Topper Champs have a singe meal ticket included in their entry. This booking is for additional guests at the meal. DO NOT BOOK YOUR RACERS MEAL HERE. If you do not want to book any meal tickets for guests\, you can go straight to checkout. To book guest meal tickets:Add the...
SUMMARY:Meat BBQ Welsh Topper Championships Guest Meal Orders 2026(50 places avail) - Llandegfedd Sailing Club
LOCATION:Llandegfedd Lake Cafe
END:VEVENT
BEGIN:VEVENT
UID:event_product_462915@webcollect.org.uk
DTSTAMP:20260423T232118Z
ORGANIZER;CN=Event Coordinator Welsh Topper Champs:MAILTO:welshtopperchamps@llandegfedd.org.uk
DTSTART;VALUE=DATE:20260627
DESCRIPTION:Please ensure your racers place in the Welsh Topper Champs is booked before or alongside this booking. Racers in the Welsh Topper Champs have a singe meal ticket included in their entry. This booking is for additional guests at the meal. DO NOT BOOK YOUR RACERS MEAL HERE. If you do not want to book any meal tickets for guests\, you can go straight to checkout. To book guest meal tickets:Add the...
SUMMARY:Vegan BBQ Welsh Topper Championships Guest Meal Orders 2026(50 places avail) - Llandegfedd Sailing Club
LOCATION:Llandegfedd Lake Cafe
END:VEVENT
BEGIN:VEVENT
UID:event_product_462914@webcollect.org.uk
DTSTAMP:20260423T232118Z
ORGANIZER;CN=Event Coordinator Welsh Topper Champs:MAILTO:welshtopperchamps@llandegfedd.org.uk
DTSTART;VALUE=DATE:20260627
DESCRIPTION:Please ensure your racers place in the Welsh Topper Champs is booked before or alongside this booking. Racers in the Welsh Topper Champs have a singe meal ticket included in their entry. This booking is for additional guests at the meal. DO NOT BOOK YOUR RACERS MEAL HERE. If you do not want to book any meal tickets for guests\, you can go straight to checkout. To book guest meal tickets:Add the...
SUMMARY:Vegetarian BBQ Welsh Topper Championships Guest Meal Orders 2026(50 places avail) - Llandegfedd Sailing Club
LOCATION:Llandegfedd Lake Cafe
END:VEVENT
END:VCALENDAR
