BEGIN:VCALENDAR
METHOD:PUBLISH
PRODID:-//webcollect/llandegfeddsc//NONSGML v1.0//EN
BEGIN:VTIMEZONE
TZID:Europe/London
BEGIN:DAYLIGHT
TZOFFSETFROM:+0000
RRULE:FREQ=YEARLY;BYMONTH=3;BYDAY=-1SU
DTSTART:19810329T010000
TZNAME:BST
TZOFFSETTO:+0100
END:DAYLIGHT
BEGIN:STANDARD
TZOFFSETFROM:+0100
RRULE:FREQ=YEARLY;BYMONTH=10;BYDAY=-1SU
DTSTART:19961027T020000
TZNAME:GMT
TZOFFSETTO:+0000
END:STANDARD
END:VTIMEZONE
BEGIN:VEVENT
UID:event_product_199760@webcollect.org.uk
DTSTAMP:20260423T231939Z
ORGANIZER;CN=Sarah Green:MAILTO:mentor@llandegfedd.org.uk
DTSTART;VALUE=DATE:20210612
DESCRIPTION:An opportunity to sail under the supervision/direction of a Mentor to gain confidence\, knowledge and experience.Sessions can take place at any agreed time on any subject\, weather permitting and will last 2-4 hours. The cost will be £15 per session for 1 or 2 persons.Members may use their own boat or a club boat if requested ( 2000s\, Fevas\, Lasers\, Toppers.)Mentors will be qualified Dinghy...
SUMMARY:Mentor Sailing - Llandegfedd Sailing Club
END:VEVENT
BEGIN:VEVENT
UID:event_product_458066@webcollect.org.uk
DTSTAMP:20260423T231939Z
ORGANIZER;CN=Squad Admin:MAILTO:squad.admin@llandegfedd.org.uk
DTSTART;VALUE=DATE:20260425
DESCRIPTION:Please do not book this course unless you have had previous agreement from David Trevelyan or Katie Steel.The course will be run over 2 days with PB2 Instructor Katie.9am to 5pm No experience is required however this course may be preceded by Level 1 Start Power-boating. The course will be predominantly practical but with some classroom elements. It will cover: Launching and recovery\, close...
SUMMARY:April Course Power Boat Level 2 (PB2) - 2026(full) - Llandegfedd Sailing Club
LOCATION:Llandegfedd Sailing Club
END:VEVENT
BEGIN:VEVENT
UID:event_product_458069@webcollect.org.uk
DTSTAMP:20260423T231939Z
ORGANIZER;CN=Squad Admin:MAILTO:squad.admin@llandegfedd.org.uk
DTSTART;VALUE=DATE:20260430
DESCRIPTION:This is a booking for just one evening session.Thursday Junior Sailing Club6pm - Dusk/8pmCoaching for our topper sailors of RYA stage 2 and above. Regular attendance can lead to sailors working towards their RYA Stage 3 & 4. 5.30/5.45pm Sailors arrive and rig boats\, change into sailing gear.6pm Session Briefing - in sailing gear\, ready to launch. All sailors must be at this briefing.Off water...
SUMMARY:Thursday Junior Sailing Club 2026(8 places avail) - Llandegfedd Sailing Club
LOCATION:Llandegfedd Lake
END:VEVENT
BEGIN:VEVENT
UID:event_product_458070@webcollect.org.uk
DTSTAMP:20260423T231939Z
ORGANIZER;CN=Squad Admin:MAILTO:squad.admin@llandegfedd.org.uk
DTSTART;VALUE=DATE:20260507
DESCRIPTION:This is a booking for just one evening session.Thursday Junior Sailing Club6pm - Dusk/8pmCoaching for our topper sailors of RYA stage 2 and above. Regular attendance can lead to sailors working towards their RYA Stage 3 & 4. 5.30/5.45pm Sailors arrive and rig boats\, change into sailing gear.6pm Session Briefing - in sailing gear\, ready to launch. All sailors must be at this briefing.Off water...
SUMMARY:Thursday Junior Sailing Club 2026(8 places avail) - Llandegfedd Sailing Club
LOCATION:Llandegfedd Lake
END:VEVENT
BEGIN:VEVENT
UID:event_product_458071@webcollect.org.uk
DTSTAMP:20260423T231939Z
ORGANIZER;CN=Squad Admin:MAILTO:squad.admin@llandegfedd.org.uk
DTSTART;VALUE=DATE:20260514
DESCRIPTION:This is a booking for just one evening session.Thursday Junior Sailing Club6pm - Dusk/8pmCoaching for our topper sailors of RYA stage 2 and above. Regular attendance can lead to sailors working towards their RYA Stage 3 & 4. 5.30/5.45pm Sailors arrive and rig boats\, change into sailing gear.6pm Session Briefing - in sailing gear\, ready to launch. All sailors must be at this briefing.Off water...
SUMMARY:Thursday Junior Sailing Club 2026(9 places avail) - Llandegfedd Sailing Club
LOCATION:Llandegfedd Lake
END:VEVENT
BEGIN:VEVENT
UID:event_product_458072@webcollect.org.uk
DTSTAMP:20260423T231939Z
ORGANIZER;CN=Squad Admin:MAILTO:squad.admin@llandegfedd.org.uk
DTSTART;VALUE=DATE:20260521
DESCRIPTION:This is a booking for just one evening session.Thursday Junior Sailing Club6pm - Dusk/8pmCoaching for our topper sailors of RYA stage 2 and above. Regular attendance can lead to sailors working towards their RYA Stage 3 & 4. 5.30/5.45pm Sailors arrive and rig boats\, change into sailing gear.6pm Session Briefing - in sailing gear\, ready to launch. All sailors must be at this briefing.Off water...
SUMMARY:Thursday Junior Sailing Club 2026(9 places avail) - Llandegfedd Sailing Club
LOCATION:Llandegfedd Lake
END:VEVENT
BEGIN:VEVENT
UID:event_product_458073@webcollect.org.uk
DTSTAMP:20260423T231939Z
ORGANIZER;CN=Squad Admin:MAILTO:squad.admin@llandegfedd.org.uk
DTSTART;VALUE=DATE:20260604
DESCRIPTION:This is a booking for just one evening session.Thursday Junior Sailing Club6pm - Dusk/8pmCoaching for our topper sailors of RYA stage 2 and above. Regular attendance can lead to sailors working towards their RYA Stage 3 & 4. 5.30/5.45pm Sailors arrive and rig boats\, change into sailing gear.6pm Session Briefing - in sailing gear\, ready to launch. All sailors must be at this briefing.Off water...
SUMMARY:Thursday Junior Sailing Club 2026(10 places avail) - Llandegfedd Sailing Club
LOCATION:Llandegfedd Lake
END:VEVENT
BEGIN:VEVENT
UID:event_product_458074@webcollect.org.uk
DTSTAMP:20260423T231939Z
ORGANIZER;CN=Squad Admin:MAILTO:squad.admin@llandegfedd.org.uk
DTSTART;VALUE=DATE:20260611
DESCRIPTION:This is a booking for just one evening session.Thursday Junior Sailing Club6pm - Dusk/8pmCoaching for our topper sailors of RYA stage 2 and above. Regular attendance can lead to sailors working towards their RYA Stage 3 & 4. 5.30/5.45pm Sailors arrive and rig boats\, change into sailing gear.6pm Session Briefing - in sailing gear\, ready to launch. All sailors must be at this briefing.Off water...
SUMMARY:Thursday Junior Sailing Club 2026(10 places avail) - Llandegfedd Sailing Club
LOCATION:Llandegfedd Lake
END:VEVENT
BEGIN:VEVENT
UID:event_product_458075@webcollect.org.uk
DTSTAMP:20260423T231939Z
ORGANIZER;CN=Squad Admin:MAILTO:squad.admin@llandegfedd.org.uk
DTSTART;VALUE=DATE:20260618
DESCRIPTION:This is a booking for just one evening session.Thursday Junior Sailing Club6pm - Dusk/8pmCoaching for our topper sailors of RYA stage 2 and above. Regular attendance can lead to sailors working towards their RYA Stage 3 & 4. 5.30/5.45pm Sailors arrive and rig boats\, change into sailing gear.6pm Session Briefing - in sailing gear\, ready to launch. All sailors must be at this briefing.Off water...
SUMMARY:Thursday Junior Sailing Club 2026(10 places avail) - Llandegfedd Sailing Club
LOCATION:Llandegfedd Lake
END:VEVENT
BEGIN:VEVENT
UID:event_product_458076@webcollect.org.uk
DTSTAMP:20260423T231939Z
ORGANIZER;CN=Squad Admin:MAILTO:squad.admin@llandegfedd.org.uk
DTSTART;VALUE=DATE:20260625
DESCRIPTION:This is a booking for just one evening session.Thursday Junior Sailing Club6pm - Dusk/8pmCoaching for our topper sailors of RYA stage 2 and above. Regular attendance can lead to sailors working towards their RYA Stage 3 & 4. 5.30/5.45pm Sailors arrive and rig boats\, change into sailing gear.6pm Session Briefing - in sailing gear\, ready to launch. All sailors must be at this briefing.Off water...
SUMMARY:Thursday Junior Sailing Club 2026(10 places avail) - Llandegfedd Sailing Club
LOCATION:Llandegfedd Lake
END:VEVENT
BEGIN:VEVENT
UID:event_product_458077@webcollect.org.uk
DTSTAMP:20260423T231939Z
ORGANIZER;CN=Squad Admin:MAILTO:squad.admin@llandegfedd.org.uk
DTSTART;VALUE=DATE:20260702
DESCRIPTION:This is a booking for just one evening session.Thursday Junior Sailing Club6pm - Dusk/8pmCoaching for our topper sailors of RYA stage 2 and above. Regular attendance can lead to sailors working towards their RYA Stage 3 & 4. 5.30/5.45pm Sailors arrive and rig boats\, change into sailing gear.6pm Session Briefing - in sailing gear\, ready to launch. All sailors must be at this briefing.Off water...
SUMMARY:Thursday Junior Sailing Club 2026(10 places avail) - Llandegfedd Sailing Club
LOCATION:Llandegfedd Lake
END:VEVENT
BEGIN:VEVENT
UID:event_product_458078@webcollect.org.uk
DTSTAMP:20260423T231939Z
ORGANIZER;CN=Squad Admin:MAILTO:squad.admin@llandegfedd.org.uk
DTSTART;VALUE=DATE:20260709
DESCRIPTION:This is a booking for just one evening session.Thursday Junior Sailing Club6pm - Dusk/8pmCoaching for our topper sailors of RYA stage 2 and above. Regular attendance can lead to sailors working towards their RYA Stage 3 & 4. 5.30/5.45pm Sailors arrive and rig boats\, change into sailing gear.6pm Session Briefing - in sailing gear\, ready to launch. All sailors must be at this briefing.Off water...
SUMMARY:Thursday Junior Sailing Club 2026(11 places avail) - Llandegfedd Sailing Club
LOCATION:Llandegfedd Lake
END:VEVENT
BEGIN:VEVENT
UID:event_product_458079@webcollect.org.uk
DTSTAMP:20260423T231939Z
ORGANIZER;CN=Squad Admin:MAILTO:squad.admin@llandegfedd.org.uk
DTSTART;VALUE=DATE:20260716
DESCRIPTION:This is a booking for just one evening session.Thursday Junior Sailing Club6pm - Dusk/8pmCoaching for our topper sailors of RYA stage 2 and above. Regular attendance can lead to sailors working towards their RYA Stage 3 & 4. 5.30/5.45pm Sailors arrive and rig boats\, change into sailing gear.6pm Session Briefing - in sailing gear\, ready to launch. All sailors must be at this briefing.Off water...
SUMMARY:Thursday Junior Sailing Club 2026(11 places avail) - Llandegfedd Sailing Club
LOCATION:Llandegfedd Lake
END:VEVENT
BEGIN:VEVENT
UID:event_product_458080@webcollect.org.uk
DTSTAMP:20260423T231939Z
ORGANIZER;CN=Squad Admin:MAILTO:squad.admin@llandegfedd.org.uk
DTSTART;VALUE=DATE:20260723
DESCRIPTION:This is a booking for just one evening session.Thursday Junior Sailing Club6pm - Dusk/8pmCoaching for our topper sailors of RYA stage 2 and above. Regular attendance can lead to sailors working towards their RYA Stage 3 & 4. 5.30/5.45pm Sailors arrive and rig boats\, change into sailing gear.6pm Session Briefing - in sailing gear\, ready to launch. All sailors must be at this briefing.Off water...
SUMMARY:Thursday Junior Sailing Club 2026(11 places avail) - Llandegfedd Sailing Club
LOCATION:Llandegfedd Lake
END:VEVENT
BEGIN:VEVENT
UID:event_product_458081@webcollect.org.uk
DTSTAMP:20260423T231939Z
ORGANIZER;CN=Squad Admin:MAILTO:squad.admin@llandegfedd.org.uk
DTSTART;VALUE=DATE:20260730
DESCRIPTION:This is a booking for just one evening session.Thursday Junior Sailing Club6pm - Dusk/8pmCoaching for our topper sailors of RYA stage 2 and above. Regular attendance can lead to sailors working towards their RYA Stage 3 & 4. 5.30/5.45pm Sailors arrive and rig boats\, change into sailing gear.6pm Session Briefing - in sailing gear\, ready to launch. All sailors must be at this briefing.Off water...
SUMMARY:Thursday Junior Sailing Club 2026(11 places avail) - Llandegfedd Sailing Club
LOCATION:Llandegfedd Lake
END:VEVENT
BEGIN:VEVENT
UID:event_product_458082@webcollect.org.uk
DTSTAMP:20260423T231939Z
ORGANIZER;CN=Squad Admin:MAILTO:squad.admin@llandegfedd.org.uk
DTSTART;VALUE=DATE:20260806
DESCRIPTION:This is a booking for just one evening session.Thursday Junior Sailing Club6pm - Dusk/8pmCoaching for our topper sailors of RYA stage 2 and above. Regular attendance can lead to sailors working towards their RYA Stage 3 & 4. 5.30/5.45pm Sailors arrive and rig boats\, change into sailing gear.6pm Session Briefing - in sailing gear\, ready to launch. All sailors must be at this briefing.Off water...
SUMMARY:Thursday Junior Sailing Club 2026(11 places avail) - Llandegfedd Sailing Club
LOCATION:Llandegfedd Lake
END:VEVENT
BEGIN:VEVENT
UID:event_product_458083@webcollect.org.uk
DTSTAMP:20260423T231939Z
ORGANIZER;CN=Squad Admin:MAILTO:squad.admin@llandegfedd.org.uk
DTSTART;VALUE=DATE:20260813
DESCRIPTION:This is a booking for just one evening session.Thursday Junior Sailing Club6pm - Dusk/8pmCoaching for our topper sailors of RYA stage 2 and above. Regular attendance can lead to sailors working towards their RYA Stage 3 & 4. 5.30/5.45pm Sailors arrive and rig boats\, change into sailing gear.6pm Session Briefing - in sailing gear\, ready to launch. All sailors must be at this briefing.Off water...
SUMMARY:Thursday Junior Sailing Club 2026(11 places avail) - Llandegfedd Sailing Club
LOCATION:Llandegfedd Lake
END:VEVENT
BEGIN:VEVENT
UID:event_product_458086@webcollect.org.uk
DTSTAMP:20260423T231939Z
ORGANIZER;CN=Squad Admin:MAILTO:squad.admin@llandegfedd.org.uk
DTSTART;VALUE=DATE:20260820
DESCRIPTION:This is a booking for just one evening session.Thursday Junior Sailing Club6pm - Dusk/8pmCoaching for our topper sailors of RYA stage 2 and above. Regular attendance can lead to sailors working towards their RYA Stage 3 & 4. 5.30/5.45pm Sailors arrive and rig boats\, change into sailing gear.6pm Session Briefing - in sailing gear\, ready to launch. All sailors must be at this briefing.Off water...
SUMMARY:Thursday Junior Sailing Club 2026(11 places avail) - Llandegfedd Sailing Club
LOCATION:Llandegfedd Lake
END:VEVENT
BEGIN:VEVENT
UID:event_product_458084@webcollect.org.uk
DTSTAMP:20260423T231939Z
ORGANIZER;CN=Squad Admin:MAILTO:squad.admin@llandegfedd.org.uk
DTSTART;VALUE=DATE:20260827
DESCRIPTION:This is a booking for just one evening session.Thursday Junior Sailing Club6pm - Dusk/8pmCoaching for our topper sailors of RYA stage 2 and above. Regular attendance can lead to sailors working towards their RYA Stage 3 & 4. 5.30/5.45pm Sailors arrive and rig boats\, change into sailing gear.6pm Session Briefing - in sailing gear\, ready to launch. All sailors must be at this briefing.Off water...
SUMMARY:Thursday Junior Sailing Club 2026(11 places avail) - Llandegfedd Sailing Club
LOCATION:Llandegfedd Lake
END:VEVENT
BEGIN:VEVENT
UID:event_product_451665@webcollect.org.uk
DTSTAMP:20260423T231939Z
ORGANIZER;CN=Squad Admin:MAILTO:squad.admin@llandegfedd.org.uk
DTSTART;VALUE=DATE:20260509
DESCRIPTION:RYA Youth Start Sailing CoursesParticipants MUST be Llandegfedd Sailing Club MembersOur dedicated Youth Sailing schemes offer a safe and fun environment for children to learn and challenge themselves. Children can progress quickly from complete beginners to competent sailors.Our courses are two consecutive days long and suitable for juniors aged 8 to 13 (speak to us if you are a bit older)....
SUMMARY:RYA Youth Stage 1 (two days) RYA Youth Stage Courses 2026(10 places avail) - Llandegfedd Sailing Club
LOCATION:Llandegfedd Sailing Club
END:VEVENT
BEGIN:VEVENT
UID:event_product_451661@webcollect.org.uk
DTSTAMP:20260423T231939Z
ORGANIZER;CN=Squad Admin:MAILTO:squad.admin@llandegfedd.org.uk
DTSTART;VALUE=DATE:20260526
DESCRIPTION:RYA Youth Start Sailing CoursesParticipants MUST be Llandegfedd Sailing Club MembersOur dedicated Youth Sailing schemes offer a safe and fun environment for children to learn and challenge themselves. Children can progress quickly from complete beginners to competent sailors.Our courses are two consecutive days long and suitable for juniors aged 8 to 13 (speak to us if you are a bit older)....
SUMMARY:RYA Youth Stage 1 (two days) RYA Youth Stage Courses 2026(8 places avail) - Llandegfedd Sailing Club
LOCATION:Llandegfedd Sailing Club
END:VEVENT
BEGIN:VEVENT
UID:event_product_451662@webcollect.org.uk
DTSTAMP:20260423T231939Z
ORGANIZER;CN=Squad Admin:MAILTO:squad.admin@llandegfedd.org.uk
DTSTART;VALUE=DATE:20260528
DESCRIPTION:RYA Youth Start Sailing CoursesParticipants MUST be Llandegfedd Sailing Club MembersOur dedicated Youth Sailing schemes offer a safe and fun environment for children to learn and challenge themselves. Children can progress quickly from complete beginners to competent sailors.Our courses are two consecutive days long and suitable for juniors aged 8 to 13 (speak to us if you are a bit older)....
SUMMARY:RYA Youth Stage 1 (two days) RYA Youth Stage Courses 2026(8 places avail) - Llandegfedd Sailing Club
LOCATION:Llandegfedd Sailing Club
END:VEVENT
BEGIN:VEVENT
UID:event_product_451663@webcollect.org.uk
DTSTAMP:20260423T231939Z
ORGANIZER;CN=Squad Admin:MAILTO:squad.admin@llandegfedd.org.uk
DTSTART;VALUE=DATE:20260528
DESCRIPTION:RYA Youth Start Sailing CoursesParticipants MUST be Llandegfedd Sailing Club MembersOur dedicated Youth Sailing schemes offer a safe and fun environment for children to learn and challenge themselves. Children can progress quickly from complete beginners to competent sailors.Our courses are two consecutive days long and suitable for juniors aged 8 to 13 (speak to us if you are a bit older)....
SUMMARY:RYA Youth Stage 2 (two days) RYA Youth Stage Courses 2026(12 places avail) - Llandegfedd Sailing Club
LOCATION:Llandegfedd Sailing Club
END:VEVENT
BEGIN:VEVENT
UID:event_product_451664@webcollect.org.uk
DTSTAMP:20260423T231939Z
ORGANIZER;CN=Squad Admin:MAILTO:squad.admin@llandegfedd.org.uk
DTSTART;VALUE=DATE:20260606
DESCRIPTION:RYA Youth Start Sailing CoursesParticipants MUST be Llandegfedd Sailing Club MembersOur dedicated Youth Sailing schemes offer a safe and fun environment for children to learn and challenge themselves. Children can progress quickly from complete beginners to competent sailors.Our courses are two consecutive days long and suitable for juniors aged 8 to 13 (speak to us if you are a bit older)....
SUMMARY:RYA Youth Stage 2 (two days) RYA Youth Stage Courses 2026(9 places avail) - Llandegfedd Sailing Club
LOCATION:Llandegfedd Sailing Club
END:VEVENT
BEGIN:VEVENT
UID:event_product_462275@webcollect.org.uk
DTSTAMP:20260423T231939Z
ORGANIZER;CN=Squad Admin:MAILTO:squad.admin@llandegfedd.org.uk
DTSTART;TZID=Europe/London:20260531T130000
DTEND;TZID=Europe/London:20260531T160000
DESCRIPTION:Come and join our junior Feva coaching for 2026! The sessions run once a month on a Sunday morning (subject to weather and sailor numbers) through the season and will follow the following format: 09.30 Meet and rig the boats10.00 Onshore briefing and instruction\, then on to water13.00 Lunch (packed lunch essential)14.00 Launched and at the start line ready to join the Llandegfedd Lake Sailing...
SUMMARY:Feva Sunday Feva Sunday Coaching 2026(6 places avail) - Llandegfedd Sailing Club
LOCATION:Llandegfedd Lake
END:VEVENT
BEGIN:VEVENT
UID:event_product_462276@webcollect.org.uk
DTSTAMP:20260423T231939Z
ORGANIZER;CN=Squad Admin:MAILTO:squad.admin@llandegfedd.org.uk
DTSTART;TZID=Europe/London:20260614T093000
DTEND;TZID=Europe/London:20260614T160000
DESCRIPTION:Come and join our junior Feva coaching for 2026! The sessions run once a month on a Sunday morning (subject to weather and sailor numbers) through the season and will follow the following format: 09.30 Meet and rig the boats10.00 Onshore briefing and instruction\, then on to water13.00 Lunch (packed lunch essential)14.00 Launched and at the start line ready to join the Llandegfedd Lake Sailing...
SUMMARY:Feva Sunday Feva Sunday Coaching 2026(6 places avail) - Llandegfedd Sailing Club
LOCATION:Llandegfedd Lake
END:VEVENT
BEGIN:VEVENT
UID:event_product_462277@webcollect.org.uk
DTSTAMP:20260423T231939Z
ORGANIZER;CN=Squad Admin:MAILTO:squad.admin@llandegfedd.org.uk
DTSTART;TZID=Europe/London:20260726T093000
DTEND;TZID=Europe/London:20260726T160000
DESCRIPTION:Come and join our junior Feva coaching for 2026! The sessions run once a month on a Sunday morning (subject to weather and sailor numbers) through the season and will follow the following format: 09.30 Meet and rig the boats10.00 Onshore briefing and instruction\, then on to water13.00 Lunch (packed lunch essential)14.00 Launched and at the start line ready to join the Llandegfedd Lake Sailing...
SUMMARY:Feva Sunday Feva Sunday Coaching 2026(6 places avail) - Llandegfedd Sailing Club
LOCATION:Llandegfedd Lake
END:VEVENT
BEGIN:VEVENT
UID:event_product_462278@webcollect.org.uk
DTSTAMP:20260423T231939Z
ORGANIZER;CN=Squad Admin:MAILTO:squad.admin@llandegfedd.org.uk
DTSTART;TZID=Europe/London:20260816T093000
DTEND;TZID=Europe/London:20260816T160000
DESCRIPTION:Come and join our junior Feva coaching for 2026! The sessions run once a month on a Sunday morning (subject to weather and sailor numbers) through the season and will follow the following format: 09.30 Meet and rig the boats10.00 Onshore briefing and instruction\, then on to water13.00 Lunch (packed lunch essential)14.00 Launched and at the start line ready to join the Llandegfedd Lake Sailing...
SUMMARY:Feva Sunday Feva Sunday Coaching 2026(6 places avail) - Llandegfedd Sailing Club
LOCATION:Llandegfedd Lake
END:VEVENT
END:VCALENDAR
