BEGIN:VCALENDAR
METHOD:PUBLISH
PRODID:-//webcollect/lvpc//NONSGML v1.0//EN
BEGIN:VTIMEZONE
TZID:Europe/London
BEGIN:DAYLIGHT
TZOFFSETFROM:+0000
RRULE:FREQ=YEARLY;BYMONTH=3;BYDAY=-1SU
DTSTART:19810329T010000
TZNAME:BST
TZOFFSETTO:+0100
END:DAYLIGHT
BEGIN:STANDARD
TZOFFSETFROM:+0100
RRULE:FREQ=YEARLY;BYMONTH=10;BYDAY=-1SU
DTSTART:19961027T020000
TZNAME:GMT
TZOFFSETTO:+0000
END:STANDARD
END:VTIMEZONE
BEGIN:VEVENT
UID:event_product_436087@webcollect.org.uk
DTSTAMP:20260423T192426Z
ORGANIZER;CN=Pam Phillips:MAILTO:lvpcmembership@gmail.com
DTSTART;VALUE=DATE:20250925
DESCRIPTION:Rash style Tees with club logo in Hawaiian Blue to team with club HoodiesSizes XS to 2XL£15
SUMMARY:Club T shirt with embroidered logo - Lee Valley Paddlesports Club
END:VEVENT
END:VCALENDAR
