BEGIN:VCALENDAR
METHOD:PUBLISH
PRODID:-//webcollect/lvpc//NONSGML v1.0//EN
BEGIN:VTIMEZONE
TZID:Europe/London
BEGIN:DAYLIGHT
TZOFFSETFROM:+0000
RRULE:FREQ=YEARLY;BYMONTH=3;BYDAY=-1SU
DTSTART:19810329T010000
TZNAME:BST
TZOFFSETTO:+0100
END:DAYLIGHT
BEGIN:STANDARD
TZOFFSETFROM:+0100
RRULE:FREQ=YEARLY;BYMONTH=10;BYDAY=-1SU
DTSTART:19961027T020000
TZNAME:GMT
TZOFFSETTO:+0000
END:STANDARD
END:VTIMEZONE
BEGIN:VEVENT
UID:event_product_458661@webcollect.org.uk
DTSTAMP:20260423T203826Z
ORGANIZER;CN=Jake Brown:MAILTO:LVPCpathway@gmail.com
DTSTART;VALUE=DATE:20260429
DESCRIPTION:U16's onlyEmail jake.brown@paddle.uk.org.uk in advance of your first time attending. *If you have just stumbled onto us and never Kayaked before or been to any of our taster sessions your first two lessons are free! please email and ask for a consent formFor everyone else\, you must pay online before attending\, no cash payments. Join the beginner Slalom whatsapp group for comms:...
SUMMARY:Every Wednesday 6:30-7:30pm Slalom kids club! - Lee Valley Paddlesports Club
LOCATION:Lee Valley White water centre Station Rd\, Waltham Cross EN9 1AB
END:VEVENT
BEGIN:VEVENT
UID:event_product_458662@webcollect.org.uk
DTSTAMP:20260423T203826Z
ORGANIZER;CN=Jake Brown:MAILTO:LVPCpathway@gmail.com
DTSTART;VALUE=DATE:20260506
DESCRIPTION:U16's onlyEmail jake.brown@paddle.uk.org.uk in advance of your first time attending. *If you have just stumbled onto us and never Kayaked before or been to any of our taster sessions your first two lessons are free! please email and ask for a consent formFor everyone else\, you must pay online before attending\, no cash payments. Join the beginner Slalom whatsapp group for comms:...
SUMMARY:Every Wednesday 6:30-7:30pm Slalom kids club! - Lee Valley Paddlesports Club
LOCATION:Lee Valley White water centre Station Rd\, Waltham Cross EN9 1AB
END:VEVENT
END:VCALENDAR
