BEGIN:VCALENDAR
METHOD:PUBLISH
PRODID:-//webcollect/lvpc//NONSGML v1.0//EN
BEGIN:VTIMEZONE
TZID:Europe/London
BEGIN:DAYLIGHT
TZOFFSETFROM:+0000
RRULE:FREQ=YEARLY;BYMONTH=3;BYDAY=-1SU
DTSTART:19810329T010000
TZNAME:BST
TZOFFSETTO:+0100
END:DAYLIGHT
BEGIN:STANDARD
TZOFFSETFROM:+0100
RRULE:FREQ=YEARLY;BYMONTH=10;BYDAY=-1SU
DTSTART:19961027T020000
TZNAME:GMT
TZOFFSETTO:+0000
END:STANDARD
END:VTIMEZONE
BEGIN:VEVENT
UID:event_product_382502@webcollect.org.uk
DTSTAMP:20260423T180718Z
ORGANIZER;CN=Pam Phillips:MAILTO:lvpcmembership@gmail.com
DTSTART;VALUE=DATE:20241111
DESCRIPTION:Stylish club hoodies in Hawaiian Blue with embroidered logo XS TO 2 XL
SUMMARY:Club Hoodies Club merch Hoodies - Lee Valley Paddlesports Club
END:VEVENT
BEGIN:VEVENT
UID:event_product_436087@webcollect.org.uk
DTSTAMP:20260423T180718Z
ORGANIZER;CN=Pam Phillips:MAILTO:lvpcmembership@gmail.com
DTSTART;VALUE=DATE:20250925
DESCRIPTION:Rash style Tees with club logo in Hawaiian Blue to team with club HoodiesSizes XS to 2XL£15
SUMMARY:Club T shirt with embroidered logo - Lee Valley Paddlesports Club
END:VEVENT
BEGIN:VEVENT
UID:event_product_458124@webcollect.org.uk
DTSTAMP:20260423T180718Z
ORGANIZER;CN=Jake Brown:MAILTO:LVPCpathway@gmail.com
DTSTART;VALUE=DATE:20260423
DESCRIPTION:Legacy and Lake sessions are 17:30-18:15 for div 1+ and 18:15-19:00 for div 4-div 2 paddlersOlympic and Bottom of the Olympic sessions are 18:00-19:00Do not buy unless you have already emailed jake.brown@paddleuk.org.uk to get on the water\, you must either be coached or paddle in a group of 2 or more. It may be possible for you to shadow other groups.If attending sessions regularly you must...
SUMMARY:Bottom of Olympic White water sessions for non LVPC Slalom subscribers - Lee Valley Paddlesports Club
LOCATION:Lee Valley White water centre Station Rd\, Waltham Cross EN9 1AB
END:VEVENT
BEGIN:VEVENT
UID:event_product_458125@webcollect.org.uk
DTSTAMP:20260423T180718Z
ORGANIZER;CN=Jake Brown:MAILTO:LVPCpathway@gmail.com
DTSTART;VALUE=DATE:20260423
DESCRIPTION:Legacy and Lake sessions are 17:30-18:15 for div 1+ and 18:15-19:00 for div 4-div 2 paddlersOlympic and Bottom of the Olympic sessions are 18:00-19:00Do not buy unless you have already emailed jake.brown@paddleuk.org.uk to get on the water\, you must either be coached or paddle in a group of 2 or more. It may be possible for you to shadow other groups.If attending sessions regularly you must...
SUMMARY:Olympic White water sessions for non LVPC Slalom subscribers - Lee Valley Paddlesports Club
LOCATION:Lee Valley White water centre Station Rd\, Waltham Cross EN9 1AB
END:VEVENT
BEGIN:VEVENT
UID:event_product_458126@webcollect.org.uk
DTSTAMP:20260423T180718Z
ORGANIZER;CN=Jake Brown:MAILTO:LVPCpathway@gmail.com
DTSTART;VALUE=DATE:20260427
DESCRIPTION:Legacy and Lake sessions are 17:30-18:15 for div 1+ and 18:15-19:00 for div 4-div 2 paddlersOlympic and Bottom of the Olympic sessions are 18:00-19:00Do not buy unless you have already emailed jake.brown@paddleuk.org.uk to get on the water\, you must either be coached or paddle in a group of 2 or more. It may be possible for you to shadow other groups.If attending sessions regularly you must...
SUMMARY:Leg White water sessions for non LVPC Slalom subscribers - Lee Valley Paddlesports Club
LOCATION:Lee Valley White water centre Station Rd\, Waltham Cross EN9 1AB
END:VEVENT
BEGIN:VEVENT
UID:event_product_458127@webcollect.org.uk
DTSTAMP:20260423T180718Z
ORGANIZER;CN=Jake Brown:MAILTO:LVPCpathway@gmail.com
DTSTART;VALUE=DATE:20260430
DESCRIPTION:Legacy and Lake sessions are 17:30-18:15 for div 1+ and 18:15-19:00 for div 4-div 2 paddlersOlympic and Bottom of the Olympic sessions are 18:00-19:00Do not buy unless you have already emailed jake.brown@paddleuk.org.uk to get on the water\, you must either be coached or paddle in a group of 2 or more. It may be possible for you to shadow other groups.If attending sessions regularly you must...
SUMMARY:Bottom of Olympic White water sessions for non LVPC Slalom subscribers - Lee Valley Paddlesports Club
LOCATION:Lee Valley White water centre Station Rd\, Waltham Cross EN9 1AB
END:VEVENT
BEGIN:VEVENT
UID:event_product_458128@webcollect.org.uk
DTSTAMP:20260423T180718Z
ORGANIZER;CN=Jake Brown:MAILTO:LVPCpathway@gmail.com
DTSTART;VALUE=DATE:20260430
DESCRIPTION:Legacy and Lake sessions are 17:30-18:15 for div 1+ and 18:15-19:00 for div 4-div 2 paddlersOlympic and Bottom of the Olympic sessions are 18:00-19:00Do not buy unless you have already emailed jake.brown@paddleuk.org.uk to get on the water\, you must either be coached or paddle in a group of 2 or more. It may be possible for you to shadow other groups.If attending sessions regularly you must...
SUMMARY:Olympic White water sessions for non LVPC Slalom subscribers - Lee Valley Paddlesports Club
LOCATION:Lee Valley White water centre Station Rd\, Waltham Cross EN9 1AB
END:VEVENT
BEGIN:VEVENT
UID:event_product_458129@webcollect.org.uk
DTSTAMP:20260423T180718Z
ORGANIZER;CN=Jake Brown:MAILTO:LVPCpathway@gmail.com
DTSTART;VALUE=DATE:20260504
DESCRIPTION:Legacy and Lake sessions are 17:30-18:15 for div 1+ and 18:15-19:00 for div 4-div 2 paddlersOlympic and Bottom of the Olympic sessions are 18:00-19:00Do not buy unless you have already emailed jake.brown@paddleuk.org.uk to get on the water\, you must either be coached or paddle in a group of 2 or more. It may be possible for you to shadow other groups.If attending sessions regularly you must...
SUMMARY:Leg White water sessions for non LVPC Slalom subscribers - Lee Valley Paddlesports Club
LOCATION:Lee Valley White water centre Station Rd\, Waltham Cross EN9 1AB
END:VEVENT
BEGIN:VEVENT
UID:event_product_458542@webcollect.org.uk
DTSTAMP:20260423T180718Z
ORGANIZER;CN=Pam Phillips:MAILTO:lvpcmembership@gmail.com
DTSTART;VALUE=DATE:20260425
DESCRIPTION:This project offers weekly kayaking sessions run in conjunction with PaddleUk for youngsters up to and including 16 years of age.The sessions are free but membership of LVPC is compulsory to be able to sign up for the sessions. There is no charge for membership.Come and have fun learning about and getting skilled at water sports.
SUMMARY:10-12 Making Waves Project - Lee Valley Paddlesports Club
END:VEVENT
BEGIN:VEVENT
UID:event_product_461469@webcollect.org.uk
DTSTAMP:20260423T180718Z
ORGANIZER;CN=Pam Phillips:MAILTO:lvpcmembership@gmail.com
DTSTART;VALUE=DATE:20260425
SUMMARY:River paddle 9.30 River paddle every Saturday - Lee Valley Paddlesports Club
END:VEVENT
BEGIN:VEVENT
UID:event_product_461470@webcollect.org.uk
DTSTAMP:20260423T180718Z
ORGANIZER;CN=Pam Phillips:MAILTO:lvpcmembership@gmail.com
DTSTART;VALUE=DATE:20260502
SUMMARY:River paddle 9.30 River paddle every Saturday - Lee Valley Paddlesports Club
END:VEVENT
BEGIN:VEVENT
UID:event_product_461471@webcollect.org.uk
DTSTAMP:20260423T180718Z
ORGANIZER;CN=Pam Phillips:MAILTO:lvpcmembership@gmail.com
DTSTART;VALUE=DATE:20260509
SUMMARY:River paddle 9.30 River paddle every Saturday - Lee Valley Paddlesports Club
END:VEVENT
BEGIN:VEVENT
UID:event_product_461472@webcollect.org.uk
DTSTAMP:20260423T180718Z
ORGANIZER;CN=Pam Phillips:MAILTO:lvpcmembership@gmail.com
DTSTART;VALUE=DATE:20260516
SUMMARY:River paddle 9.30 River paddle every Saturday - Lee Valley Paddlesports Club
END:VEVENT
BEGIN:VEVENT
UID:event_product_461473@webcollect.org.uk
DTSTAMP:20260423T180718Z
ORGANIZER;CN=Pam Phillips:MAILTO:lvpcmembership@gmail.com
DTSTART;VALUE=DATE:20260523
SUMMARY:River paddle 9.30 River paddle every Saturday - Lee Valley Paddlesports Club
END:VEVENT
BEGIN:VEVENT
UID:event_product_461474@webcollect.org.uk
DTSTAMP:20260423T180718Z
ORGANIZER;CN=Pam Phillips:MAILTO:lvpcmembership@gmail.com
DTSTART;VALUE=DATE:20260530
SUMMARY:River paddle 9.30 River paddle every Saturday - Lee Valley Paddlesports Club
END:VEVENT
BEGIN:VEVENT
UID:event_product_455671@webcollect.org.uk
DTSTAMP:20260423T180718Z
ORGANIZER;CN=Pam Phillips:MAILTO:lvpcmembership@gmail.com
DTSTART;VALUE=DATE:20260429
SUMMARY:6.30-7.30 Coach Jon Males - Improvers course for Olympic assessed paddlers(2 places avail) - Lee Valley Paddlesports Club
END:VEVENT
BEGIN:VEVENT
UID:event_product_453309@webcollect.org.uk
DTSTAMP:20260423T180718Z
ORGANIZER;CN=Pam Phillips:MAILTO:lvpcmembership@gmail.com
DTSTART;VALUE=DATE:20260429
SUMMARY:6.30 -7.30 Legacy paddling (30 places avail) - Lee Valley Paddlesports Club
END:VEVENT
BEGIN:VEVENT
UID:event_product_453310@webcollect.org.uk
DTSTAMP:20260423T180718Z
ORGANIZER;CN=Pam Phillips:MAILTO:lvpcmembership@gmail.com
DTSTART;VALUE=DATE:20260429
SUMMARY:7.30-8.30 Legacy paddling (30 places avail) - Lee Valley Paddlesports Club
END:VEVENT
BEGIN:VEVENT
UID:event_product_461211@webcollect.org.uk
DTSTAMP:20260423T180718Z
ORGANIZER;CN=Pam Phillips:MAILTO:lvpcmembership@gmail.com
DTSTART;VALUE=DATE:20260506
SUMMARY:6.30 -7.30 Legacy paddling - Lee Valley Paddlesports Club
END:VEVENT
BEGIN:VEVENT
UID:event_product_461212@webcollect.org.uk
DTSTAMP:20260423T180718Z
ORGANIZER;CN=Pam Phillips:MAILTO:lvpcmembership@gmail.com
DTSTART;VALUE=DATE:20260506
SUMMARY:7.30-8.30 Legacy paddling - Lee Valley Paddlesports Club
END:VEVENT
BEGIN:VEVENT
UID:event_product_461213@webcollect.org.uk
DTSTAMP:20260423T180718Z
ORGANIZER;CN=Pam Phillips:MAILTO:lvpcmembership@gmail.com
DTSTART;VALUE=DATE:20260513
SUMMARY:6.30 -7.30 Legacy paddling - Lee Valley Paddlesports Club
END:VEVENT
BEGIN:VEVENT
UID:event_product_461218@webcollect.org.uk
DTSTAMP:20260423T180718Z
ORGANIZER;CN=Pam Phillips:MAILTO:lvpcmembership@gmail.com
DTSTART;VALUE=DATE:20260513
SUMMARY:7.30-8.30 Legacy paddling - Lee Valley Paddlesports Club
END:VEVENT
BEGIN:VEVENT
UID:event_product_461215@webcollect.org.uk
DTSTAMP:20260423T180718Z
ORGANIZER;CN=Pam Phillips:MAILTO:lvpcmembership@gmail.com
DTSTART;VALUE=DATE:20260520
SUMMARY:6.30 -7.30 Legacy paddling - Lee Valley Paddlesports Club
END:VEVENT
BEGIN:VEVENT
UID:event_product_461214@webcollect.org.uk
DTSTAMP:20260423T180718Z
ORGANIZER;CN=Pam Phillips:MAILTO:lvpcmembership@gmail.com
DTSTART;VALUE=DATE:20260520
SUMMARY:7.30-8.30 Legacy paddling - Lee Valley Paddlesports Club
END:VEVENT
BEGIN:VEVENT
UID:event_product_461216@webcollect.org.uk
DTSTAMP:20260423T180718Z
ORGANIZER;CN=Pam Phillips:MAILTO:lvpcmembership@gmail.com
DTSTART;VALUE=DATE:20260527
SUMMARY:6.30 -7.30 Legacy paddling - Lee Valley Paddlesports Club
END:VEVENT
BEGIN:VEVENT
UID:event_product_461217@webcollect.org.uk
DTSTAMP:20260423T180718Z
ORGANIZER;CN=Pam Phillips:MAILTO:lvpcmembership@gmail.com
DTSTART;VALUE=DATE:20260527
SUMMARY:7.30-8.30 Legacy paddling - Lee Valley Paddlesports Club
END:VEVENT
BEGIN:VEVENT
UID:event_product_453071@webcollect.org.uk
DTSTAMP:20260423T180718Z
ORGANIZER;CN=Pam Phillips:MAILTO:lvpcmembership@gmail.com
DTSTART;VALUE=DATE:20260429
SUMMARY:6.30-7.30 Olympic paddling (34 places avail) - Lee Valley Paddlesports Club
END:VEVENT
BEGIN:VEVENT
UID:event_product_453079@webcollect.org.uk
DTSTAMP:20260423T180718Z
ORGANIZER;CN=Pam Phillips:MAILTO:lvpcmembership@gmail.com
DTSTART;VALUE=DATE:20260429
SUMMARY:7.30-8.30 Olympic paddling (30 places avail) - Lee Valley Paddlesports Club
END:VEVENT
BEGIN:VEVENT
UID:event_product_461219@webcollect.org.uk
DTSTAMP:20260423T180718Z
ORGANIZER;CN=Pam Phillips:MAILTO:lvpcmembership@gmail.com
DTSTART;VALUE=DATE:20260506
SUMMARY:6.30-7.30 Olympic paddling (35 places avail) - Lee Valley Paddlesports Club
END:VEVENT
BEGIN:VEVENT
UID:event_product_461220@webcollect.org.uk
DTSTAMP:20260423T180718Z
ORGANIZER;CN=Pam Phillips:MAILTO:lvpcmembership@gmail.com
DTSTART;VALUE=DATE:20260506
SUMMARY:7.30-8.30 Olympic paddling (30 places avail) - Lee Valley Paddlesports Club
END:VEVENT
BEGIN:VEVENT
UID:event_product_461221@webcollect.org.uk
DTSTAMP:20260423T180718Z
ORGANIZER;CN=Pam Phillips:MAILTO:lvpcmembership@gmail.com
DTSTART;VALUE=DATE:20260513
SUMMARY:6.30-7.30 Olympic paddling (35 places avail) - Lee Valley Paddlesports Club
END:VEVENT
BEGIN:VEVENT
UID:event_product_461222@webcollect.org.uk
DTSTAMP:20260423T180718Z
ORGANIZER;CN=Pam Phillips:MAILTO:lvpcmembership@gmail.com
DTSTART;VALUE=DATE:20260513
SUMMARY:7.30-8.30 Olympic paddling (30 places avail) - Lee Valley Paddlesports Club
END:VEVENT
BEGIN:VEVENT
UID:event_product_461223@webcollect.org.uk
DTSTAMP:20260423T180718Z
ORGANIZER;CN=Pam Phillips:MAILTO:lvpcmembership@gmail.com
DTSTART;VALUE=DATE:20260520
SUMMARY:6.30-7.30 Olympic paddling (35 places avail) - Lee Valley Paddlesports Club
END:VEVENT
BEGIN:VEVENT
UID:event_product_461224@webcollect.org.uk
DTSTAMP:20260423T180718Z
ORGANIZER;CN=Pam Phillips:MAILTO:lvpcmembership@gmail.com
DTSTART;VALUE=DATE:20260520
SUMMARY:7.30-8.30 Olympic paddling (30 places avail) - Lee Valley Paddlesports Club
END:VEVENT
BEGIN:VEVENT
UID:event_product_461225@webcollect.org.uk
DTSTAMP:20260423T180718Z
ORGANIZER;CN=Pam Phillips:MAILTO:lvpcmembership@gmail.com
DTSTART;VALUE=DATE:20260527
SUMMARY:6.30-7.30 Olympic paddling (35 places avail) - Lee Valley Paddlesports Club
END:VEVENT
BEGIN:VEVENT
UID:event_product_461226@webcollect.org.uk
DTSTAMP:20260423T180718Z
ORGANIZER;CN=Pam Phillips:MAILTO:lvpcmembership@gmail.com
DTSTART;VALUE=DATE:20260527
SUMMARY:7.30-8.30 Olympic paddling (30 places avail) - Lee Valley Paddlesports Club
END:VEVENT
BEGIN:VEVENT
UID:event_product_458661@webcollect.org.uk
DTSTAMP:20260423T180718Z
ORGANIZER;CN=Jake Brown:MAILTO:LVPCpathway@gmail.com
DTSTART;VALUE=DATE:20260429
DESCRIPTION:U16's onlyEmail jake.brown@paddle.uk.org.uk in advance of your first time attending. *If you have just stumbled onto us and never Kayaked before or been to any of our taster sessions your first two lessons are free! please email and ask for a consent formFor everyone else\, you must pay online before attending\, no cash payments. Join the beginner Slalom whatsapp group for comms:...
SUMMARY:Every Wednesday 6:30-7:30pm Slalom kids club! - Lee Valley Paddlesports Club
LOCATION:Lee Valley White water centre Station Rd\, Waltham Cross EN9 1AB
END:VEVENT
BEGIN:VEVENT
UID:event_product_458662@webcollect.org.uk
DTSTAMP:20260423T180718Z
ORGANIZER;CN=Jake Brown:MAILTO:LVPCpathway@gmail.com
DTSTART;VALUE=DATE:20260506
DESCRIPTION:U16's onlyEmail jake.brown@paddle.uk.org.uk in advance of your first time attending. *If you have just stumbled onto us and never Kayaked before or been to any of our taster sessions your first two lessons are free! please email and ask for a consent formFor everyone else\, you must pay online before attending\, no cash payments. Join the beginner Slalom whatsapp group for comms:...
SUMMARY:Every Wednesday 6:30-7:30pm Slalom kids club! - Lee Valley Paddlesports Club
LOCATION:Lee Valley White water centre Station Rd\, Waltham Cross EN9 1AB
END:VEVENT
BEGIN:VEVENT
UID:event_product_438698@webcollect.org.uk
DTSTAMP:20260423T180718Z
ORGANIZER;CN=Pam Phillips:MAILTO:lvpcmembership@gmail.com
DTSTART;VALUE=DATE:20260606
DESCRIPTION:Dates for your diary!Wednesday 22nd Oct - kayakingWednesday 29th Oct - canoeWednesday 5th Nov – paddleboard18th April - 1 day rescue training course6th and 7th June - 2 day Paddlesport Instructor training and assessment.Plus recreational paddling sessions as arranged
SUMMARY:2 day Paddlesport Instructor training and assessment PSI training for MSF paddlers by invitation only - Lee Valley Paddlesports Club
END:VEVENT
END:VCALENDAR
