BEGIN:VCALENDAR
METHOD:PUBLISH
PRODID:-//webcollect/lvpc//NONSGML v1.0//EN
BEGIN:VTIMEZONE
TZID:Europe/London
BEGIN:DAYLIGHT
TZOFFSETFROM:+0000
RRULE:FREQ=YEARLY;BYMONTH=3;BYDAY=-1SU
DTSTART:19810329T010000
TZNAME:BST
TZOFFSETTO:+0100
END:DAYLIGHT
BEGIN:STANDARD
TZOFFSETFROM:+0100
RRULE:FREQ=YEARLY;BYMONTH=10;BYDAY=-1SU
DTSTART:19961027T020000
TZNAME:GMT
TZOFFSETTO:+0000
END:STANDARD
END:VTIMEZONE
BEGIN:VEVENT
UID:event_product_453071@webcollect.org.uk
DTSTAMP:20260423T193200Z
ORGANIZER;CN=Pam Phillips:MAILTO:lvpcmembership@gmail.com
DTSTART;VALUE=DATE:20260429
SUMMARY:6.30-7.30 Olympic paddling (34 places avail) - Lee Valley Paddlesports Club
END:VEVENT
BEGIN:VEVENT
UID:event_product_453079@webcollect.org.uk
DTSTAMP:20260423T193200Z
ORGANIZER;CN=Pam Phillips:MAILTO:lvpcmembership@gmail.com
DTSTART;VALUE=DATE:20260429
SUMMARY:7.30-8.30 Olympic paddling (30 places avail) - Lee Valley Paddlesports Club
END:VEVENT
BEGIN:VEVENT
UID:event_product_461219@webcollect.org.uk
DTSTAMP:20260423T193200Z
ORGANIZER;CN=Pam Phillips:MAILTO:lvpcmembership@gmail.com
DTSTART;VALUE=DATE:20260506
SUMMARY:6.30-7.30 Olympic paddling (35 places avail) - Lee Valley Paddlesports Club
END:VEVENT
BEGIN:VEVENT
UID:event_product_461220@webcollect.org.uk
DTSTAMP:20260423T193200Z
ORGANIZER;CN=Pam Phillips:MAILTO:lvpcmembership@gmail.com
DTSTART;VALUE=DATE:20260506
SUMMARY:7.30-8.30 Olympic paddling (30 places avail) - Lee Valley Paddlesports Club
END:VEVENT
BEGIN:VEVENT
UID:event_product_461221@webcollect.org.uk
DTSTAMP:20260423T193200Z
ORGANIZER;CN=Pam Phillips:MAILTO:lvpcmembership@gmail.com
DTSTART;VALUE=DATE:20260513
SUMMARY:6.30-7.30 Olympic paddling (35 places avail) - Lee Valley Paddlesports Club
END:VEVENT
BEGIN:VEVENT
UID:event_product_461222@webcollect.org.uk
DTSTAMP:20260423T193200Z
ORGANIZER;CN=Pam Phillips:MAILTO:lvpcmembership@gmail.com
DTSTART;VALUE=DATE:20260513
SUMMARY:7.30-8.30 Olympic paddling (30 places avail) - Lee Valley Paddlesports Club
END:VEVENT
BEGIN:VEVENT
UID:event_product_461223@webcollect.org.uk
DTSTAMP:20260423T193200Z
ORGANIZER;CN=Pam Phillips:MAILTO:lvpcmembership@gmail.com
DTSTART;VALUE=DATE:20260520
SUMMARY:6.30-7.30 Olympic paddling (35 places avail) - Lee Valley Paddlesports Club
END:VEVENT
BEGIN:VEVENT
UID:event_product_461224@webcollect.org.uk
DTSTAMP:20260423T193200Z
ORGANIZER;CN=Pam Phillips:MAILTO:lvpcmembership@gmail.com
DTSTART;VALUE=DATE:20260520
SUMMARY:7.30-8.30 Olympic paddling (30 places avail) - Lee Valley Paddlesports Club
END:VEVENT
BEGIN:VEVENT
UID:event_product_461225@webcollect.org.uk
DTSTAMP:20260423T193200Z
ORGANIZER;CN=Pam Phillips:MAILTO:lvpcmembership@gmail.com
DTSTART;VALUE=DATE:20260527
SUMMARY:6.30-7.30 Olympic paddling (35 places avail) - Lee Valley Paddlesports Club
END:VEVENT
BEGIN:VEVENT
UID:event_product_461226@webcollect.org.uk
DTSTAMP:20260423T193200Z
ORGANIZER;CN=Pam Phillips:MAILTO:lvpcmembership@gmail.com
DTSTART;VALUE=DATE:20260527
SUMMARY:7.30-8.30 Olympic paddling (30 places avail) - Lee Valley Paddlesports Club
END:VEVENT
END:VCALENDAR
