BEGIN:VCALENDAR
METHOD:PUBLISH
PRODID:-//webcollect/lwcc//NONSGML v1.0//EN
BEGIN:VTIMEZONE
TZID:Europe/London
BEGIN:DAYLIGHT
TZOFFSETFROM:+0000
RRULE:FREQ=YEARLY;BYMONTH=3;BYDAY=-1SU
DTSTART:19810329T010000
TZNAME:BST
TZOFFSETTO:+0100
END:DAYLIGHT
BEGIN:STANDARD
TZOFFSETFROM:+0100
RRULE:FREQ=YEARLY;BYMONTH=10;BYDAY=-1SU
DTSTART:19961027T020000
TZNAME:GMT
TZOFFSETTO:+0000
END:STANDARD
END:VTIMEZONE
BEGIN:VEVENT
UID:event_product_462962@webcollect.org.uk
DTSTAMP:20260423T144955Z
ORGANIZER;CN=Lwcc Webcollect Admin:MAILTO:webcollect@lowerwharfe.org.uk
DTSTART;TZID=Europe/London:20260423T183000
DESCRIPTION:BRIDGE PADDLE LEAVES AT 6.30pm6pm arrival for Millennium Bridge paddlers for a 6:30pm start.****This trip is for experienced paddlers only - see below for details ****** Sessions will be paid for on the evening by cash and prices are as follows: Launch Fee only (bringing own boat) - £1Launch Fee + Boat Hire (up to 4 boats) for members - £4 (1 boat)\, £7.50 (2 boats)\, £10 (3 boats)\, £12.50 (4...
SUMMARY:Thursday Night Millennium Bridge Millennium Bridge Paddle Thursday 23rd April 2026(7 places avail) - Lower Wharfe Canoe Club
END:VEVENT
BEGIN:VEVENT
UID:event_product_463243@webcollect.org.uk
DTSTAMP:20260423T144955Z
ORGANIZER;CN=Lower Wharfe Canoe Club:MAILTO:webcollect@lowerwharfe.org.uk
DTSTART;TZID=Europe/London:20260426T180000
DTEND;TZID=Europe/London:20260426T184500
DESCRIPTION:THERE ARE NO SAFETY TESTS THIS WEEK as there are U8s in the pool in the first sessionPlease read the Pool Rules attachment on the booking form and acknowledge on the booking that you have understood and agreed to these Sunday Night Pool SessionsNew to the club or pool? Please select a safety test when you book your first session.Each session on a Sunday night will have at least one lead coach &...
SUMMARY:1st Session U8s\, Beginners\, Start & Early Discover 6.00 and 6.45 Pool Sessions 26th April 2026(7 places avail) - Lower Wharfe Canoe Club
END:VEVENT
BEGIN:VEVENT
UID:event_product_463244@webcollect.org.uk
DTSTAMP:20260423T144955Z
ORGANIZER;CN=Lower Wharfe Canoe Club:MAILTO:webcollect@lowerwharfe.org.uk
DTSTART;TZID=Europe/London:20260426T184500
DTEND;TZID=Europe/London:20260426T193000
DESCRIPTION:THERE ARE NO SAFETY TESTS THIS WEEK as there are U8s in the pool in the first sessionPlease read the Pool Rules attachment on the booking form and acknowledge on the booking that you have understood and agreed to these Sunday Night Pool SessionsNew to the club or pool? Please select a safety test when you book your first session.Each session on a Sunday night will have at least one lead coach &...
SUMMARY:2nd Session Advanced Discover & Explore\, Free Practice 6.00 and 6.45 Pool Sessions 26th April 2026(8 places avail) - Lower Wharfe Canoe Club
END:VEVENT
BEGIN:VEVENT
UID:event_product_462963@webcollect.org.uk
DTSTAMP:20260423T144955Z
ORGANIZER;CN=Jonny Grayson:MAILTO:jgrayson2185@yahoo.com
DTSTART;VALUE=DATE:20260517
DESCRIPTION:I am running an intro to Whitewater kayaking on Sunday 17th May. Come and have a go at white water kayaking We will aim to spend a few hours practising and learning about white water skills.I can only run this with 6 so it will be a small group session\, please sign up quickly. Once I have everyone signed up I can plan the event to suit the group.Venue will be confirmed nearer the time dependant...
SUMMARY:Intro to Whitewater Intro to Whitewater Sunday 17th May 2026(5 places avail) - Lower Wharfe Canoe Club
END:VEVENT
END:VCALENDAR
