BEGIN:VCALENDAR
METHOD:PUBLISH
PRODID:-//webcollect/mml//NONSGML v1.0//EN
BEGIN:VTIMEZONE
TZID:Europe/London
BEGIN:DAYLIGHT
TZOFFSETFROM:+0000
RRULE:FREQ=YEARLY;BYMONTH=3;BYDAY=-1SU
DTSTART:19810329T010000
TZNAME:BST
TZOFFSETTO:+0100
END:DAYLIGHT
BEGIN:STANDARD
TZOFFSETFROM:+0100
RRULE:FREQ=YEARLY;BYMONTH=10;BYDAY=-1SU
DTSTART:19961027T020000
TZNAME:GMT
TZOFFSETTO:+0000
END:STANDARD
END:VTIMEZONE
BEGIN:VEVENT
UID:event_product_462197@webcollect.org.uk
DTSTAMP:20260420T145231Z
ORGANIZER;CN=Vice President Maharashtra Mandal:MAILTO:vicepresident@mmlondon.co.uk
DTSTART;TZID=Europe/London:20260509T150000
DTEND;TZID=Europe/London:20260509T193000
DESCRIPTION:From the vibrant streets of Mumbai to the heart of London — experience the spirit of Maharashtra! ✨ Maharashtra Mandal London proudly presents ✨Maharashtra Day Celebration 2026A Feast Like No Other!Indulge in delicious food stalls serving your favorite Maharashtrian delights — we’ve got every craving covered!More Than Just Food…Enjoy an unforgettable evening of culture\, music\, and performances...
SUMMARY:Maharashtra Day Celebrations Maharashtra Day Celebration 2026 - Maharashtra Mandal London
END:VEVENT
END:VCALENDAR
