BEGIN:VCALENDAR
METHOD:PUBLISH
PRODID:-//webcollect/mumblesyc//NONSGML v1.0//EN
BEGIN:VTIMEZONE
TZID:Europe/London
BEGIN:DAYLIGHT
TZOFFSETFROM:+0000
RRULE:FREQ=YEARLY;BYMONTH=3;BYDAY=-1SU
DTSTART:19810329T010000
TZNAME:BST
TZOFFSETTO:+0100
END:DAYLIGHT
BEGIN:STANDARD
TZOFFSETFROM:+0100
RRULE:FREQ=YEARLY;BYMONTH=10;BYDAY=-1SU
DTSTART:19961027T020000
TZNAME:GMT
TZOFFSETTO:+0000
END:STANDARD
END:VTIMEZONE
BEGIN:VEVENT
UID:event_product_462076@webcollect.org.uk
DTSTAMP:20260423T145639Z
ORGANIZER;CN=Stewart McConnell:MAILTO:smcconnell24@hotmail.com
DTSTART;VALUE=DATE:20260510
DESCRIPTION:MUMBLES South League RaceSunday 10th May 2026• Registration: 8.00am – 9.30am.• Coxes Briefing: 9.45 am• First Race: 10.30am – Water Start (start line is 5 minutes from slip)• Race Order: Ladies\, Seniors\, Juniors/Novices\, Mixed Race• Sculls welcome• Race Distance\; 3.5 miles (2 miles for Novice /Junior)The Club galley will be open to purchase breakfast rolls\, tea and coffee.Food is included for...
SUMMARY:MUMBLES South League Race MUMBLES South League Race - Mumbles Yacht Club
LOCATION:Mumbles Yacht Club
END:VEVENT
END:VCALENDAR
