BEGIN:VCALENDAR
METHOD:PUBLISH
PRODID:-//webcollect/mwbc//NONSGML v1.0//EN
BEGIN:VTIMEZONE
TZID:Europe/London
BEGIN:DAYLIGHT
TZOFFSETFROM:+0000
RRULE:FREQ=YEARLY;BYMONTH=3;BYDAY=-1SU
DTSTART:19810329T010000
TZNAME:BST
TZOFFSETTO:+0100
END:DAYLIGHT
BEGIN:STANDARD
TZOFFSETFROM:+0100
RRULE:FREQ=YEARLY;BYMONTH=10;BYDAY=-1SU
DTSTART:19961027T020000
TZNAME:GMT
TZOFFSETTO:+0000
END:STANDARD
END:VTIMEZONE
BEGIN:VEVENT
UID:event_product_453715@webcollect.org.uk
DTSTAMP:20260421T132048Z
ORGANIZER;CN=Ali Mahdavi:MAILTO:ali.mahdavi@mwbc.org.uk
DTSTART;TZID=Europe/London:20260424T180000
DTEND;TZID=Europe/London:20260424T200000
DESCRIPTION:The Manvers photography group meet on Friday evenings start time 6pm until 8pm. Come along and enjoy a photography workshop in a relaxed friendly environment with like-minded people.There is something for everyone\, be it beginners or experienced photographers\, all are catered for\, with a monthly learning element and workshops planned around the monthly topic.New members very welcome.
SUMMARY:Manvers Photography Section 2026 Manvers Photography Section Meeting 6pm - 8pm Friday (12 places avail) - Manvers Waterfront Boat Club
LOCATION:Manvers Boathouse
END:VEVENT
BEGIN:VEVENT
UID:event_product_453716@webcollect.org.uk
DTSTAMP:20260421T132048Z
ORGANIZER;CN=Ali Mahdavi:MAILTO:ali.mahdavi@mwbc.org.uk
DTSTART;TZID=Europe/London:20260501T180000
DTEND;TZID=Europe/London:20260501T200000
DESCRIPTION:The Manvers photography group meet on Friday evenings start time 6pm until 8pm. Come along and enjoy a photography workshop in a relaxed friendly environment with like-minded people.There is something for everyone\, be it beginners or experienced photographers\, all are catered for\, with a monthly learning element and workshops planned around the monthly topic.New members very welcome.
SUMMARY:Manvers Photography Section 2026 Manvers Photography Section Meeting 6pm - 8pm Friday (11 places avail) - Manvers Waterfront Boat Club
LOCATION:Manvers Boathouse
END:VEVENT
BEGIN:VEVENT
UID:event_product_453717@webcollect.org.uk
DTSTAMP:20260421T132048Z
ORGANIZER;CN=Ali Mahdavi:MAILTO:ali.mahdavi@mwbc.org.uk
DTSTART;TZID=Europe/London:20260508T180000
DTEND;TZID=Europe/London:20260508T200000
DESCRIPTION:The Manvers photography group meet on Friday evenings start time 6pm until 8pm. Come along and enjoy a photography workshop in a relaxed friendly environment with like-minded people.There is something for everyone\, be it beginners or experienced photographers\, all are catered for\, with a monthly learning element and workshops planned around the monthly topic.New members very welcome.
SUMMARY:Manvers Photography Section 2026 Manvers Photography Section Meeting 6pm - 8pm Friday (12 places avail) - Manvers Waterfront Boat Club
LOCATION:Manvers Boathouse
END:VEVENT
BEGIN:VEVENT
UID:event_product_453718@webcollect.org.uk
DTSTAMP:20260421T132048Z
ORGANIZER;CN=Ali Mahdavi:MAILTO:ali.mahdavi@mwbc.org.uk
DTSTART;TZID=Europe/London:20260515T180000
DTEND;TZID=Europe/London:20260515T200000
DESCRIPTION:The Manvers photography group meet on Friday evenings start time 6pm until 8pm. Come along and enjoy a photography workshop in a relaxed friendly environment with like-minded people.There is something for everyone\, be it beginners or experienced photographers\, all are catered for\, with a monthly learning element and workshops planned around the monthly topic.New members very welcome.
SUMMARY:Manvers Photography Section 2026 Manvers Photography Section Meeting 6pm - 8pm Friday (11 places avail) - Manvers Waterfront Boat Club
LOCATION:Manvers Boathouse
END:VEVENT
BEGIN:VEVENT
UID:event_product_453719@webcollect.org.uk
DTSTAMP:20260421T132048Z
ORGANIZER;CN=Ali Mahdavi:MAILTO:ali.mahdavi@mwbc.org.uk
DTSTART;TZID=Europe/London:20260522T180000
DTEND;TZID=Europe/London:20260522T200000
DESCRIPTION:The Manvers photography group meet on Friday evenings start time 6pm until 8pm. Come along and enjoy a photography workshop in a relaxed friendly environment with like-minded people.There is something for everyone\, be it beginners or experienced photographers\, all are catered for\, with a monthly learning element and workshops planned around the monthly topic.New members very welcome.
SUMMARY:Manvers Photography Section 2026 Manvers Photography Section Meeting 6pm - 8pm Friday (12 places avail) - Manvers Waterfront Boat Club
LOCATION:Manvers Boathouse
END:VEVENT
BEGIN:VEVENT
UID:event_product_453720@webcollect.org.uk
DTSTAMP:20260421T132048Z
ORGANIZER;CN=Ali Mahdavi:MAILTO:ali.mahdavi@mwbc.org.uk
DTSTART;TZID=Europe/London:20260529T180000
DTEND;TZID=Europe/London:20260529T200000
DESCRIPTION:The Manvers photography group meet on Friday evenings start time 6pm until 8pm. Come along and enjoy a photography workshop in a relaxed friendly environment with like-minded people.There is something for everyone\, be it beginners or experienced photographers\, all are catered for\, with a monthly learning element and workshops planned around the monthly topic.New members very welcome.
SUMMARY:Manvers Photography Section 2026 Manvers Photography Section Meeting 6pm - 8pm Friday (11 places avail) - Manvers Waterfront Boat Club
LOCATION:Manvers Boathouse
END:VEVENT
BEGIN:VEVENT
UID:event_product_453724@webcollect.org.uk
DTSTAMP:20260421T132048Z
ORGANIZER;CN=Ali Mahdavi:MAILTO:ali.mahdavi@mwbc.org.uk
DTSTART;TZID=Europe/London:20260605T180000
DTEND;TZID=Europe/London:20260605T200000
DESCRIPTION:The Manvers photography group meet on Friday evenings start time 6pm until 8pm. Come along and enjoy a photography workshop in a relaxed friendly environment with like-minded people.There is something for everyone\, be it beginners or experienced photographers\, all are catered for\, with a monthly learning element and workshops planned around the monthly topic.New members very welcome.
SUMMARY:Manvers Photography Section 2026 Manvers Photography Section Meeting 6pm - 8pm Friday (11 places avail) - Manvers Waterfront Boat Club
LOCATION:Manvers Boathouse
END:VEVENT
BEGIN:VEVENT
UID:event_product_453725@webcollect.org.uk
DTSTAMP:20260421T132048Z
ORGANIZER;CN=Ali Mahdavi:MAILTO:ali.mahdavi@mwbc.org.uk
DTSTART;TZID=Europe/London:20260612T180000
DTEND;TZID=Europe/London:20260612T200000
DESCRIPTION:The Manvers photography group meet on Friday evenings start time 6pm until 8pm. Come along and enjoy a photography workshop in a relaxed friendly environment with like-minded people.There is something for everyone\, be it beginners or experienced photographers\, all are catered for\, with a monthly learning element and workshops planned around the monthly topic.New members very welcome.
SUMMARY:Manvers Photography Section 2026 Manvers Photography Section Meeting 6pm - 8pm Friday (11 places avail) - Manvers Waterfront Boat Club
LOCATION:Manvers Boathouse
END:VEVENT
BEGIN:VEVENT
UID:event_product_453726@webcollect.org.uk
DTSTAMP:20260421T132048Z
ORGANIZER;CN=Ali Mahdavi:MAILTO:ali.mahdavi@mwbc.org.uk
DTSTART;TZID=Europe/London:20260619T180000
DTEND;TZID=Europe/London:20260619T200000
DESCRIPTION:The Manvers photography group meet on Friday evenings start time 6pm until 8pm. Come along and enjoy a photography workshop in a relaxed friendly environment with like-minded people.There is something for everyone\, be it beginners or experienced photographers\, all are catered for\, with a monthly learning element and workshops planned around the monthly topic.New members very welcome.
SUMMARY:Manvers Photography Section 2026 Manvers Photography Section Meeting 6pm - 8pm Friday (11 places avail) - Manvers Waterfront Boat Club
LOCATION:Manvers Boathouse
END:VEVENT
BEGIN:VEVENT
UID:event_product_453727@webcollect.org.uk
DTSTAMP:20260421T132048Z
ORGANIZER;CN=Ali Mahdavi:MAILTO:ali.mahdavi@mwbc.org.uk
DTSTART;TZID=Europe/London:20260626T180000
DTEND;TZID=Europe/London:20260626T200000
DESCRIPTION:The Manvers photography group meet on Friday evenings start time 6pm until 8pm. Come along and enjoy a photography workshop in a relaxed friendly environment with like-minded people.There is something for everyone\, be it beginners or experienced photographers\, all are catered for\, with a monthly learning element and workshops planned around the monthly topic.New members very welcome.
SUMMARY:Manvers Photography Section 2026 Manvers Photography Section Meeting 6pm - 8pm Friday (11 places avail) - Manvers Waterfront Boat Club
LOCATION:Manvers Boathouse
END:VEVENT
END:VCALENDAR
