BEGIN:VCALENDAR
METHOD:PUBLISH
PRODID:-//webcollect/mwbc//NONSGML v1.0//EN
BEGIN:VTIMEZONE
TZID:Europe/London
BEGIN:DAYLIGHT
TZOFFSETFROM:+0000
RRULE:FREQ=YEARLY;BYMONTH=3;BYDAY=-1SU
DTSTART:19810329T010000
TZNAME:BST
TZOFFSETTO:+0100
END:DAYLIGHT
BEGIN:STANDARD
TZOFFSETFROM:+0100
RRULE:FREQ=YEARLY;BYMONTH=10;BYDAY=-1SU
DTSTART:19961027T020000
TZNAME:GMT
TZOFFSETTO:+0000
END:STANDARD
END:VTIMEZONE
BEGIN:VEVENT
UID:event_product_450100@webcollect.org.uk
DTSTAMP:20260421T081445Z
ORGANIZER;CN=Wayne Hubery:MAILTO:Wayne.hubery@mwbc.org.uk
DTSTART;VALUE=DATE:20260401
DESCRIPTION:For any member who wishes to join UK England Athletics (road running/Cross Country/Hill & Fell/Track and Field). "Team Manvers" as a Club is affiliated to England Athletics. UKA licences are individual i.e. personal to you the athlete.As an athlete registered with EA\, you are actively contributing to the growth and development of athletics. Your membership also gives you a wide range of...
SUMMARY:EA - Affiliation 2026/27 England Athletics - Annual Affiliation 2026/27 - Manvers Waterfront Boat Club
END:VEVENT
BEGIN:VEVENT
UID:event_product_458751@webcollect.org.uk
DTSTAMP:20260421T081445Z
ORGANIZER;CN=Mark Toller:MAILTO:mark.toller@mwbc.org.uk
DTSTART;TZID=Europe/London:20260427T183000
DTEND;TZID=Europe/London:20260427T193000
DESCRIPTION:Team Manvers On-Line Core Conditioning sessions PLEASE TEST YOUR ZOOM ACCESS BEFORE THE START WE WILL NOT HOLD THE CLASS TO SORT OUT IT ISSUESPlease ensure your webcam is ON\, The coach is only responsible for you if they can see you!Please be aware athletes attending the online sessions and Site sessions will see your Camera feedYou will need to download the ZOOM App or use a PC/MAC web...
SUMMARY:Strength and Conditioning Core Conditioning - Virtual (ZOOMIES) - Manvers Waterfront Boat Club
LOCATION:Zoom Meeting
END:VEVENT
BEGIN:VEVENT
UID:event_product_458752@webcollect.org.uk
DTSTAMP:20260421T081445Z
ORGANIZER;CN=Mark Toller:MAILTO:mark.toller@mwbc.org.uk
DTSTART;TZID=Europe/London:20260511T183000
DTEND;TZID=Europe/London:20260511T193000
DESCRIPTION:Team Manvers On-Line Core Conditioning sessions PLEASE TEST YOUR ZOOM ACCESS BEFORE THE START WE WILL NOT HOLD THE CLASS TO SORT OUT IT ISSUESPlease ensure your webcam is ON\, The coach is only responsible for you if they can see you!Please be aware athletes attending the online sessions and Site sessions will see your Camera feedYou will need to download the ZOOM App or use a PC/MAC web...
SUMMARY:Strength and Conditioning Core Conditioning - Virtual (ZOOMIES) - Manvers Waterfront Boat Club
LOCATION:Zoom Meeting
END:VEVENT
BEGIN:VEVENT
UID:event_product_458753@webcollect.org.uk
DTSTAMP:20260421T081445Z
ORGANIZER;CN=Mark Toller:MAILTO:mark.toller@mwbc.org.uk
DTSTART;TZID=Europe/London:20260518T183000
DTEND;TZID=Europe/London:20260518T193000
DESCRIPTION:Team Manvers On-Line Core Conditioning sessions PLEASE TEST YOUR ZOOM ACCESS BEFORE THE START WE WILL NOT HOLD THE CLASS TO SORT OUT IT ISSUESPlease ensure your webcam is ON\, The coach is only responsible for you if they can see you!Please be aware athletes attending the online sessions and Site sessions will see your Camera feedYou will need to download the ZOOM App or use a PC/MAC web...
SUMMARY:Strength and Conditioning Core Conditioning - Virtual (ZOOMIES) - Manvers Waterfront Boat Club
LOCATION:Zoom Meeting
END:VEVENT
END:VCALENDAR
