BEGIN:VCALENDAR
METHOD:PUBLISH
PRODID:-//webcollect/mydwsc//NONSGML v1.0//EN
BEGIN:VTIMEZONE
TZID:Europe/London
BEGIN:DAYLIGHT
TZOFFSETFROM:+0000
RRULE:FREQ=YEARLY;BYMONTH=3;BYDAY=-1SU
DTSTART:19810329T010000
TZNAME:BST
TZOFFSETTO:+0100
END:DAYLIGHT
BEGIN:STANDARD
TZOFFSETFROM:+0100
RRULE:FREQ=YEARLY;BYMONTH=10;BYDAY=-1SU
DTSTART:19961027T020000
TZNAME:GMT
TZOFFSETTO:+0000
END:STANDARD
END:VTIMEZONE
BEGIN:VEVENT
UID:event_product_459497@webcollect.org.uk
DTSTAMP:20260421T125214Z
ORGANIZER;CN=Dave Rowe:MAILTO:training@draycotewater.co.uk
DTSTART;VALUE=DATE:20260425
DESCRIPTION:As of February 2025\, booking is required for all campervans staying onsite due to the ANPR system.Draycote Academy and association training do not need to pay.Bookings close 1pm on the Friday of each weekend.If you are booking multiple weekends\, you can do so by adding each to the basket before completing checkout.Please note that parking is on hard standing surface at the far end of the lower...
SUMMARY:25/26 (feva open) Campervan Booking(13 places avail) - Draycote Water Sailing Club
LOCATION:Draycote Water Sailing Club
END:VEVENT
BEGIN:VEVENT
UID:event_product_459498@webcollect.org.uk
DTSTAMP:20260421T125214Z
ORGANIZER;CN=Dave Rowe:MAILTO:training@draycotewater.co.uk
DTSTART;VALUE=DATE:20260502
DESCRIPTION:As of February 2025\, booking is required for all campervans staying onsite due to the ANPR system.Draycote Academy and association training do not need to pay.Bookings close 1pm on the Friday of each weekend.If you are booking multiple weekends\, you can do so by adding each to the basket before completing checkout.Please note that parking is on hard standing surface at the far end of the lower...
SUMMARY:2/3 (cadet open) Campervan Booking(13 places avail) - Draycote Water Sailing Club
LOCATION:Draycote Water Sailing Club
END:VEVENT
END:VCALENDAR
