BEGIN:VCALENDAR
METHOD:PUBLISH
PRODID:-//webcollect/nbyc//NONSGML v1.0//EN
BEGIN:VTIMEZONE
TZID:Europe/London
BEGIN:DAYLIGHT
TZOFFSETFROM:+0000
RRULE:FREQ=YEARLY;BYMONTH=3;BYDAY=-1SU
DTSTART:19810329T010000
TZNAME:BST
TZOFFSETTO:+0100
END:DAYLIGHT
BEGIN:STANDARD
TZOFFSETFROM:+0100
RRULE:FREQ=YEARLY;BYMONTH=10;BYDAY=-1SU
DTSTART:19961027T020000
TZNAME:GMT
TZOFFSETTO:+0000
END:STANDARD
END:VTIMEZONE
BEGIN:VEVENT
UID:event_product_459107@webcollect.org.uk
DTSTAMP:20260421T080933Z
ORGANIZER;CN=NBYC Event:MAILTO:hello@nbyc.co.uk
DTSTART;VALUE=DATE:20260523
DESCRIPTION:Two day Power Boat Level 2 Course 23rd - 24th May\, Instructor: James Owen9.30am - meet in the HFTC (mobile classroom) until 4.30pm each day Course content: Launching and recovery\, boat handling\, securing to a buoy\, anchoring\, leaving and coming alongside\, man overboard Ability after course: Self-sufficient powerboater in the right conditions\, aware of own limitations and those of the craft Go...
SUMMARY:Two day PB2 course RYA Power Boat Level 2 May Course 2026(1 places avail) - Norfolk Broads Yacht Club Limited
LOCATION:Norfolk Broads Yacht Club
END:VEVENT
END:VCALENDAR
