BEGIN:VCALENDAR
METHOD:PUBLISH
PRODID:-//webcollect/nbyc//NONSGML v1.0//EN
BEGIN:VTIMEZONE
TZID:Europe/London
BEGIN:DAYLIGHT
TZOFFSETFROM:+0000
RRULE:FREQ=YEARLY;BYMONTH=3;BYDAY=-1SU
DTSTART:19810329T010000
TZNAME:BST
TZOFFSETTO:+0100
END:DAYLIGHT
BEGIN:STANDARD
TZOFFSETFROM:+0100
RRULE:FREQ=YEARLY;BYMONTH=10;BYDAY=-1SU
DTSTART:19961027T020000
TZNAME:GMT
TZOFFSETTO:+0000
END:STANDARD
END:VTIMEZONE
BEGIN:VEVENT
UID:event_product_444366@webcollect.org.uk
DTSTAMP:20260421T082835Z
ORGANIZER;CN=NBYC Training:MAILTO:training@nbyc.co.uk
DTSTART;VALUE=DATE:20260516
DESCRIPTION:We are delighted to offer the RYA Dinghy Instructor Course on the 29th June to 3rd July\, with a pre-entry assessment on Saturday 16th May 2026. If you are not able to make the dates of the pre-assessment\, please contact Ruth Owen to arrange an alternative date\, or you can complete the pre-assessment elsewhere prior to the course. Please use this page to book the Pre-Assessment element of the...
SUMMARY:Dinghy Instructor Course Pre-Assessment RYA Dinghy Instructor Course 2026: 1. Pre Assessment Booking(1 places avail) - Norfolk Broads Yacht Club Limited
LOCATION:Norfolk Broads Yacht Club 
END:VEVENT
BEGIN:VEVENT
UID:event_product_448985@webcollect.org.uk
DTSTAMP:20260421T082835Z
ORGANIZER;CN=NBYC Training:MAILTO:training@nbyc.co.uk
DTSTART;VALUE=DATE:20260516
DESCRIPTION:We are delighted to offer the RYA Dinghy Instructor Course on the 29th June to 3rd July\, with a pre-entry assessment on Saturday 16th May 2026. If you are not able to make the dates of the pre-assessment\, please contact Ruth Owen to arrange an alternative date\, or you can complete the pre-assessment elsewhere prior to the course.Please use this page to book the Dinghy Instructor Course\, 29th...
SUMMARY:Dinghy Instructor Course Pre-Assessment RYA Dinghy Instructor Course 2026: 2. Course Booking(full) - Norfolk Broads Yacht Club Limited
LOCATION:Norfolk Broads Yacht Club 
END:VEVENT
END:VCALENDAR
