BEGIN:VCALENDAR
METHOD:PUBLISH
PRODID:-//webcollect/npc//NONSGML v1.0//EN
BEGIN:VTIMEZONE
TZID:Europe/London
BEGIN:DAYLIGHT
TZOFFSETFROM:+0000
RRULE:FREQ=YEARLY;BYMONTH=3;BYDAY=-1SU
DTSTART:19810329T010000
TZNAME:BST
TZOFFSETTO:+0100
END:DAYLIGHT
BEGIN:STANDARD
TZOFFSETFROM:+0100
RRULE:FREQ=YEARLY;BYMONTH=10;BYDAY=-1SU
DTSTART:19961027T020000
TZNAME:GMT
TZOFFSETTO:+0000
END:STANDARD
END:VTIMEZONE
BEGIN:VEVENT
UID:event_product_438909@webcollect.org.uk
DTSTAMP:20260420T165539Z
ORGANIZER;CN=Kira Mason:MAILTO:kiraelizabethmason@outlook.com
DTSTART;VALUE=DATE:20251101
DESCRIPTION:The Norfolk Punt Club's Centenary Year MerchandiseThis page is for the Centenary Book created by Val Khambatta to memorialise the last 100 years of Norfolk Punt Club history. Made by members\, for members.Attached are some pictures and excerpts from the book\, please have a look and then buy your book!Please note that if you would like your book posted there is a £5 postage charge - which can be...
SUMMARY:Centenary Book(49 places avail) - Norfolk Punt Club
END:VEVENT
BEGIN:VEVENT
UID:event_product_438910@webcollect.org.uk
DTSTAMP:20260420T165539Z
ORGANIZER;CN=Kira Mason:MAILTO:kiraelizabethmason@outlook.com
DTSTART;VALUE=DATE:20251101
DESCRIPTION:The Norfolk Punt Club's Centenary Year MerchandiseThis page is for the Centenary BroachAttached to the right is an image of the broach and what it will look like. We are excited to see people coming to the incredible planned events wearing these broaches!
SUMMARY:Centenary Broach(76 places avail) - Norfolk Punt Club
END:VEVENT
BEGIN:VEVENT
UID:event_product_438908@webcollect.org.uk
DTSTAMP:20260420T165539Z
ORGANIZER;CN=Kira Mason:MAILTO:kiraelizabethmason@outlook.com
DTSTART;VALUE=DATE:20251101
DESCRIPTION:The Norfolk Punt Club's Centenary Year MerchandiseWe are so happy to announce to our membership that we have a range of centenary specific merchandise available to buy throughout the 2026 sailing season.The next few pages will bring you through all of the available merchandise for you to add to your basket and buy.Currently available Merchandise\;Centenary Book created by Val Khambatta to...
SUMMARY:Centenary Merchandise Landing Page(full) - Norfolk Punt Club
END:VEVENT
BEGIN:VEVENT
UID:event_product_439006@webcollect.org.uk
DTSTAMP:20260420T165539Z
ORGANIZER;CN=Kira Mason:MAILTO:kiraelizabethmason@outlook.com
DTSTART;VALUE=DATE:20251101
DESCRIPTION:The Norfolk Punt Club's Centenary Year MerchandiseIf you have ticked for your orders to be posted to you\, please add a ticket to your basket to cover the postage costs.Please note\, glasses are collection only. Everything else can be posted (but to save you money\, and us time\, we would love for you to collect if possible!)
SUMMARY:Delivery Costs Centenary Postage - Norfolk Punt Club
END:VEVENT
BEGIN:VEVENT
UID:event_product_438934@webcollect.org.uk
DTSTAMP:20260420T165539Z
ORGANIZER;CN=Kira Mason:MAILTO:kiraelizabethmason@outlook.com
DTSTART;VALUE=DATE:20251101
DESCRIPTION:The Norfolk Punt Club's Centenary Year MerchandiseThis page is for the Centenary PostersAttached are images of all of the posters. There are many posters available in different sizes.Posters will have the dates removed\, but will still refer to its relevant event.Please note that the purchase of a poster does not include a frame. This is a print only.Please make sure that you tick the size and...
SUMMARY:Poster A (October - Quiz Night) Centenary Posters - Norfolk Punt Club
END:VEVENT
BEGIN:VEVENT
UID:event_product_438935@webcollect.org.uk
DTSTAMP:20260420T165539Z
ORGANIZER;CN=Kira Mason:MAILTO:kiraelizabethmason@outlook.com
DTSTART;VALUE=DATE:20251101
DESCRIPTION:The Norfolk Punt Club's Centenary Year MerchandiseThis page is for the Centenary PostersAttached are images of all of the posters. There are many posters available in different sizes.Posters will have the dates removed\, but will still refer to its relevant event.Please note that the purchase of a poster does not include a frame. This is a print only.Please make sure that you tick the size and...
SUMMARY:Poster B (August - Punt Champs) Centenary Posters - Norfolk Punt Club
END:VEVENT
BEGIN:VEVENT
UID:event_product_438936@webcollect.org.uk
DTSTAMP:20260420T165539Z
ORGANIZER;CN=Kira Mason:MAILTO:kiraelizabethmason@outlook.com
DTSTART;VALUE=DATE:20251101
DESCRIPTION:The Norfolk Punt Club's Centenary Year MerchandiseThis page is for the Centenary PostersAttached are images of all of the posters. There are many posters available in different sizes.Posters will have the dates removed\, but will still refer to its relevant event.Please note that the purchase of a poster does not include a frame. This is a print only.Please make sure that you tick the size and...
SUMMARY:Poster C (June - River Cruiser Open) Centenary Posters - Norfolk Punt Club
END:VEVENT
BEGIN:VEVENT
UID:event_product_438937@webcollect.org.uk
DTSTAMP:20260420T165539Z
ORGANIZER;CN=Kira Mason:MAILTO:kiraelizabethmason@outlook.com
DTSTART;VALUE=DATE:20251101
DESCRIPTION:The Norfolk Punt Club's Centenary Year MerchandiseThis page is for the Centenary PostersAttached are images of all of the posters. There are many posters available in different sizes.Posters will have the dates removed\, but will still refer to its relevant event.Please note that the purchase of a poster does not include a frame. This is a print only.Please make sure that you tick the size and...
SUMMARY:Poster D (May - Movie on the Broads) Centenary Posters - Norfolk Punt Club
END:VEVENT
BEGIN:VEVENT
UID:event_product_438911@webcollect.org.uk
DTSTAMP:20260420T165539Z
ORGANIZER;CN=Kira Mason:MAILTO:kiraelizabethmason@outlook.com
DTSTART;VALUE=DATE:20251101
DESCRIPTION:The Norfolk Punt Club's Centenary Year MerchandiseThis page is for the Centenary PostersAttached are images of all of the posters. There are many posters available in different sizes.Posters will have the dates removed\, but will still refer to its relevant event.Please note that the purchase of a poster does not include a frame. This is a print only.Please make sure that you tick the size and...
SUMMARY:Poster E (May - Punt Open) Centenary Posters - Norfolk Punt Club
END:VEVENT
BEGIN:VEVENT
UID:event_product_438938@webcollect.org.uk
DTSTAMP:20260420T165539Z
ORGANIZER;CN=Kira Mason:MAILTO:kiraelizabethmason@outlook.com
DTSTART;VALUE=DATE:20251101
DESCRIPTION:The Norfolk Punt Club's Centenary Year MerchandiseThis page is for the Centenary PostersAttached are images of all of the posters. There are many posters available in different sizes.Posters will have the dates removed\, but will still refer to its relevant event.Please note that the purchase of a poster does not include a frame. This is a print only.Please make sure that you tick the size and...
SUMMARY:Poster F (June - Summer Party) Centenary Posters - Norfolk Punt Club
END:VEVENT
BEGIN:VEVENT
UID:event_product_438939@webcollect.org.uk
DTSTAMP:20260420T165539Z
ORGANIZER;CN=Kira Mason:MAILTO:kiraelizabethmason@outlook.com
DTSTART;VALUE=DATE:20251101
DESCRIPTION:The Norfolk Punt Club's Centenary Year MerchandiseThis page is for the Centenary PostersAttached are images of all of the posters. There are many posters available in different sizes.Posters will have the dates removed\, but will still refer to its relevant event.Please note that the purchase of a poster does not include a frame. This is a print only.Please make sure that you tick the size and...
SUMMARY:Poster G (October - Athene Cup) Centenary Posters - Norfolk Punt Club
END:VEVENT
BEGIN:VEVENT
UID:event_product_438940@webcollect.org.uk
DTSTAMP:20260420T165539Z
ORGANIZER;CN=Kira Mason:MAILTO:kiraelizabethmason@outlook.com
DTSTART;VALUE=DATE:20251101
DESCRIPTION:The Norfolk Punt Club's Centenary Year MerchandiseThis page is for the Centenary PostersAttached are images of all of the posters. There are many posters available in different sizes.Posters will have the dates removed\, but will still refer to its relevant event.Please note that the purchase of a poster does not include a frame. This is a print only.Please make sure that you tick the size and...
SUMMARY:Poster H (November - Laying Up Supper) Centenary Posters - Norfolk Punt Club
END:VEVENT
BEGIN:VEVENT
UID:event_product_438941@webcollect.org.uk
DTSTAMP:20260420T165539Z
ORGANIZER;CN=Kira Mason:MAILTO:kiraelizabethmason@outlook.com
DTSTART;VALUE=DATE:20251101
DESCRIPTION:The Norfolk Punt Club's Centenary Year MerchandiseThis page is for the Centenary PostersAttached are images of all of the posters. There are many posters available in different sizes.Posters will have the dates removed\, but will still refer to its relevant event.Please note that the purchase of a poster does not include a frame. This is a print only.Please make sure that you tick the size and...
SUMMARY:Poster I (September - Broadland Youth Regatta) Centenary Posters - Norfolk Punt Club
END:VEVENT
BEGIN:VEVENT
UID:event_product_438942@webcollect.org.uk
DTSTAMP:20260420T165539Z
ORGANIZER;CN=Kira Mason:MAILTO:kiraelizabethmason@outlook.com
DTSTART;VALUE=DATE:20251101
DESCRIPTION:The Norfolk Punt Club's Centenary Year MerchandiseThis page is for the Centenary PostersAttached are images of all of the posters. There are many posters available in different sizes.Posters will have the dates removed\, but will still refer to its relevant event.Please note that the purchase of a poster does not include a frame. This is a print only.Please make sure that you tick the size and...
SUMMARY:Poster J (July - Music on the Broads) Centenary Posters - Norfolk Punt Club
END:VEVENT
BEGIN:VEVENT
UID:event_product_438943@webcollect.org.uk
DTSTAMP:20260420T165539Z
ORGANIZER;CN=Kira Mason:MAILTO:kiraelizabethmason@outlook.com
DTSTART;VALUE=DATE:20251101
DESCRIPTION:The Norfolk Punt Club's Centenary Year MerchandiseThis page is for the Centenary PostersAttached are images of all of the posters. There are many posters available in different sizes.Posters will have the dates removed\, but will still refer to its relevant event.Please note that the purchase of a poster does not include a frame. This is a print only.Please make sure that you tick the size and...
SUMMARY:Poster K (August - Junior Week) Centenary Posters - Norfolk Punt Club
END:VEVENT
BEGIN:VEVENT
UID:event_product_438944@webcollect.org.uk
DTSTAMP:20260420T165539Z
ORGANIZER;CN=Kira Mason:MAILTO:kiraelizabethmason@outlook.com
DTSTART;VALUE=DATE:20251101
DESCRIPTION:The Norfolk Punt Club's Centenary Year MerchandiseThis page is for the Centenary PostersAttached are images of all of the posters. There are many posters available in different sizes.Posters will have the dates removed\, but will still refer to its relevant event.Please note that the purchase of a poster does not include a frame. This is a print only.Please make sure that you tick the size and...
SUMMARY:Poster L (August - Barton Regatta) Centenary Posters - Norfolk Punt Club
END:VEVENT
BEGIN:VEVENT
UID:event_product_439010@webcollect.org.uk
DTSTAMP:20260420T165539Z
ORGANIZER;CN=Kira Mason:MAILTO:kiraelizabethmason@outlook.com
DTSTART;VALUE=DATE:20251101
DESCRIPTION:The Norfolk Punt Club's Centenary Year MerchandiseThis page is for the Centenary PostersAttached are images of all of the posters. There are many posters available in different sizes.Posters will have the dates removed\, but will still refer to its relevant event.Please note that the purchase of a poster does not include a frame. This is a print only.Please make sure that you tick the size and...
SUMMARY:Poster M (December - Beach Walk) Centenary Posters - Norfolk Punt Club
END:VEVENT
BEGIN:VEVENT
UID:event_product_439011@webcollect.org.uk
DTSTAMP:20260420T165539Z
ORGANIZER;CN=Kira Mason:MAILTO:kiraelizabethmason@outlook.com
DTSTART;VALUE=DATE:20251101
DESCRIPTION:The Norfolk Punt Club's Centenary Year MerchandiseThis page is for the Centenary PostersAttached are images of all of the posters. There are many posters available in different sizes.Posters will have the dates removed\, but will still refer to its relevant event.Please note that the purchase of a poster does not include a frame. This is a print only.Please make sure that you tick the size and...
SUMMARY:Poster N (January - Treasure Hunt) Centenary Posters - Norfolk Punt Club
END:VEVENT
BEGIN:VEVENT
UID:event_product_439012@webcollect.org.uk
DTSTAMP:20260420T165539Z
ORGANIZER;CN=Kira Mason:MAILTO:kiraelizabethmason@outlook.com
DTSTART;VALUE=DATE:20251101
DESCRIPTION:The Norfolk Punt Club's Centenary Year MerchandiseThis page is for the Centenary PostersAttached are images of all of the posters. There are many posters available in different sizes.Posters will have the dates removed\, but will still refer to its relevant event.Please note that the purchase of a poster does not include a frame. This is a print only.Please make sure that you tick the size and...
SUMMARY:Poster O (June - Keelboat Open) Centenary Posters - Norfolk Punt Club
END:VEVENT
BEGIN:VEVENT
UID:event_product_439013@webcollect.org.uk
DTSTAMP:20260420T165539Z
ORGANIZER;CN=Kira Mason:MAILTO:kiraelizabethmason@outlook.com
DTSTART;VALUE=DATE:20251101
DESCRIPTION:The Norfolk Punt Club's Centenary Year MerchandiseThis page is for the Centenary PostersAttached are images of all of the posters. There are many posters available in different sizes.Posters will have the dates removed\, but will still refer to its relevant event.Please note that the purchase of a poster does not include a frame. This is a print only.Please make sure that you tick the size and...
SUMMARY:Poster P (April - Fitting Out Supper) Centenary Posters - Norfolk Punt Club
END:VEVENT
BEGIN:VEVENT
UID:event_product_439014@webcollect.org.uk
DTSTAMP:20260420T165539Z
ORGANIZER;CN=Kira Mason:MAILTO:kiraelizabethmason@outlook.com
DTSTART;VALUE=DATE:20251101
DESCRIPTION:The Norfolk Punt Club's Centenary Year MerchandiseThis page is for the Centenary PostersAttached are images of all of the posters. There are many posters available in different sizes.Posters will have the dates removed\, but will still refer to its relevant event.Please note that the purchase of a poster does not include a frame. This is a print only.Please make sure that you tick the size and...
SUMMARY:Poster Q (March - Heritage event) Centenary Posters - Norfolk Punt Club
END:VEVENT
BEGIN:VEVENT
UID:event_product_439015@webcollect.org.uk
DTSTAMP:20260420T165539Z
ORGANIZER;CN=Kira Mason:MAILTO:kiraelizabethmason@outlook.com
DTSTART;VALUE=DATE:20251101
DESCRIPTION:The Norfolk Punt Club's Centenary Year MerchandiseThis page is for the Centenary PostersAttached are images of all of the posters. There are many posters available in different sizes.Posters will have the dates removed\, but will still refer to its relevant event.Please note that the purchase of a poster does not include a frame. This is a print only.Please make sure that you tick the size and...
SUMMARY:Poster R (February - Annual Dinner) Centenary Posters - Norfolk Punt Club
END:VEVENT
END:VCALENDAR
