BEGIN:VCALENDAR
METHOD:PUBLISH
PRODID:-//webcollect/npc//NONSGML v1.0//EN
BEGIN:VTIMEZONE
TZID:Europe/London
BEGIN:DAYLIGHT
TZOFFSETFROM:+0000
RRULE:FREQ=YEARLY;BYMONTH=3;BYDAY=-1SU
DTSTART:19810329T010000
TZNAME:BST
TZOFFSETTO:+0100
END:DAYLIGHT
BEGIN:STANDARD
TZOFFSETFROM:+0100
RRULE:FREQ=YEARLY;BYMONTH=10;BYDAY=-1SU
DTSTART:19961027T020000
TZNAME:GMT
TZOFFSETTO:+0000
END:STANDARD
END:VTIMEZONE
BEGIN:VEVENT
UID:event_product_449963@webcollect.org.uk
DTSTAMP:20260420T165833Z
ORGANIZER;CN=Bill Glover:MAILTO:gloverwil@gmail.com
DTSTART;TZID=Europe/London:20260516T093000
DTEND;TZID=Europe/London:20260516T163000
DESCRIPTION:Complete Beginner or only ever crewed and been told what to do?orYou know the basics but want to improve?Enjoyed the previous courses so much you want to come again?Then this course is for you.Dinghies and or Keelboats.This is designed to have four training sessions onSaturday 16 May 2026: 9.30am to 4.30pmSaturday 30 May 2026: 9.30am to 4.30pmSaturday 20 June 2026: 9.30am to 4.30pmSaturday 4...
SUMMARY:Complete Course Learning to Sail/Better Sailing(full) - Norfolk Punt Club
LOCATION:Barton Broad
END:VEVENT
BEGIN:VEVENT
UID:event_product_449961@webcollect.org.uk
DTSTAMP:20260420T165833Z
ORGANIZER;CN=Bill Glover:MAILTO:gloverwil@gmail.com
DTSTART;TZID=Europe/London:20260516T093000
DTEND;TZID=Europe/London:20260516T163000
DESCRIPTION:Complete Beginner or only ever crewed and been told what to do?orYou know the basics but want to improve?Enjoyed the previous courses so much you want to come again?Then this course is for you.Dinghies and or Keelboats.This is designed to have four training sessions onSaturday 16 May 2026: 9.30am to 4.30pmSaturday 30 May 2026: 9.30am to 4.30pmSaturday 20 June 2026: 9.30am to 4.30pmSaturday 4...
SUMMARY:Saturday Learning to Sail/Better Sailing(5 places avail) - Norfolk Punt Club
LOCATION:Barton Broad
END:VEVENT
BEGIN:VEVENT
UID:event_product_449962@webcollect.org.uk
DTSTAMP:20260420T165833Z
ORGANIZER;CN=Bill Glover:MAILTO:gloverwil@gmail.com
DTSTART;TZID=Europe/London:20260530T093000
DTEND;TZID=Europe/London:20260530T163000
DESCRIPTION:Complete Beginner or only ever crewed and been told what to do?orYou know the basics but want to improve?Enjoyed the previous courses so much you want to come again?Then this course is for you.Dinghies and or Keelboats.This is designed to have four training sessions onSaturday 16 May 2026: 9.30am to 4.30pmSaturday 30 May 2026: 9.30am to 4.30pmSaturday 20 June 2026: 9.30am to 4.30pmSaturday 4...
SUMMARY:Saturday Learning to Sail/Better Sailing(6 places avail) - Norfolk Punt Club
LOCATION:Barton Broad
END:VEVENT
BEGIN:VEVENT
UID:event_product_449964@webcollect.org.uk
DTSTAMP:20260420T165833Z
ORGANIZER;CN=Bill Glover:MAILTO:gloverwil@gmail.com
DTSTART;TZID=Europe/London:20260620T093000
DTEND;TZID=Europe/London:20260620T163000
DESCRIPTION:Complete Beginner or only ever crewed and been told what to do?orYou know the basics but want to improve?Enjoyed the previous courses so much you want to come again?Then this course is for you.Dinghies and or Keelboats.This is designed to have four training sessions onSaturday 16 May 2026: 9.30am to 4.30pmSaturday 30 May 2026: 9.30am to 4.30pmSaturday 20 June 2026: 9.30am to 4.30pmSaturday 4...
SUMMARY:Saturday Learning to Sail/Better Sailing(6 places avail) - Norfolk Punt Club
LOCATION:Barton Broad
END:VEVENT
BEGIN:VEVENT
UID:event_product_449965@webcollect.org.uk
DTSTAMP:20260420T165833Z
ORGANIZER;CN=Bill Glover:MAILTO:gloverwil@gmail.com
DTSTART;TZID=Europe/London:20260704T093000
DTEND;TZID=Europe/London:20260704T163000
DESCRIPTION:Complete Beginner or only ever crewed and been told what to do?orYou know the basics but want to improve?Enjoyed the previous courses so much you want to come again?Then this course is for you.Dinghies and or Keelboats.This is designed to have four training sessions onSaturday 16 May 2026: 9.30am to 4.30pmSaturday 30 May 2026: 9.30am to 4.30pmSaturday 20 June 2026: 9.30am to 4.30pmSaturday 4...
SUMMARY:Saturday Learning to Sail/Better Sailing(6 places avail) - Norfolk Punt Club
LOCATION:Barton Broad
END:VEVENT
END:VCALENDAR
