BEGIN:VCALENDAR
METHOD:PUBLISH
PRODID:-//webcollect/npc//NONSGML v1.0//EN
BEGIN:VTIMEZONE
TZID:Europe/London
BEGIN:DAYLIGHT
TZOFFSETFROM:+0000
RRULE:FREQ=YEARLY;BYMONTH=3;BYDAY=-1SU
DTSTART:19810329T010000
TZNAME:BST
TZOFFSETTO:+0100
END:DAYLIGHT
BEGIN:STANDARD
TZOFFSETFROM:+0100
RRULE:FREQ=YEARLY;BYMONTH=10;BYDAY=-1SU
DTSTART:19961027T020000
TZNAME:GMT
TZOFFSETTO:+0000
END:STANDARD
END:VTIMEZONE
BEGIN:VEVENT
UID:event_product_449971@webcollect.org.uk
DTSTAMP:20260420T181812Z
ORGANIZER;CN=Secretary Amanda:MAILTO:sec@puntclub.co.uk
DTSTART;VALUE=DATE:20260822
DESCRIPTION:We look forward to welcoming visiting sailors for a super weekend of racing at the Punt Championships on 22nd & 23rd August 2026\, a spectacular event\, not to be missed! Tow at 10.30am from the NPC moorings at Barton Turf Staithe. Briefing at 11am Races:Saturday at 12 noon\, 2pm and 4pmSunday at 10.30am and 12 noon\, followed by Prize Giving Racing for:Punt Championship Cup - Winner on...
SUMMARY:Punt Championship Open 2026 - Norfolk Punt Club
LOCATION:Barton Broad
END:VEVENT
END:VCALENDAR
