BEGIN:VCALENDAR
METHOD:PUBLISH
PRODID:-//webcollect/npc//NONSGML v1.0//EN
BEGIN:VTIMEZONE
TZID:Europe/London
BEGIN:DAYLIGHT
TZOFFSETFROM:+0000
RRULE:FREQ=YEARLY;BYMONTH=3;BYDAY=-1SU
DTSTART:19810329T010000
TZNAME:BST
TZOFFSETTO:+0100
END:DAYLIGHT
BEGIN:STANDARD
TZOFFSETFROM:+0100
RRULE:FREQ=YEARLY;BYMONTH=10;BYDAY=-1SU
DTSTART:19961027T020000
TZNAME:GMT
TZOFFSETTO:+0000
END:STANDARD
END:VTIMEZONE
BEGIN:VEVENT
UID:event_product_449968@webcollect.org.uk
DTSTAMP:20260420T165808Z
ORGANIZER;CN=Secretary Amanda:MAILTO:sec@puntclub.co.uk
DTSTART;VALUE=DATE:20260509
DESCRIPTION:We look forward to welcoming visiting Punts to the Norfolk Punt Club's Centenary Punt Open on 9 and 10 May 2026. Tow outs will be available from the NPC moorings\, Barton Turf\, at 10am on Saturday and 9.30am on Sunday.Saturday 9 May - Briefing 11.00am (NPC pontoon\, Barton Broad)\, races at 12 noon\, 2pm & 4pmSunday 10 May - Races 10.30am and 12 noon. Prizegiving will commence around 1.30pm.Racing...
SUMMARY:Punt Open 2026 - Norfolk Punt Club
LOCATION:Barton Broad
END:VEVENT
END:VCALENDAR
