BEGIN:VCALENDAR
METHOD:PUBLISH
PRODID:-//webcollect/npc//NONSGML v1.0//EN
BEGIN:VTIMEZONE
TZID:Europe/London
BEGIN:DAYLIGHT
TZOFFSETFROM:+0000
RRULE:FREQ=YEARLY;BYMONTH=3;BYDAY=-1SU
DTSTART:19810329T010000
TZNAME:BST
TZOFFSETTO:+0100
END:DAYLIGHT
BEGIN:STANDARD
TZOFFSETFROM:+0100
RRULE:FREQ=YEARLY;BYMONTH=10;BYDAY=-1SU
DTSTART:19961027T020000
TZNAME:GMT
TZOFFSETTO:+0000
END:STANDARD
END:VTIMEZONE
BEGIN:VEVENT
UID:event_product_449969@webcollect.org.uk
DTSTAMP:20260420T170150Z
ORGANIZER;CN=Secretary Amanda:MAILTO:sec@puntclub.co.uk
DTSTART;VALUE=DATE:20260606
DESCRIPTION:We look forward to welcoming visiting River Cruisers back to Barton Broad for a weekend of fantastic racing at the NPC's Centenary River Cruiser Open on 6 and 7 June 2026. Results to count for the Sabrina and Snowbird RCC trophies.Briefing Saturday at 1pm\, races at 2pm and 4pmRaces Sunday 10.00am and 12pm Starts will be for faster (A) and slower (B) boats\, the fleet split to be decided once...
SUMMARY:River Cruiser Open 2026 - Norfolk Punt Club
LOCATION:Barton Broad
END:VEVENT
END:VCALENDAR
