BEGIN:VCALENDAR
METHOD:PUBLISH
PRODID:-//webcollect/npc//NONSGML v1.0//EN
BEGIN:VTIMEZONE
TZID:Europe/London
BEGIN:DAYLIGHT
TZOFFSETFROM:+0000
RRULE:FREQ=YEARLY;BYMONTH=3;BYDAY=-1SU
DTSTART:19810329T010000
TZNAME:BST
TZOFFSETTO:+0100
END:DAYLIGHT
BEGIN:STANDARD
TZOFFSETFROM:+0100
RRULE:FREQ=YEARLY;BYMONTH=10;BYDAY=-1SU
DTSTART:19961027T020000
TZNAME:GMT
TZOFFSETTO:+0000
END:STANDARD
END:VTIMEZONE
BEGIN:VEVENT
UID:event_product_449970@webcollect.org.uk
DTSTAMP:20260420T170028Z
ORGANIZER;CN=Secretary Amanda:MAILTO:sec@puntclub.co.uk
DTSTART;VALUE=DATE:20260613
DESCRIPTION:We look forward to welcoming you to our NPC Centenary Yare and Bure One Design and Keelboat Open on Saturday 13th and Sunday 14th June 2026. Programme as follows:Saturday tow out 10.30am from the StaitheBriefing Saturday at 11am\, races at 12.00\, 2pm and 4pmRaces Sunday 10.00am and 12pmOpen to all Yare and Bure One Design\, Yeoman and other keel boats The Commodore and race team would like to...
SUMMARY:Boat entry Yare and Bure One Design and Keelboat Open 2026 - Norfolk Punt Club
LOCATION:Barton Broad
END:VEVENT
END:VCALENDAR
