BEGIN:VCALENDAR
METHOD:PUBLISH
PRODID:-//webcollect/npc//NONSGML v1.0//EN
BEGIN:VTIMEZONE
TZID:Europe/London
BEGIN:DAYLIGHT
TZOFFSETFROM:+0000
RRULE:FREQ=YEARLY;BYMONTH=3;BYDAY=-1SU
DTSTART:19810329T010000
TZNAME:BST
TZOFFSETTO:+0100
END:DAYLIGHT
BEGIN:STANDARD
TZOFFSETFROM:+0100
RRULE:FREQ=YEARLY;BYMONTH=10;BYDAY=-1SU
DTSTART:19961027T020000
TZNAME:GMT
TZOFFSETTO:+0000
END:STANDARD
END:VTIMEZONE
BEGIN:VEVENT
UID:event_product_449039@webcollect.org.uk
DTSTAMP:20260420T194654Z
ORGANIZER;CN=Ian Mason:MAILTO:ian@kjim.co.uk
DTSTART;VALUE=DATE:20260502
DESCRIPTION:Welcome to the Home of Safety Boat courses for the Norfolk Punt Club! This course is the more advanced\, life saving course that the RYA runs\, and is the recommendation for supporting with safety boat duty for the Club.You will need to have completed\, and bring a copy of your Powerboat Level 2 to sign onto this course. Please ensure you are mobile enough to get in and out of the safety boats...
SUMMARY:RYA SB RYA Safety Boat Course(4 places avail) - Norfolk Punt Club
LOCATION:Barton Broad
END:VEVENT
END:VCALENDAR
