BEGIN:VCALENDAR
METHOD:PUBLISH
PRODID:-//webcollect/opera//NONSGML v1.0//EN
BEGIN:VTIMEZONE
TZID:Europe/London
BEGIN:DAYLIGHT
TZOFFSETFROM:+0000
RRULE:FREQ=YEARLY;BYMONTH=3;BYDAY=-1SU
DTSTART:19810329T010000
TZNAME:BST
TZOFFSETTO:+0100
END:DAYLIGHT
BEGIN:STANDARD
TZOFFSETFROM:+0100
RRULE:FREQ=YEARLY;BYMONTH=10;BYDAY=-1SU
DTSTART:19961027T020000
TZNAME:GMT
TZOFFSETTO:+0000
END:STANDARD
END:VTIMEZONE
BEGIN:VEVENT
UID:event_product_453797@webcollect.org.uk
DTSTAMP:20260423T183017Z
ORGANIZER;CN=Ian Wells-Gaston:MAILTO:ianw_g@oilpera.com
DTSTART;TZID=Europe/London:20260512T123000
DTEND;TZID=Europe/London:20260512T143000
DESCRIPTION:OPERA Presentation - May 2026Date and Time: Tuesday 12th May 2026- IN PERSON - 12:30pm onwards (pre meeting drinks and networking)- ONLINE - Presentation commences at 1pm.Speaker: Stephen Beedle - TUV (speaker bio and presentation summary attached)Venue (In Person only booked attendees please): Liberty\, 20 Fenchurch Street\, London\, EC3M 3AW - PRE REGISTRATION AND PHOTO ID WILL BE REQUIRED FOR...
SUMMARY:IN PERSON ONLY attendance - currently subscribed OPERA members only OPERA Online/In Person Presentation – Quantified Risk Assessment (QRA) do they help or do they mislead?(3 places avail) - OPERA
LOCATION:Liberty\, 20 Fenchurch Street London EC3M 3AW
END:VEVENT
BEGIN:VEVENT
UID:event_product_453796@webcollect.org.uk
DTSTAMP:20260423T183017Z
ORGANIZER;CN=Ian Wells-Gaston:MAILTO:ianw_g@oilpera.com
DTSTART;TZID=Europe/London:20260512T130000
DTEND;TZID=Europe/London:20260512T143000
DESCRIPTION:OPERA Presentation - May 2026Date and Time: Tuesday 12th May 2026- IN PERSON - 12:30pm onwards (pre meeting drinks and networking)- ONLINE - Presentation commences at 1pm.Speaker: Stephen Beedle - TUV (speaker bio and presentation summary attached)Venue (In Person only booked attendees please): Liberty\, 20 Fenchurch Street\, London\, EC3M 3AW - PRE REGISTRATION AND PHOTO ID WILL BE REQUIRED FOR...
SUMMARY:ONLINE ONLY attendance - currently subscribed OPERA members only OPERA Online/In Person Presentation – Quantified Risk Assessment (QRA) do they help or do they mislead?(213 places avail) - OPERA
LOCATION:Liberty\, 20 Fenchurch Street London EC3M 3AW
END:VEVENT
END:VCALENDAR
