BEGIN:VCALENDAR
METHOD:PUBLISH
PRODID:-//webcollect/pbsc//NONSGML v1.0//EN
BEGIN:VTIMEZONE
TZID:Europe/London
BEGIN:DAYLIGHT
TZOFFSETFROM:+0000
RRULE:FREQ=YEARLY;BYMONTH=3;BYDAY=-1SU
DTSTART:19810329T010000
TZNAME:BST
TZOFFSETTO:+0100
END:DAYLIGHT
BEGIN:STANDARD
TZOFFSETFROM:+0100
RRULE:FREQ=YEARLY;BYMONTH=10;BYDAY=-1SU
DTSTART:19961027T020000
TZNAME:GMT
TZOFFSETTO:+0000
END:STANDARD
END:VTIMEZONE
BEGIN:VEVENT
UID:event_product_434906@webcollect.org.uk
DTSTAMP:20260420T172238Z
ORGANIZER;CN=Emma Laurens:MAILTO:training@pbsc.org.uk
DTSTART;VALUE=DATE:20260505
DESCRIPTION:An introduction to sailing dinghies for complete beginners\, covering everything you need to know to get afloat under supervision. DATESThe course runs from 5th May to 9th June 2026 on Tuesday evenings from 18:00 - 22:00hrs (to be confirmed). FEESThe course costs £138 plus your membership fees and includes tuition from RYA-qualified instructors\, use of the club boats and buoyancy aid\, logbook &...
SUMMARY:RYA Dinghy Level 1 - Tuesday Evenings(13 places avail) - Pevensey Bay Sailing Club
LOCATION:Pevensey Bay Sailing Club
END:VEVENT
BEGIN:VEVENT
UID:event_product_459075@webcollect.org.uk
DTSTAMP:20260420T172238Z
ORGANIZER;CN=Emma Laurens:MAILTO:training@pbsc.org.uk
DTSTART;VALUE=DATE:20260507
DESCRIPTION:DATESThe course runs for 6 weeks from 7th May to 11th June\, Thursday evenings 18:00 - 22:00hrs.FEES - £138 (members only)CONTENTRYA Dinghy Level 3 - Better SailingImprove your sailing consolidating skills and trying new ones in a variety of conditions.Additional module options are Seamanship Skills and Day Sailing Skills....
SUMMARY:RYA Dinghy Level 3 - Thursday Evenings(1 places avail) - Pevensey Bay Sailing Club
LOCATION:Pevensey Bay Sailing Club
END:VEVENT
BEGIN:VEVENT
UID:event_product_434909@webcollect.org.uk
DTSTAMP:20260420T172238Z
ORGANIZER;CN=Emma Laurens:MAILTO:training@pbsc.org.uk
DTSTART;VALUE=DATE:20260509
DESCRIPTION:RYA Powerboat Course Level 2TWO DAY COURSE AT PEVENSEY BAY SAILING CLUBWEEKEND 9/10TH MAY 2026 (to be confirmed)Our course is open to club members 17 years and older.Provides the skills and background knowledge needed by the competent powerboat driver and is the basis of the International Certificate of Competence. It aims to teach boat handling and seamanship in powerboats. It focuses on low...
SUMMARY:Powerboat Level 2 RYA Powerboat Level 2(full) - Pevensey Bay Sailing Club
LOCATION:Pevensey Bay Sailing Club
END:VEVENT
BEGIN:VEVENT
UID:event_product_434899@webcollect.org.uk
DTSTAMP:20260420T172238Z
ORGANIZER;CN=Emma Laurens:MAILTO:training@pbsc.org.uk
DTSTART;VALUE=DATE:20260616
DESCRIPTION:Build your confidence and develop your skills. By the end of this course you'll be a competent sailor in light winds. DATESThe course runs from 16th June to 21st July\, Tuesday evenings 18:00 - 22:00hrs (to be confirmed). FEESThe course costs £138 (plus membership fees). It includes tuition from RYA-qualified instructors\, use of the club boats and buoyancy aid for the year. CONTENTRigging\,...
SUMMARY:RYA Dinghy Level 2 - Tuesday Evenings(12 places avail) - Pevensey Bay Sailing Club
LOCATION:Pevensey Bay Sailing Club
END:VEVENT
BEGIN:VEVENT
UID:event_product_434907@webcollect.org.uk
DTSTAMP:20260420T172238Z
ORGANIZER;CN=Emma Laurens:MAILTO:training@pbsc.org.uk
DTSTART;VALUE=DATE:20260919
DESCRIPTION:RYA SAFETY BOAT COURSEWeekend of the 19th & 20th September (09:00 - 17:00hrs) This two-day course provides the skills required when acting as an escort craft\, safety boat or coach boat for a fleet of dinghies\, windsurfers or canoes\, or for racing or training activities. It includes rescue techniques and elements of race management and mark laying. It is strongly recommended that a member of the...
SUMMARY:RYA Safety Boat Course 2026(5 places avail) - Pevensey Bay Sailing Club
LOCATION:Pevensey Bay Sailing Club
END:VEVENT
END:VCALENDAR
