BEGIN:VCALENDAR
METHOD:PUBLISH
PRODID:-//webcollect/sacc//NONSGML v1.0//EN
BEGIN:VTIMEZONE
TZID:Europe/London
BEGIN:DAYLIGHT
TZOFFSETFROM:+0000
RRULE:FREQ=YEARLY;BYMONTH=3;BYDAY=-1SU
DTSTART:19810329T010000
TZNAME:BST
TZOFFSETTO:+0100
END:DAYLIGHT
BEGIN:STANDARD
TZOFFSETFROM:+0100
RRULE:FREQ=YEARLY;BYMONTH=10;BYDAY=-1SU
DTSTART:19961027T020000
TZNAME:GMT
TZOFFSETTO:+0000
END:STANDARD
END:VTIMEZONE
BEGIN:VEVENT
UID:event_product_403175@webcollect.org.uk
DTSTAMP:20260421T081446Z
ORGANIZER;CN=SACC ADMIN:MAILTO:southavoncanoeclub@gmail.com
DTSTART;VALUE=DATE:20260605
DESCRIPTION:The weekends at Biblins\, near Symonds Yat\, are your chance to get some coaching and obtain some personal qualifications.If you need to book a boat you will need to contact Colin Southcombe and book it. You will be responsible for collecting and returning the boat to the store THE CLUB TRAILER DOES NOT GO TO BIBLINS To make your booking please select the date/s and type and add to basket until...
SUMMARY:Biblins Training Camp - North Somerset Paddlesport Club
END:VEVENT
BEGIN:VEVENT
UID:event_product_444355@webcollect.org.uk
DTSTAMP:20260421T081446Z
ORGANIZER;CN=SACC ADMIN:MAILTO:southavoncanoeclub@gmail.com
DTSTART;VALUE=DATE:20260620
DESCRIPTION:Club paddle.Weston bay up the Axe.A WhatsApp group will be setup near to the time to enable planning and lift sharing.
SUMMARY:Club Paddle (Garry P) - North Somerset Paddlesport Club
END:VEVENT
BEGIN:VEVENT
UID:event_product_444354@webcollect.org.uk
DTSTAMP:20260421T081446Z
ORGANIZER;CN=SACC ADMIN:MAILTO:southavoncanoeclub@gmail.com
DTSTART;VALUE=DATE:20260911
DESCRIPTION:The weekends at Biblins\, near Symonds Yat\, are your chance to get some coaching and obtain some personal qualifications.If you need to book a boat you will need to contact Colin Southcombe and book it. You will be responsible for collecting and returning the boat to the store THE CLUB TRAILER DOES NOT GO TO BIBLINS To make your booking please select the date/s and type and add to basket until...
SUMMARY:Biblins Training Camp - North Somerset Paddlesport Club
END:VEVENT
END:VCALENDAR
