BEGIN:VCALENDAR
METHOD:PUBLISH
PRODID:-//webcollect/salterns//NONSGML v1.0//EN
BEGIN:VTIMEZONE
TZID:Europe/London
BEGIN:DAYLIGHT
TZOFFSETFROM:+0000
RRULE:FREQ=YEARLY;BYMONTH=3;BYDAY=-1SU
DTSTART:19810329T010000
TZNAME:BST
TZOFFSETTO:+0100
END:DAYLIGHT
BEGIN:STANDARD
TZOFFSETFROM:+0100
RRULE:FREQ=YEARLY;BYMONTH=10;BYDAY=-1SU
DTSTART:19961027T020000
TZNAME:GMT
TZOFFSETTO:+0000
END:STANDARD
END:VTIMEZONE
BEGIN:VEVENT
UID:event_product_456726@webcollect.org.uk
DTSTAMP:20260420T054238Z
ORGANIZER;CN=Salterns Membership:MAILTO:salternsmembership@gmail.com
DTSTART;VALUE=DATE:20260309
DESCRIPTION:PLEASE DO NOT BOOK ONTO AN EVENT WITHOUT FIRST SPEAKING TO YOUR SALTERNS SAILING CLUB COORDINATOR AT YOUR CLUBYou will be purchasing an Associate Membership for your child to sail in an allocated time slot within your Affiliate Group slot during 2026\, from April 2026 to October 2026.Sessions for Sailing and Yacht Club Affiliate Groups run only during term time and\, for those groups\, use of the...
SUMMARY:Keyhaven YC 2026 - Sailing/Yacht Club Associate Members - Salterns Sailing Club
END:VEVENT
BEGIN:VEVENT
UID:event_product_456727@webcollect.org.uk
DTSTAMP:20260420T054238Z
ORGANIZER;CN=Salterns Membership:MAILTO:salternsmembership@gmail.com
DTSTART;VALUE=DATE:20260309
DESCRIPTION:PLEASE DO NOT BOOK ONTO AN EVENT WITHOUT FIRST SPEAKING TO YOUR SALTERNS SAILING CLUB COORDINATOR AT YOUR CLUBYou will be purchasing an Associate Membership for your child to sail in an allocated time slot within your Affiliate Group slot during 2026\, from April 2026 to October 2026.Sessions for Sailing and Yacht Club Affiliate Groups run only during term time and\, for those groups\, use of the...
SUMMARY:Lymington Town SC 2026 - Sailing/Yacht Club Associate Members - Salterns Sailing Club
END:VEVENT
BEGIN:VEVENT
UID:event_product_456728@webcollect.org.uk
DTSTAMP:20260420T054238Z
ORGANIZER;CN=Salterns Membership:MAILTO:salternsmembership@gmail.com
DTSTART;VALUE=DATE:20260309
DESCRIPTION:PLEASE DO NOT BOOK ONTO AN EVENT WITHOUT FIRST SPEAKING TO YOUR SALTERNS SAILING CLUB COORDINATOR AT YOUR CLUBYou will be purchasing an Associate Membership for your child to sail in an allocated time slot within your Affiliate Group slot during 2026\, from April 2026 to October 2026.Sessions for Sailing and Yacht Club Affiliate Groups run only during term time and\, for those groups\, use of the...
SUMMARY:Royal Lymington YC 2026 - Sailing/Yacht Club Associate Members - Salterns Sailing Club
END:VEVENT
BEGIN:VEVENT
UID:event_product_456731@webcollect.org.uk
DTSTAMP:20260420T054238Z
ORGANIZER;CN=Salterns Membership:MAILTO:salternsmembership@gmail.com
DTSTART;VALUE=DATE:20260309
DESCRIPTION:PLEASE DO NOT BOOK ONTO AN EVENT WITHOUT FIRST SPEAKING TO YOUR SALTERNS SAILING CLUB COORDINATOR AT YOUR SCHOOLYou will be purchasing an Associate Membership for your child to sail in an allocated time slot within your Affiliate Group slot during 2026\, from April 2026 to October 2026.Sessions for School Affiliate Groups run only during term time and\, for those groups\, use of the Club (and its...
SUMMARY:Beaulieu Primary School 2026 - School Associate Members - Salterns Sailing Club
END:VEVENT
BEGIN:VEVENT
UID:event_product_456730@webcollect.org.uk
DTSTAMP:20260420T054238Z
ORGANIZER;CN=Salterns Membership:MAILTO:salternsmembership@gmail.com
DTSTART;VALUE=DATE:20260309
DESCRIPTION:PLEASE DO NOT BOOK ONTO AN EVENT WITHOUT FIRST SPEAKING TO YOUR SALTERNS SAILING CLUB COORDINATOR AT YOUR SCHOOLYou will be purchasing an Associate Membership for your child to sail in an allocated time slot within your Affiliate Group slot during 2026\, from April 2026 to October 2026.Sessions for School Affiliate Groups run only during term time and\, for those groups\, use of the Club (and its...
SUMMARY:Durlston Court School 2026 - School Associate Members - Salterns Sailing Club
END:VEVENT
BEGIN:VEVENT
UID:event_product_456732@webcollect.org.uk
DTSTAMP:20260420T054238Z
ORGANIZER;CN=Salterns Membership:MAILTO:salternsmembership@gmail.com
DTSTART;VALUE=DATE:20260309
DESCRIPTION:PLEASE DO NOT BOOK ONTO AN EVENT WITHOUT FIRST SPEAKING TO YOUR SALTERNS SAILING CLUB COORDINATOR AT YOUR SCHOOLYou will be purchasing an Associate Membership for your child to sail in an allocated time slot within your Affiliate Group slot during 2026\, from April 2026 to October 2026.Sessions for School Affiliate Groups run only during term time and\, for those groups\, use of the Club (and its...
SUMMARY:Lymington Infant School 2026 - School Associate Members - Salterns Sailing Club
END:VEVENT
BEGIN:VEVENT
UID:event_product_456729@webcollect.org.uk
DTSTAMP:20260420T054238Z
ORGANIZER;CN=Salterns Membership:MAILTO:salternsmembership@gmail.com
DTSTART;VALUE=DATE:20260309
DESCRIPTION:PLEASE DO NOT BOOK ONTO AN EVENT WITHOUT FIRST SPEAKING TO YOUR SALTERNS SAILING CLUB COORDINATOR AT YOUR SCHOOLYou will be purchasing an Associate Membership for your child to sail in an allocated time slot within your Affiliate Group slot during 2026\, from April 2026 to October 2026.Sessions for School Affiliate Groups run only during term time and\, for those groups\, use of the Club (and its...
SUMMARY:Milford on Sea Primary School 2026 - School Associate Members - Salterns Sailing Club
END:VEVENT
BEGIN:VEVENT
UID:event_product_456734@webcollect.org.uk
DTSTAMP:20260420T054238Z
ORGANIZER;CN=Salterns Membership:MAILTO:salternsmembership@gmail.com
DTSTART;VALUE=DATE:20260309
DESCRIPTION:PLEASE DO NOT BOOK ONTO AN EVENT WITHOUT FIRST SPEAKING TO YOUR SALTERNS SAILING CLUB COORDINATOR AT YOUR SCHOOLYou will be purchasing an Associate Membership for your child to sail in an allocated time slot within your Affiliate Group slot during 2026\, from April 2026 to October 2026.Sessions for School Affiliate Groups run only during term time and\, for those groups\, use of the Club (and its...
SUMMARY:New Forest Small School 2026 - School Associate Members - Salterns Sailing Club
END:VEVENT
BEGIN:VEVENT
UID:event_product_456733@webcollect.org.uk
DTSTAMP:20260420T054238Z
ORGANIZER;CN=Salterns Membership:MAILTO:salternsmembership@gmail.com
DTSTART;VALUE=DATE:20260309
DESCRIPTION:PLEASE DO NOT BOOK ONTO AN EVENT WITHOUT FIRST SPEAKING TO YOUR SALTERNS SAILING CLUB COORDINATOR AT YOUR SCHOOLYou will be purchasing an Associate Membership for your child to sail in an allocated time slot within your Affiliate Group slot during 2026\, from April 2026 to October 2026.Sessions for School Affiliate Groups run only during term time and\, for those groups\, use of the Club (and its...
SUMMARY:Our Lady & St Joseph’s Primary School 2026 - School Associate Members - Salterns Sailing Club
END:VEVENT
BEGIN:VEVENT
UID:event_product_456735@webcollect.org.uk
DTSTAMP:20260420T054238Z
ORGANIZER;CN=Salterns Membership:MAILTO:salternsmembership@gmail.com
DTSTART;VALUE=DATE:20260309
DESCRIPTION:PLEASE DO NOT BOOK ONTO AN EVENT WITHOUT FIRST SPEAKING TO YOUR SALTERNS SAILING CLUB COORDINATOR AT YOUR SCHOOLYou will be purchasing an Associate Membership for your child to sail in an allocated time slot within your Affiliate Group slot during 2026\, from April 2026 to October 2026.Sessions for School Affiliate Groups run only during term time and\, for those groups\, use of the Club (and its...
SUMMARY:South Baddesley Primary School 2026 - School Associate Members - Salterns Sailing Club
END:VEVENT
BEGIN:VEVENT
UID:event_product_456736@webcollect.org.uk
DTSTAMP:20260420T054238Z
ORGANIZER;CN=Salterns Membership:MAILTO:salternsmembership@gmail.com
DTSTART;VALUE=DATE:20260309
DESCRIPTION:PLEASE DO NOT BOOK ONTO AN EVENT WITHOUT FIRST SPEAKING TO YOUR SALTERNS SAILING CLUB COORDINATOR AT YOUR SCHOOLYou will be purchasing an Associate Membership for your child to sail in an allocated time slot within your Affiliate Group slot during 2026\, from April 2026 to October 2026.Sessions for School Affiliate Groups run only during term time and\, for those groups\, use of the Club (and its...
SUMMARY:Walhampton School 2026 - School Associate Members - Salterns Sailing Club
END:VEVENT
END:VCALENDAR
