BEGIN:VCALENDAR
METHOD:PUBLISH
PRODID:-//webcollect/salterns//NONSGML v1.0//EN
BEGIN:VTIMEZONE
TZID:Europe/London
BEGIN:DAYLIGHT
TZOFFSETFROM:+0000
RRULE:FREQ=YEARLY;BYMONTH=3;BYDAY=-1SU
DTSTART:19810329T010000
TZNAME:BST
TZOFFSETTO:+0100
END:DAYLIGHT
BEGIN:STANDARD
TZOFFSETFROM:+0100
RRULE:FREQ=YEARLY;BYMONTH=10;BYDAY=-1SU
DTSTART:19961027T020000
TZNAME:GMT
TZOFFSETTO:+0000
END:STANDARD
END:VTIMEZONE
BEGIN:VEVENT
UID:event_product_461913@webcollect.org.uk
DTSTAMP:20260420T053744Z
ORGANIZER;CN=Salterns Training:MAILTO:salternstraining@gmail.com
DTSTART;VALUE=DATE:20261101
DESCRIPTION:Team Racing training with our experienced coaches (Please note this is not RYA training).Please note an OOD will be required\, and that an adult is required to stay on site in loci parentis for each child. If a session does not have an OOD\, the session will not go ahead. Please note tickets are non-refundable. If you are unable to attend\, please let your the organiser know\, so that others can be...
SUMMARY:Unused Credit (Admin Use Only) 2026 Team Race Training - Salterns Sailing Club
END:VEVENT
END:VCALENDAR
