BEGIN:VCALENDAR
METHOD:PUBLISH
PRODID:-//webcollect/sampledramaclasses//NONSGML v1.0//EN
BEGIN:VTIMEZONE
TZID:Europe/London
BEGIN:DAYLIGHT
TZOFFSETFROM:+0000
RRULE:FREQ=YEARLY;BYMONTH=3;BYDAY=-1SU
DTSTART:19810329T010000
TZNAME:BST
TZOFFSETTO:+0100
END:DAYLIGHT
BEGIN:STANDARD
TZOFFSETFROM:+0100
RRULE:FREQ=YEARLY;BYMONTH=10;BYDAY=-1SU
DTSTART:19961027T020000
TZNAME:GMT
TZOFFSETTO:+0000
END:STANDARD
END:VTIMEZONE
BEGIN:VEVENT
UID:event_product_40256@webcollect.org.uk
DTSTAMP:20260421T121943Z
ORGANIZER;CN=Sample Drama Classes:MAILTO:info@webcollect.org.uk
DTSTART;TZID=Europe/London:20260906T140000
DTEND;TZID=Europe/London:20260906T173000
DESCRIPTION:These are half-day sessions\, aimed at helping experienced actors to improve their singing skills.
SUMMARY:Sunday afternoon Voice workshops (8 places avail) - Sample Drama Classes
LOCATION:Example Community Hall
END:VEVENT
BEGIN:VEVENT
UID:event_product_40257@webcollect.org.uk
DTSTAMP:20260421T121943Z
ORGANIZER;CN=Sample Drama Classes:MAILTO:info@webcollect.org.uk
DTSTART;TZID=Europe/London:20260912T090000
DTEND;TZID=Europe/London:20260912T123000
DESCRIPTION:These are half-day sessions\, aimed at helping experienced actors to improve their singing skills.
SUMMARY:Saturday morning Voice workshops (8 places avail) - Sample Drama Classes
LOCATION:Example Community Hall
END:VEVENT
BEGIN:VEVENT
UID:event_product_40258@webcollect.org.uk
DTSTAMP:20260421T121943Z
ORGANIZER;CN=Sample Drama Classes:MAILTO:info@webcollect.org.uk
DTSTART;TZID=Europe/London:20260919T140000
DTEND;TZID=Europe/London:20260919T173000
DESCRIPTION:These are half-day sessions\, aimed at helping experienced actors to improve their singing skills.
SUMMARY:Sunday afternoon Voice workshops (8 places avail) - Sample Drama Classes
LOCATION:Example Community Hall
END:VEVENT
BEGIN:VEVENT
UID:event_product_40259@webcollect.org.uk
DTSTAMP:20260421T121943Z
ORGANIZER;CN=Sample Drama Classes:MAILTO:info@webcollect.org.uk
DTSTART;TZID=Europe/London:20260926T090000
DTEND;TZID=Europe/London:20260926T123000
DESCRIPTION:These are half-day sessions\, aimed at helping experienced actors to improve their singing skills.
SUMMARY:Saturday morning Voice workshops (8 places avail) - Sample Drama Classes
LOCATION:Example Community Hall
END:VEVENT
BEGIN:VEVENT
UID:event_product_40260@webcollect.org.uk
DTSTAMP:20260421T121943Z
ORGANIZER;CN=Sample Drama Classes:MAILTO:info@webcollect.org.uk
DTSTART;TZID=Europe/London:20261003T140000
DTEND;TZID=Europe/London:20261003T173000
DESCRIPTION:These are half-day sessions\, aimed at helping experienced actors to improve their singing skills.
SUMMARY:Sunday afternoon Voice workshops (8 places avail) - Sample Drama Classes
LOCATION:Example Community Hall
END:VEVENT
BEGIN:VEVENT
UID:event_product_40261@webcollect.org.uk
DTSTAMP:20260421T121943Z
ORGANIZER;CN=Sample Drama Classes:MAILTO:info@webcollect.org.uk
DTSTART;TZID=Europe/London:20261010T090000
DTEND;TZID=Europe/London:20261010T123000
DESCRIPTION:These are half-day sessions\, aimed at helping experienced actors to improve their singing skills.
SUMMARY:Saturday morning Voice workshops (8 places avail) - Sample Drama Classes
LOCATION:Example Community Hall
END:VEVENT
BEGIN:VEVENT
UID:event_product_40262@webcollect.org.uk
DTSTAMP:20260421T121943Z
ORGANIZER;CN=Sample Drama Classes:MAILTO:info@webcollect.org.uk
DTSTART;TZID=Europe/London:20261017T140000
DTEND;TZID=Europe/London:20261017T173000
DESCRIPTION:These are half-day sessions\, aimed at helping experienced actors to improve their singing skills.
SUMMARY:Sunday afternoon Voice workshops (8 places avail) - Sample Drama Classes
LOCATION:Example Community Hall
END:VEVENT
BEGIN:VEVENT
UID:event_product_40263@webcollect.org.uk
DTSTAMP:20260421T121943Z
ORGANIZER;CN=Sample Drama Classes:MAILTO:info@webcollect.org.uk
DTSTART;TZID=Europe/London:20261024T090000
DTEND;TZID=Europe/London:20261024T123000
DESCRIPTION:These are half-day sessions\, aimed at helping experienced actors to improve their singing skills.
SUMMARY:Saturday morning Voice workshops (8 places avail) - Sample Drama Classes
LOCATION:Example Community Hall
END:VEVENT
END:VCALENDAR
