BEGIN:VCALENDAR
METHOD:PUBLISH
PRODID:-//webcollect/sampledramaclasses//NONSGML v1.0//EN
BEGIN:VTIMEZONE
TZID:Europe/London
BEGIN:DAYLIGHT
TZOFFSETFROM:+0000
RRULE:FREQ=YEARLY;BYMONTH=3;BYDAY=-1SU
DTSTART:19810329T010000
TZNAME:BST
TZOFFSETTO:+0100
END:DAYLIGHT
BEGIN:STANDARD
TZOFFSETFROM:+0100
RRULE:FREQ=YEARLY;BYMONTH=10;BYDAY=-1SU
DTSTART:19961027T020000
TZNAME:GMT
TZOFFSETTO:+0000
END:STANDARD
END:VTIMEZONE
BEGIN:VEVENT
UID:event_product_40251@webcollect.org.uk
DTSTAMP:20260421T080909Z
ORGANIZER;CN=Sample Drama Classes:MAILTO:info@webcollect.org.uk
DTSTART;TZID=Europe/London:20270201T170000
DTEND;TZID=Europe/London:20270201T180000
DESCRIPTION:No previous experience required\, just a willingness to learn. Each session is 1 hour\, and runs at the same time each week. Terms runs for 8 weeks. First dates are shown below. Payment is by term.
SUMMARY:Monday Drama beginner sessions(20 places avail) - Sample Drama Classes
LOCATION:Community Hall
END:VEVENT
BEGIN:VEVENT
UID:event_product_40252@webcollect.org.uk
DTSTAMP:20260421T080909Z
ORGANIZER;CN=Sample Drama Classes:MAILTO:info@webcollect.org.uk
DTSTART;TZID=Europe/London:20270201T180000
DTEND;TZID=Europe/London:20270201T190000
DESCRIPTION:No previous experience required\, just a willingness to learn. Each session is 1 hour\, and runs at the same time each week. Terms runs for 8 weeks. First dates are shown below. Payment is by term.
SUMMARY:Monday Drama beginner sessions(20 places avail) - Sample Drama Classes
LOCATION:Community Hall
END:VEVENT
BEGIN:VEVENT
UID:event_product_40253@webcollect.org.uk
DTSTAMP:20260421T080909Z
ORGANIZER;CN=Sample Drama Classes:MAILTO:info@webcollect.org.uk
DTSTART;TZID=Europe/London:20270202T170000
DTEND;TZID=Europe/London:20270202T180000
DESCRIPTION:No previous experience required\, just a willingness to learn. Each session is 1 hour\, and runs at the same time each week. Terms runs for 8 weeks. First dates are shown below. Payment is by term.
SUMMARY:Tuesday Drama beginner sessions(20 places avail) - Sample Drama Classes
LOCATION:Community Hall
END:VEVENT
BEGIN:VEVENT
UID:event_product_40254@webcollect.org.uk
DTSTAMP:20260421T080909Z
ORGANIZER;CN=Sample Drama Classes:MAILTO:info@webcollect.org.uk
DTSTART;TZID=Europe/London:20270205T170000
DTEND;TZID=Europe/London:20270205T180000
DESCRIPTION:No previous experience required\, just a willingness to learn. Each session is 1 hour\, and runs at the same time each week. Terms runs for 8 weeks. First dates are shown below. Payment is by term.
SUMMARY:Friday Drama beginner sessions(20 places avail) - Sample Drama Classes
LOCATION:Community Hall
END:VEVENT
END:VCALENDAR
