BEGIN:VCALENDAR
METHOD:PUBLISH
PRODID:-//webcollect/sampledramaclasses//NONSGML v1.0//EN
BEGIN:VTIMEZONE
TZID:Europe/London
BEGIN:DAYLIGHT
TZOFFSETFROM:+0000
RRULE:FREQ=YEARLY;BYMONTH=3;BYDAY=-1SU
DTSTART:19810329T010000
TZNAME:BST
TZOFFSETTO:+0100
END:DAYLIGHT
BEGIN:STANDARD
TZOFFSETFROM:+0100
RRULE:FREQ=YEARLY;BYMONTH=10;BYDAY=-1SU
DTSTART:19961027T020000
TZNAME:GMT
TZOFFSETTO:+0000
END:STANDARD
END:VTIMEZONE
BEGIN:VEVENT
UID:event_product_40234@webcollect.org.uk
DTSTAMP:20260421T082834Z
ORGANIZER;CN=Sample Drama Classes:MAILTO:info@webcollect.org.uk
DTSTART;TZID=Europe/London:20260602T100000
DTEND;TZID=Europe/London:20260602T103000
DESCRIPTION:This class is for experienced level adults. Each session is 2 hours\, and runs at the same time each week. Terms runs for 8 weeks. Choose between paying per session\, or receive a discount if you pay upfront for the term.
SUMMARY:Discount price for the full term Evening drama classes(15 places avail) - Sample Drama Classes
LOCATION:Example Theatre
END:VEVENT
BEGIN:VEVENT
UID:event_product_40235@webcollect.org.uk
DTSTAMP:20260421T082834Z
ORGANIZER;CN=Sample Drama Classes:MAILTO:info@webcollect.org.uk
DTSTART;TZID=Europe/London:20260602T100000
DTEND;TZID=Europe/London:20260602T103000
DESCRIPTION:This class is for experienced level adults. Each session is 2 hours\, and runs at the same time each week. Terms runs for 8 weeks. Choose between paying per session\, or receive a discount if you pay upfront for the term.
SUMMARY:Tuesday Evening drama classes(5 places avail) - Sample Drama Classes
LOCATION:Example Theatre
END:VEVENT
BEGIN:VEVENT
UID:event_product_40236@webcollect.org.uk
DTSTAMP:20260421T082834Z
ORGANIZER;CN=Sample Drama Classes:MAILTO:info@webcollect.org.uk
DTSTART;TZID=Europe/London:20260609T100000
DTEND;TZID=Europe/London:20260609T103000
DESCRIPTION:This class is for experienced level adults. Each session is 2 hours\, and runs at the same time each week. Terms runs for 8 weeks. Choose between paying per session\, or receive a discount if you pay upfront for the term.
SUMMARY:Tuesday Evening drama classes(5 places avail) - Sample Drama Classes
LOCATION:Example Theatre
END:VEVENT
BEGIN:VEVENT
UID:event_product_40237@webcollect.org.uk
DTSTAMP:20260421T082834Z
ORGANIZER;CN=Sample Drama Classes:MAILTO:info@webcollect.org.uk
DTSTART;TZID=Europe/London:20260616T100000
DTEND;TZID=Europe/London:20260616T103000
DESCRIPTION:This class is for experienced level adults. Each session is 2 hours\, and runs at the same time each week. Terms runs for 8 weeks. Choose between paying per session\, or receive a discount if you pay upfront for the term.
SUMMARY:Tuesday Evening drama classes(5 places avail) - Sample Drama Classes
LOCATION:Example Theatre
END:VEVENT
BEGIN:VEVENT
UID:event_product_40238@webcollect.org.uk
DTSTAMP:20260421T082834Z
ORGANIZER;CN=Sample Drama Classes:MAILTO:info@webcollect.org.uk
DTSTART;TZID=Europe/London:20260623T100000
DTEND;TZID=Europe/London:20260623T103000
DESCRIPTION:This class is for experienced level adults. Each session is 2 hours\, and runs at the same time each week. Terms runs for 8 weeks. Choose between paying per session\, or receive a discount if you pay upfront for the term.
SUMMARY:Tuesday Evening drama classes(5 places avail) - Sample Drama Classes
LOCATION:Example Theatre
END:VEVENT
BEGIN:VEVENT
UID:event_product_40239@webcollect.org.uk
DTSTAMP:20260421T082834Z
ORGANIZER;CN=Sample Drama Classes:MAILTO:info@webcollect.org.uk
DTSTART;TZID=Europe/London:20260630T100000
DTEND;TZID=Europe/London:20260630T103000
DESCRIPTION:This class is for experienced level adults. Each session is 2 hours\, and runs at the same time each week. Terms runs for 8 weeks. Choose between paying per session\, or receive a discount if you pay upfront for the term.
SUMMARY:Tuesday Evening drama classes(5 places avail) - Sample Drama Classes
LOCATION:Example Theatre
END:VEVENT
BEGIN:VEVENT
UID:event_product_40240@webcollect.org.uk
DTSTAMP:20260421T082834Z
ORGANIZER;CN=Sample Drama Classes:MAILTO:info@webcollect.org.uk
DTSTART;TZID=Europe/London:20260707T100000
DTEND;TZID=Europe/London:20260707T103000
DESCRIPTION:This class is for experienced level adults. Each session is 2 hours\, and runs at the same time each week. Terms runs for 8 weeks. Choose between paying per session\, or receive a discount if you pay upfront for the term.
SUMMARY:Tuesday Evening drama classes(5 places avail) - Sample Drama Classes
LOCATION:Example Theatre
END:VEVENT
BEGIN:VEVENT
UID:event_product_40241@webcollect.org.uk
DTSTAMP:20260421T082834Z
ORGANIZER;CN=Sample Drama Classes:MAILTO:info@webcollect.org.uk
DTSTART;TZID=Europe/London:20260714T100000
DTEND;TZID=Europe/London:20260714T103000
DESCRIPTION:This class is for experienced level adults. Each session is 2 hours\, and runs at the same time each week. Terms runs for 8 weeks. Choose between paying per session\, or receive a discount if you pay upfront for the term.
SUMMARY:Tuesday Evening drama classes(5 places avail) - Sample Drama Classes
LOCATION:Example Theatre
END:VEVENT
BEGIN:VEVENT
UID:event_product_40242@webcollect.org.uk
DTSTAMP:20260421T082834Z
ORGANIZER;CN=Sample Drama Classes:MAILTO:info@webcollect.org.uk
DTSTART;TZID=Europe/London:20260721T100000
DTEND;TZID=Europe/London:20260721T103000
DESCRIPTION:This class is for experienced level adults. Each session is 2 hours\, and runs at the same time each week. Terms runs for 8 weeks. Choose between paying per session\, or receive a discount if you pay upfront for the term.
SUMMARY:Tuesday Evening drama classes(5 places avail) - Sample Drama Classes
LOCATION:Example Theatre
END:VEVENT
END:VCALENDAR
