BEGIN:VCALENDAR
METHOD:PUBLISH
PRODID:-//webcollect/sampleprofsoc//NONSGML v1.0//EN
BEGIN:VTIMEZONE
TZID:Europe/London
BEGIN:DAYLIGHT
TZOFFSETFROM:+0000
RRULE:FREQ=YEARLY;BYMONTH=3;BYDAY=-1SU
DTSTART:19810329T010000
TZNAME:BST
TZOFFSETTO:+0100
END:DAYLIGHT
BEGIN:STANDARD
TZOFFSETFROM:+0100
RRULE:FREQ=YEARLY;BYMONTH=10;BYDAY=-1SU
DTSTART:19961027T020000
TZNAME:GMT
TZOFFSETTO:+0000
END:STANDARD
END:VTIMEZONE
BEGIN:VEVENT
UID:event_product_31125@webcollect.org.uk
DTSTAMP:20260421T080854Z
ORGANIZER;CN=Sample Professional Society:MAILTO:info@webcollect.org.uk
DTSTART;TZID=Europe/London:20260502T200000
DESCRIPTION:This is a sample event to illustrate how the system can be used. This event has 2 alternative price options. Capacity is unrestricted. Whilst this example does not have a form configured\, one could be used if you wanted to collect information on dietary preferences etc.
SUMMARY:Annual Dinner - Sample Professional Society
END:VEVENT
BEGIN:VEVENT
UID:event_product_31127@webcollect.org.uk
DTSTAMP:20260421T080854Z
ORGANIZER;CN=Sample Professional Society:MAILTO:info@webcollect.org.uk
DTSTART;TZID=Europe/London:20260513T090000
DTEND;TZID=Europe/London:20260513T173000
DESCRIPTION:This is a sample event to illustrate how the system can be used. Capacity is restricted. There are 2 different price options. The event has a closing date for bookings a few days before the course date. The event is configured with a participant booking form\, to collect details of any special requirements.
SUMMARY:Professional Course(20 places avail) - Sample Professional Society
END:VEVENT
BEGIN:VEVENT
UID:event_product_31128@webcollect.org.uk
DTSTAMP:20260421T080854Z
ORGANIZER;CN=Sample Professional Society:MAILTO:info@webcollect.org.uk
DTSTART;TZID=Europe/London:20260923T190000
DTEND;TZID=Europe/London:20260923T220000
DESCRIPTION:This is a sample event to illustrate how the system can be used. This particular event is open to members and non-members.
SUMMARY:Standard ticket Evening Lecture(60 places avail) - Sample Professional Society
END:VEVENT
END:VCALENDAR
