BEGIN:VCALENDAR
METHOD:PUBLISH
PRODID:-//webcollect/samplesc//NONSGML v1.0//EN
BEGIN:VTIMEZONE
TZID:Europe/London
BEGIN:DAYLIGHT
TZOFFSETFROM:+0000
RRULE:FREQ=YEARLY;BYMONTH=3;BYDAY=-1SU
DTSTART:19810329T010000
TZNAME:BST
TZOFFSETTO:+0100
END:DAYLIGHT
BEGIN:STANDARD
TZOFFSETFROM:+0100
RRULE:FREQ=YEARLY;BYMONTH=10;BYDAY=-1SU
DTSTART:19961027T020000
TZNAME:GMT
TZOFFSETTO:+0000
END:STANDARD
END:VTIMEZONE
BEGIN:VEVENT
UID:event_product_30039@webcollect.org.uk
DTSTAMP:20260421T080908Z
ORGANIZER;CN=Sample Sailing Club:MAILTO:info@webcollect.org.uk
DTSTART;VALUE=DATE:20260530
DESCRIPTION:If you would like to pre-order food for Saturday evening\, you can do so here.
SUMMARY:Fish & Chips Sample Club Optimist Open: Saturday Supper - Sample Sailing Club
END:VEVENT
BEGIN:VEVENT
UID:event_product_30038@webcollect.org.uk
DTSTAMP:20260421T080908Z
ORGANIZER;CN=Sample Sailing Club:MAILTO:info@webcollect.org.uk
DTSTART;VALUE=DATE:20260530
DESCRIPTION:If you would like to pre-order food for Saturday evening\, you can do so here.
SUMMARY:Lasagne Sample Club Optimist Open: Saturday Supper - Sample Sailing Club
END:VEVENT
END:VCALENDAR
