BEGIN:VCALENDAR
METHOD:PUBLISH
PRODID:-//webcollect/samplesc//NONSGML v1.0//EN
BEGIN:VTIMEZONE
TZID:Europe/London
BEGIN:DAYLIGHT
TZOFFSETFROM:+0000
RRULE:FREQ=YEARLY;BYMONTH=3;BYDAY=-1SU
DTSTART:19810329T010000
TZNAME:BST
TZOFFSETTO:+0100
END:DAYLIGHT
BEGIN:STANDARD
TZOFFSETFROM:+0100
RRULE:FREQ=YEARLY;BYMONTH=10;BYDAY=-1SU
DTSTART:19961027T020000
TZNAME:GMT
TZOFFSETTO:+0000
END:STANDARD
END:VTIMEZONE
BEGIN:VEVENT
UID:event_product_30025@webcollect.org.uk
DTSTAMP:20260421T081445Z
ORGANIZER;CN=Sample Sailing Club:MAILTO:info@webcollect.org.uk
DTSTART;TZID=Europe/London:20260426T093000
DTEND;TZID=Europe/London:20260426T170000
DESCRIPTION:Sailors should be rigged and ready to launch not later than 0930 (suggest arrival not later than 0900)\; collection at or around 1630 (or earlier according to daylight). Please bring a packed-lunch or money for food from the galley. Sailors’ ability should be equivalent to at least RYA Stage 3\, such that they do not require help with rigging / launching and landing and have an understanding of...
SUMMARY:Feva Squad training(12 places avail) - Sample Sailing Club
END:VEVENT
BEGIN:VEVENT
UID:event_product_30026@webcollect.org.uk
DTSTAMP:20260421T081445Z
ORGANIZER;CN=Sample Sailing Club:MAILTO:info@webcollect.org.uk
DTSTART;TZID=Europe/London:20260503T093000
DTEND;TZID=Europe/London:20260503T170000
DESCRIPTION:Sailors should be rigged and ready to launch not later than 0930 (suggest arrival not later than 0900)\; collection at or around 1630 (or earlier according to daylight). Please bring a packed-lunch or money for food from the galley. Sailors’ ability should be equivalent to at least RYA Stage 3\, such that they do not require help with rigging / launching and landing and have an understanding of...
SUMMARY:Feva Squad training(12 places avail) - Sample Sailing Club
END:VEVENT
BEGIN:VEVENT
UID:event_product_30027@webcollect.org.uk
DTSTAMP:20260421T081445Z
ORGANIZER;CN=Sample Sailing Club:MAILTO:info@webcollect.org.uk
DTSTART;TZID=Europe/London:20260510T093000
DTEND;TZID=Europe/London:20260510T170000
DESCRIPTION:Sailors should be rigged and ready to launch not later than 0930 (suggest arrival not later than 0900)\; collection at or around 1630 (or earlier according to daylight). Please bring a packed-lunch or money for food from the galley. Sailors’ ability should be equivalent to at least RYA Stage 3\, such that they do not require help with rigging / launching and landing and have an understanding of...
SUMMARY:Feva Squad training(12 places avail) - Sample Sailing Club
END:VEVENT
BEGIN:VEVENT
UID:event_product_30028@webcollect.org.uk
DTSTAMP:20260421T081445Z
ORGANIZER;CN=Sample Sailing Club:MAILTO:info@webcollect.org.uk
DTSTART;TZID=Europe/London:20260517T093000
DTEND;TZID=Europe/London:20260517T170000
DESCRIPTION:Sailors should be rigged and ready to launch not later than 0930 (suggest arrival not later than 0900)\; collection at or around 1630 (or earlier according to daylight). Please bring a packed-lunch or money for food from the galley. Sailors’ ability should be equivalent to at least RYA Stage 3\, such that they do not require help with rigging / launching and landing and have an understanding of...
SUMMARY:Feva Squad training(12 places avail) - Sample Sailing Club
END:VEVENT
BEGIN:VEVENT
UID:event_product_30029@webcollect.org.uk
DTSTAMP:20260421T081445Z
ORGANIZER;CN=Sample Sailing Club:MAILTO:info@webcollect.org.uk
DTSTART;TZID=Europe/London:20260524T093000
DTEND;TZID=Europe/London:20260524T170000
DESCRIPTION:Sailors should be rigged and ready to launch not later than 0930 (suggest arrival not later than 0900)\; collection at or around 1630 (or earlier according to daylight). Please bring a packed-lunch or money for food from the galley. Sailors’ ability should be equivalent to at least RYA Stage 3\, such that they do not require help with rigging / launching and landing and have an understanding of...
SUMMARY:Feva Squad training(12 places avail) - Sample Sailing Club
END:VEVENT
END:VCALENDAR
